Back to Multiple platform build/check report for BioC 3.22:   simplified   long
A[B]CDEFGHIJKLMNOPQRSTUVWXYZ

This page was generated on 2025-10-18 12:04 -0400 (Sat, 18 Oct 2025).

HostnameOSArch (*)R versionInstalled pkgs
nebbiolo2Linux (Ubuntu 24.04.3 LTS)x86_644.5.1 Patched (2025-08-23 r88802) -- "Great Square Root" 4887
lconwaymacOS 12.7.6 Montereyx86_644.5.1 Patched (2025-09-10 r88807) -- "Great Square Root" 4677
kjohnson3macOS 13.7.7 Venturaarm644.5.1 Patched (2025-09-10 r88807) -- "Great Square Root" 4622
taishanLinux (openEuler 24.03 LTS)aarch644.5.0 (2025-04-11) -- "How About a Twenty-Six" 4632
Click on any hostname to see more info about the system (e.g. compilers)      (*) as reported by 'uname -p', except on Windows and Mac OS X

Package 146/2353HostnameOS / ArchINSTALLBUILDCHECKBUILD BIN
BatchQC 2.5.14  (landing page)
Jessica Anderson
Snapshot Date: 2025-10-17 13:45 -0400 (Fri, 17 Oct 2025)
git_url: https://git.bioconductor.org/packages/BatchQC
git_branch: devel
git_last_commit: 5210ca7
git_last_commit_date: 2025-10-14 13:27:46 -0400 (Tue, 14 Oct 2025)
nebbiolo2Linux (Ubuntu 24.04.3 LTS) / x86_64  OK    OK    OK  UNNEEDED, same version is already published
lconwaymacOS 12.7.6 Monterey / x86_64  OK    OK    OK    OK  UNNEEDED, same version is already published
kjohnson3macOS 13.7.7 Ventura / arm64  OK    OK    OK    OK  UNNEEDED, same version is already published
taishanLinux (openEuler 24.03 LTS) / aarch64  OK    OK    OK  


CHECK results for BatchQC on lconway

To the developers/maintainers of the BatchQC package:
- Allow up to 24 hours (and sometimes 48 hours) for your latest push to git@git.bioconductor.org:packages/BatchQC.git to reflect on this report. See Troubleshooting Build Report for more information.
- Use the following Renviron settings to reproduce errors and warnings.
- If 'R CMD check' started to fail recently on the Linux builder(s) over a missing dependency, add the missing dependency to 'Suggests:' in your DESCRIPTION file. See Renviron.bioc for more information.

raw results


Summary

Package: BatchQC
Version: 2.5.14
Command: /Library/Frameworks/R.framework/Resources/bin/R CMD check --install=check:BatchQC.install-out.txt --library=/Library/Frameworks/R.framework/Resources/library --no-vignettes --timings BatchQC_2.5.14.tar.gz
StartedAt: 2025-10-17 20:21:26 -0400 (Fri, 17 Oct 2025)
EndedAt: 2025-10-17 20:30:57 -0400 (Fri, 17 Oct 2025)
EllapsedTime: 571.9 seconds
RetCode: 0
Status:   OK  
CheckDir: BatchQC.Rcheck
Warnings: 0

Command output

##############################################################################
##############################################################################
###
### Running command:
###
###   /Library/Frameworks/R.framework/Resources/bin/R CMD check --install=check:BatchQC.install-out.txt --library=/Library/Frameworks/R.framework/Resources/library --no-vignettes --timings BatchQC_2.5.14.tar.gz
###
##############################################################################
##############################################################################


* using log directory ‘/Users/biocbuild/bbs-3.22-bioc/meat/BatchQC.Rcheck’
* using R version 4.5.1 Patched (2025-09-10 r88807)
* using platform: x86_64-apple-darwin20
* R was compiled by
    Apple clang version 14.0.0 (clang-1400.0.29.202)
    GNU Fortran (GCC) 14.2.0
* running under: macOS Monterey 12.7.6
* using session charset: UTF-8
* using option ‘--no-vignettes’
* checking for file ‘BatchQC/DESCRIPTION’ ... OK
* checking extension type ... Package
* this is package ‘BatchQC’ version ‘2.5.14’
* package encoding: UTF-8
* checking package namespace information ... OK
* checking package dependencies ... INFO
Imports includes 27 non-default packages.
Importing from so many packages makes the package vulnerable to any of
them becoming unavailable.  Move as many as possible to Suggests and
use conditionally.
* checking if this is a source package ... OK
* checking if there is a namespace ... OK
* checking for hidden files and directories ... OK
* checking for portable file names ... OK
* checking for sufficient/correct file permissions ... OK
* checking whether package ‘BatchQC’ can be installed ... OK
* checking installed package size ... OK
* checking package directory ... OK
* checking ‘build’ directory ... OK
* checking DESCRIPTION meta-information ... OK
* checking top-level files ... OK
* checking for left-over files ... OK
* checking index information ... OK
* checking package subdirectories ... OK
* checking code files for non-ASCII characters ... OK
* checking R files for syntax errors ... OK
* checking whether the package can be loaded ... OK
* checking whether the package can be loaded with stated dependencies ... OK
* checking whether the package can be unloaded cleanly ... OK
* checking whether the namespace can be loaded with stated dependencies ... OK
* checking whether the namespace can be unloaded cleanly ... OK
* checking dependencies in R code ... OK
* checking S3 generic/method consistency ... OK
* checking replacement functions ... OK
* checking foreign function calls ... OK
* checking R code for possible problems ... OK
* checking Rd files ... OK
* checking Rd metadata ... OK
* checking Rd cross-references ... OK
* checking for missing documentation entries ... OK
* checking for code/documentation mismatches ... OK
* checking Rd \usage sections ... OK
* checking Rd contents ... OK
* checking for unstated dependencies in examples ... OK
* checking contents of ‘data’ directory ... OK
* checking data for non-ASCII characters ... OK
* checking data for ASCII and uncompressed saves ... OK
* checking files in ‘vignettes’ ... OK
* checking examples ... OK
Examples with CPU (user + system) or elapsed time > 5s
                         user system elapsed
compute_aic            42.562  0.636  43.441
volcano_plot           32.288  0.652  33.287
tb_data_upload         24.168  3.436  30.992
DE_analyze             23.246  0.615  24.922
pval_plotter           20.606  0.357  21.132
pval_summary           17.530  0.474  20.125
batch_correct          15.485  0.369  16.320
PCA_plotter            13.114  0.301  13.914
compute_lambda          7.182  0.054   7.285
goodness_of_fit_DESeq2  5.001  0.067   5.224
* checking for unstated dependencies in ‘tests’ ... OK
* checking tests ...
  Running ‘spelling.R’
  Running ‘testthat.R’
 OK
* checking for unstated dependencies in vignettes ... OK
* checking package vignettes ... OK
* checking running R code from vignettes ... SKIPPED
* checking re-building of vignette outputs ... SKIPPED
* checking PDF version of manual ... OK
* DONE

Status: OK


Installation output

BatchQC.Rcheck/00install.out

##############################################################################
##############################################################################
###
### Running command:
###
###   /Library/Frameworks/R.framework/Resources/bin/R CMD INSTALL BatchQC
###
##############################################################################
##############################################################################


* installing to library ‘/Library/Frameworks/R.framework/Versions/4.5-x86_64/Resources/library’
* installing *source* package ‘BatchQC’ ...
** this is package ‘BatchQC’ version ‘2.5.14’
** using staged installation
** R
** data
** inst
** byte-compile and prepare package for lazy loading
** help
*** installing help indices
** building package indices
** installing vignettes
** testing if installed package can be loaded from temporary location
** testing if installed package can be loaded from final location
** testing if installed package keeps a record of temporary installation path
* DONE (BatchQC)

Tests output

BatchQC.Rcheck/tests/spelling.Rout


R version 4.5.1 Patched (2025-09-10 r88807) -- "Great Square Root"
Copyright (C) 2025 The R Foundation for Statistical Computing
Platform: x86_64-apple-darwin20

R is free software and comes with ABSOLUTELY NO WARRANTY.
You are welcome to redistribute it under certain conditions.
Type 'license()' or 'licence()' for distribution details.

R is a collaborative project with many contributors.
Type 'contributors()' for more information and
'citation()' on how to cite R or R packages in publications.

Type 'demo()' for some demos, 'help()' for on-line help, or
'help.start()' for an HTML browser interface to help.
Type 'q()' to quit R.

> if (requireNamespace('spelling', quietly = TRUE))
+   spelling::spell_check_test(vignettes = TRUE, error = FALSE,
+                              skip_on_cran = TRUE)
All Done!
> 
> proc.time()
   user  system elapsed 
  0.218   0.095   0.316 

BatchQC.Rcheck/tests/testthat.Rout


R version 4.5.1 Patched (2025-09-10 r88807) -- "Great Square Root"
Copyright (C) 2025 The R Foundation for Statistical Computing
Platform: x86_64-apple-darwin20

R is free software and comes with ABSOLUTELY NO WARRANTY.
You are welcome to redistribute it under certain conditions.
Type 'license()' or 'licence()' for distribution details.

R is a collaborative project with many contributors.
Type 'contributors()' for more information and
'citation()' on how to cite R or R packages in publications.

Type 'demo()' for some demos, 'help()' for on-line help, or
'help.start()' for an HTML browser interface to help.
Type 'q()' to quit R.

> library(testthat)
> library(BatchQC)
> 
> test_check("BatchQC")
[ FAIL 0 | WARN 0 | SKIP 1 | PASS 0 ]

══ Skipped tests (1) ═══════════════════════════════════════════════════════════
• On CRAN (1): 'test-lintr.R:3:5'

[ FAIL 0 | WARN 0 | SKIP 1 | PASS 0 ]
> 
> proc.time()
   user  system elapsed 
 14.684   0.909  15.838 

Example timings

BatchQC.Rcheck/BatchQC-Ex.timings

nameusersystemelapsed
BatchQC0.0000.0000.001
DE_analyze23.246 0.61524.922
EV_plotter1.1250.0391.261
EV_table1.0000.0451.132
PCA_plotter13.114 0.30113.914
batch_correct15.485 0.36916.320
batch_design0.6410.0280.674
batchqc_explained_variation1.1160.1431.266
bisect0.0060.0010.006
bladder_data_upload0.2730.0290.306
color_palette0.2820.0190.304
compute_aic42.562 0.63643.441
compute_lambda7.1820.0547.285
confound_metrics0.6630.0230.690
cor_props0.7160.0330.754
covariates_not_confounded0.6900.0240.717
cramers_v0.6270.0250.656
dendrogram_alpha_numeric_check0.5930.0220.618
dendrogram_color_palette0.9820.0311.020
dendrogram_plotter2.0940.0562.167
goodness_of_fit_DESeq25.0010.0675.224
heatmap_num_to_char_converter0.6220.0260.654
heatmap_plotter1.5420.0451.602
is_design_balanced0.6390.0230.667
kBET3.3670.0843.486
normalize_SE0.8310.0290.869
plot_kBET3.5240.0703.619
process_dendrogram0.8980.0770.985
pval_plotter20.606 0.35721.132
pval_summary17.530 0.47420.125
ratio_plotter1.1310.0561.405
run_kBET3.0900.0893.385
run_lambda0.6310.0260.668
std_pearson_corr_coef1.5530.0661.634
summarized_experiment0.0230.0030.028
tb_data_upload24.168 3.43630.992
umap2.5260.0992.664
variation_ratios1.1250.0751.239
volcano_plot32.288 0.65233.287