Welcome to mirrors.dotsrc.org

All our mirrors of open source software are available via http, https, ftp and an onion service. More information about our mirrors including statistics and contact information is available on our mirror info pages.

For information about dotsrc.org and our other services please go to our website.

Index of /bioconductor/checkResults/3.22/bioc-LATEST/

File Name  ↓ File Size  ↓ Date  ↓ 
--
-2025-04-09 15:55:35
-2025-04-09 15:55:47
-2025-04-09 15:55:52
-2025-04-09 15:56:01
-2025-04-09 15:56:02
-2025-04-09 15:56:03
-2025-04-09 15:56:04
-2025-04-09 15:56:05
-2025-04-09 15:56:05
-2025-04-09 15:56:06
-2025-04-09 15:56:06
-2025-04-09 15:56:06
-2025-04-09 15:56:06
-2025-04-09 15:56:07
-2025-04-09 15:56:08
-2025-04-09 15:56:09
-2025-04-09 15:56:09
-2025-04-09 15:56:09
-2025-04-09 15:56:11
-2025-04-09 15:56:11
-2025-04-09 15:56:14
-2025-04-09 15:56:14
-2025-04-09 15:56:14
-2025-04-09 15:56:15
-2025-04-09 15:56:15
-2025-04-09 15:56:15
-2025-04-09 15:56:16
-2025-04-09 15:56:17
-2025-04-09 15:56:17
-2025-04-09 15:56:17
-2025-04-09 15:56:18
-2025-04-09 15:56:20
-2025-04-09 15:56:20
-2025-04-09 15:56:20
-2025-04-09 15:56:20
-2025-04-09 15:56:20
-2025-04-09 15:56:21
-2025-04-09 15:56:21
-2025-04-09 15:56:22
-2025-10-31 16:02:32
-2025-10-31 16:02:52
-2025-10-31 16:02:52
-2025-10-31 16:02:59
-2025-10-31 16:03:08
-2025-10-31 16:03:08
-2025-10-31 16:03:18
-2025-10-31 16:03:32
-2025-10-31 16:03:35
-2025-10-31 16:03:38
-2025-10-31 16:03:38
-2025-10-31 16:03:55
-2025-10-31 16:04:31
-2025-10-31 16:04:55
-2025-10-31 16:04:55
-2025-10-31 16:04:55
-2025-10-31 16:04:55
-2025-10-31 16:04:55
-2025-10-31 16:04:55
-2025-10-31 16:04:55
-2025-10-31 16:04:55
-2025-10-31 16:04:55
-2025-10-31 16:04:55
-2025-10-31 16:04:55
-2025-10-31 16:04:55
-2025-10-31 16:04:55
-2025-10-31 16:04:55
-2025-10-31 16:04:55
-2025-10-31 16:04:55
-2025-10-31 16:04:55
-2025-10-31 16:04:55
-2025-10-31 16:04:55
-2025-10-31 16:04:55
-2025-10-31 16:04:55
-2025-10-31 16:04:55
-2025-10-31 16:04:55
-2025-10-31 16:04:55
-2025-10-31 16:04:55
-2025-10-31 16:04:55
-2025-10-31 16:04:55
-2025-10-31 16:04:55
-2025-10-31 16:04:55
-2025-10-31 16:04:55
-2025-10-31 16:04:55
-2025-10-31 16:04:55
-2025-10-31 16:04:55
-2025-10-31 16:04:55
-2025-10-31 16:04:55
-2025-10-31 16:04:55
-2025-10-31 16:04:55
-2025-10-31 16:04:55
-2025-10-31 16:04:55
-2025-10-31 16:04:55
-2025-10-31 16:04:56
-2025-10-31 16:04:56
-2025-10-31 16:04:56
-2025-10-31 16:04:56
-2025-10-31 16:04:56
-2025-10-31 16:04:56
-2025-10-31 16:04:56
-2025-10-31 16:04:56
-2025-10-31 16:04:56
-2025-10-31 16:04:56
-2025-10-31 16:04:56
-2025-10-31 16:04:56
-2025-10-31 16:04:56
-2025-10-31 16:04:56
-2025-10-31 16:04:56
-2025-10-31 16:04:56
-2025-10-31 16:04:56
-2025-10-31 16:04:56
-2025-10-31 16:04:56
-2025-10-31 16:04:56
-2025-10-31 16:04:56
-2025-10-31 16:04:56
-2025-10-31 16:04:56
-2025-10-31 16:04:56
-2025-10-31 16:04:56
-2025-10-31 16:04:56
-2025-10-31 16:04:56
-2025-10-31 16:04:56
-2025-10-31 16:04:56
-2025-10-31 16:04:56
-2025-10-31 16:04:56
-2025-10-31 16:04:56
-2025-10-31 16:04:56
-2025-10-31 16:04:56
-2025-10-31 16:04:56
-2025-10-31 16:04:56
-2025-10-31 16:04:56
-2025-10-31 16:04:56
-2025-10-31 16:04:56
-2025-10-31 16:04:56
-2025-10-31 16:04:56
-2025-10-31 16:04:56
-2025-10-31 16:04:56
-2025-10-31 16:04:56
-2025-10-31 16:04:56
-2025-10-31 16:04:56
-2025-10-31 16:04:57
-2025-10-31 16:04:57
-2025-10-31 16:04:57
-2025-10-31 16:04:57
-2025-10-31 16:04:57
-2025-10-31 16:04:57
-2025-10-31 16:04:57
-2025-10-31 16:04:57
-2025-10-31 16:04:57
-2025-10-31 16:04:57
-2025-10-31 16:04:57
-2025-10-31 16:04:57
-2025-10-31 16:04:57
-2025-10-31 16:04:57
-2025-10-31 16:04:57
-2025-10-31 16:04:57
-2025-10-31 16:04:57
-2025-10-31 16:04:57
-2025-10-31 16:04:57
-2025-10-31 16:04:57
-2025-10-31 16:04:57
-2025-10-31 16:04:57
-2025-10-31 16:04:57
-2025-10-31 16:04:57
-2025-10-31 16:04:57
-2025-10-31 16:04:57
-2025-10-31 16:04:57
-2025-10-31 16:04:57
-2025-10-31 16:04:57
-2025-10-31 16:04:57
-2025-10-31 16:04:57
-2025-10-31 16:04:57
-2025-10-31 16:04:57
-2025-10-31 16:04:57
-2025-10-31 16:04:57
-2025-10-31 16:04:57
-2025-10-31 16:04:57
-2025-10-31 16:04:57
-2025-10-31 16:04:57
-2025-10-31 16:04:57
-2025-10-31 16:04:57
-2025-10-31 16:04:57
-2025-10-31 16:04:57
-2025-10-31 16:04:57
-2025-10-31 16:04:57
-2025-10-31 16:04:57
-2025-10-31 16:04:58
-2025-10-31 16:04:58
-2025-10-31 16:04:58
-2025-10-31 16:04:58
-2025-10-31 16:04:58
-2025-10-31 16:04:58
-2025-10-31 16:04:58
-2025-10-31 16:04:58
-2025-10-31 16:04:58
-2025-10-31 16:04:58
-2025-10-31 16:04:58
-2025-10-31 16:04:58
-2025-10-31 16:04:58
-2025-10-31 16:04:58
-2025-10-31 16:04:58
-2025-10-31 16:04:58
-2025-10-31 16:04:58
-2025-10-31 16:04:58
-2025-10-31 16:04:58
-2025-10-31 16:04:58
-2025-10-31 16:04:58
-2025-10-31 16:04:58
-2025-10-31 16:04:58
-2025-10-31 16:04:58
-2025-10-31 16:04:58
-2025-10-31 16:04:58
-2025-10-31 16:04:58
-2025-10-31 16:04:58
-2025-10-31 16:04:58
-2025-10-31 16:04:58
-2025-10-31 16:04:58
-2025-10-31 16:04:58
-2025-10-31 16:04:58
-2025-10-31 16:04:58
-2025-10-31 16:04:58
-2025-10-31 16:04:58
-2025-10-31 16:04:58
-2025-10-31 16:04:58
-2025-10-31 16:04:58
-2025-10-31 16:04:58
-2025-10-31 16:04:58
-2025-10-31 16:04:58
-2025-10-31 16:04:58
-2025-10-31 16:04:59
-2025-10-31 16:04:59
-2025-10-31 16:04:59
-2025-10-31 16:04:59
-2025-10-31 16:04:59
-2025-10-31 16:04:59
-2025-10-31 16:04:59
-2025-10-31 16:04:59
-2025-10-31 16:04:59
-2025-10-31 16:04:59
-2025-10-31 16:04:59
-2025-10-31 16:04:59
-2025-10-31 16:04:59
-2025-10-31 16:04:59
-2025-10-31 16:04:59
-2025-10-31 16:04:59
-2025-10-31 16:04:59
-2025-10-31 16:04:59
-2025-10-31 16:04:59
-2025-10-31 16:04:59
-2025-10-31 16:04:59
-2025-10-31 16:04:59
-2025-10-31 16:04:59
-2025-10-31 16:04:59
-2025-10-31 16:04:59
-2025-10-31 16:04:59
-2025-10-31 16:04:59
-2025-10-31 16:04:59
-2025-10-31 16:04:59
-2025-10-31 16:04:59
-2025-10-31 16:04:59
-2025-10-31 16:04:59
-2025-10-31 16:04:59
-2025-10-31 16:04:59
-2025-10-31 16:04:59
-2025-10-31 16:04:59
-2025-10-31 16:04:59
-2025-10-31 16:04:59
-2025-10-31 16:05:00
-2025-10-31 16:05:00
-2025-10-31 16:05:00
-2025-10-31 16:05:00
-2025-10-31 16:05:00
-2025-10-31 16:05:00
-2025-10-31 16:05:00
-2025-10-31 16:05:00
-2025-10-31 16:05:00
-2025-10-31 16:05:00
-2025-10-31 16:05:00
-2025-10-31 16:05:00
-2025-10-31 16:05:00
-2025-10-31 16:05:00
-2025-10-31 16:05:00
-2025-10-31 16:05:00
-2025-10-31 16:05:00
-2025-10-31 16:05:00
-2025-10-31 16:05:00
-2025-10-31 16:05:00
-2025-10-31 16:05:00
-2025-10-31 16:05:00
-2025-10-31 16:05:00
-2025-10-31 16:05:00
-2025-10-31 16:05:00
-2025-10-31 16:05:00
-2025-10-31 16:05:00
-2025-10-31 16:05:00
-2025-10-31 16:05:00
-2025-10-31 16:05:00
-2025-10-31 16:05:00
-2025-10-31 16:05:00
-2025-10-31 16:05:00
-2025-10-31 16:05:00
-2025-10-31 16:05:00
-2025-10-31 16:05:00
-2025-10-31 16:05:00
-2025-10-31 16:05:00
-2025-10-31 16:05:00
-2025-10-31 16:05:00
-2025-10-31 16:05:00
-2025-10-31 16:05:00
-2025-10-31 16:05:01
-2025-10-31 16:05:01
-2025-10-31 16:05:01
-2025-10-31 16:05:01
-2025-10-31 16:05:01
-2025-10-31 16:05:01
-2025-10-31 16:05:01
-2025-10-31 16:05:01
-2025-10-31 16:05:01
-2025-10-31 16:05:01
-2025-10-31 16:05:01
-2025-10-31 16:05:01
-2025-10-31 16:05:01
-2025-10-31 16:05:01
-2025-10-31 16:05:01
-2025-10-31 16:05:01
-2025-10-31 16:05:01
-2025-10-31 16:05:01
-2025-10-31 16:05:01
-2025-10-31 16:05:01
-2025-10-31 16:05:01
-2025-10-31 16:05:01
-2025-10-31 16:05:01
-2025-10-31 16:05:01
-2025-10-31 16:05:01
-2025-10-31 16:05:01
-2025-10-31 16:05:01
-2025-10-31 16:05:01
-2025-10-31 16:05:01
-2025-10-31 16:05:01
-2025-10-31 16:05:01
-2025-10-31 16:05:01
-2025-10-31 16:05:01
-2025-10-31 16:05:01
-2025-10-31 16:05:01
-2025-10-31 16:05:01
-2025-10-31 16:05:01
-2025-10-31 16:05:01
-2025-10-31 16:05:01
-2025-10-31 16:05:01
-2025-10-31 16:05:01
-2025-10-31 16:05:01
-2025-10-31 16:05:02
-2025-10-31 16:05:02
-2025-10-31 16:05:02
-2025-10-31 16:05:02
-2025-10-31 16:05:02
-2025-10-31 16:05:02
-2025-10-31 16:05:02
-2025-10-31 16:05:02
-2025-10-31 16:05:02
-2025-10-31 16:05:02
-2025-10-31 16:05:02
-2025-10-31 16:05:02
-2025-10-31 16:05:02
-2025-10-31 16:05:02
-2025-10-31 16:05:02
-2025-10-31 16:05:02
-2025-10-31 16:05:02
-2025-10-31 16:05:02
-2025-10-31 16:05:02
-2025-10-31 16:05:02
-2025-10-31 16:05:02
-2025-10-31 16:05:02
-2025-10-31 16:05:02
-2025-10-31 16:05:02
-2025-10-31 16:05:02
-2025-10-31 16:05:02
-2025-10-31 16:05:02
-2025-10-31 16:05:02
-2025-10-31 16:05:02
-2025-10-31 16:05:02
-2025-10-31 16:05:02
-2025-10-31 16:05:02
-2025-10-31 16:05:02
-2025-10-31 16:05:02
-2025-10-31 16:05:02
-2025-10-31 16:05:02
-2025-10-31 16:05:02
-2025-10-31 16:05:02
-2025-10-31 16:05:02
-2025-10-31 16:05:02
-2025-10-31 16:05:02
-2025-10-31 16:05:02
-2025-10-31 16:05:02
-2025-10-31 16:05:02
-2025-10-31 16:05:03
-2025-10-31 16:05:03
-2025-10-31 16:05:03
-2025-10-31 16:05:03
-2025-10-31 16:05:03
-2025-10-31 16:05:03
-2025-10-31 16:05:03
-2025-10-31 16:05:03
-2025-10-31 16:05:03
-2025-10-31 16:05:03
-2025-10-31 16:05:03
-2025-10-31 16:05:03
-2025-10-31 16:05:03
-2025-10-31 16:05:03
-2025-10-31 16:05:03
-2025-10-31 16:05:03
-2025-10-31 16:05:03
-2025-10-31 16:05:03
-2025-10-31 16:05:03
-2025-10-31 16:05:03
-2025-10-31 16:05:03
-2025-10-31 16:05:03
-2025-10-31 16:05:03
-2025-10-31 16:05:03
-2025-10-31 16:05:03
-2025-10-31 16:05:03
-2025-10-31 16:05:03
-2025-10-31 16:05:03
-2025-10-31 16:05:03
-2025-10-31 16:05:03
-2025-10-31 16:05:03
-2025-10-31 16:05:03
-2025-10-31 16:05:03
-2025-10-31 16:05:03
-2025-10-31 16:05:03
-2025-10-31 16:05:03
-2025-10-31 16:05:03
-2025-10-31 16:05:03
-2025-10-31 16:05:03
-2025-10-31 16:05:03
-2025-10-31 16:05:03
-2025-10-31 16:05:03
-2025-10-31 16:05:04
-2025-10-31 16:05:04
-2025-10-31 16:05:04
-2025-10-31 16:05:04
-2025-10-31 16:05:04
-2025-10-31 16:05:04
-2025-10-31 16:05:04
-2025-10-31 16:05:04
-2025-10-31 16:05:04
-2025-10-31 16:05:04
-2025-10-31 16:05:04
-2025-10-31 16:05:04
-2025-10-31 16:05:04
-2025-10-31 16:05:04
-2025-10-31 16:05:04
-2025-10-31 16:05:04
-2025-10-31 16:05:04
-2025-10-31 16:05:04
-2025-10-31 16:05:04
-2025-10-31 16:05:04
-2025-10-31 16:05:04
-2025-10-31 16:05:04
-2025-10-31 16:05:04
-2025-10-31 16:05:04
-2025-10-31 16:05:04
-2025-10-31 16:05:04
-2025-10-31 16:05:04
-2025-10-31 16:05:04
-2025-10-31 16:05:04
-2025-10-31 16:05:04
-2025-10-31 16:05:04
-2025-10-31 16:05:04
-2025-10-31 16:05:04
-2025-10-31 16:05:04
-2025-10-31 16:05:04
-2025-10-31 16:05:04
-2025-10-31 16:05:04
-2025-10-31 16:05:04
-2025-10-31 16:05:04
-2025-10-31 16:05:04
-2025-10-31 16:05:04
-2025-10-31 16:05:04
-2025-10-31 16:05:05
-2025-10-31 16:05:05
-2025-10-31 16:05:05
-2025-10-31 16:05:05
-2025-10-31 16:05:05
-2025-10-31 16:05:05
-2025-10-31 16:05:05
-2025-10-31 16:05:05
-2025-10-31 16:05:05
-2025-10-31 16:05:05
-2025-10-31 16:05:05
-2025-10-31 16:05:05
-2025-10-31 16:05:05
-2025-10-31 16:05:05
-2025-10-31 16:05:05
-2025-10-31 16:05:05
-2025-10-31 16:05:05
-2025-10-31 16:05:05
-2025-10-31 16:05:05
-2025-10-31 16:05:05
-2025-10-31 16:05:05
-2025-10-31 16:05:05
-2025-10-31 16:05:05
-2025-10-31 16:05:05
-2025-10-31 16:05:05
-2025-10-31 16:05:05
-2025-10-31 16:05:05
-2025-10-31 16:05:05
-2025-10-31 16:05:05
-2025-10-31 16:05:05
-2025-10-31 16:05:05
-2025-10-31 16:05:05
-2025-10-31 16:05:05
-2025-10-31 16:05:05
-2025-10-31 16:05:05
-2025-10-31 16:05:05
-2025-10-31 16:05:05
-2025-10-31 16:05:05
-2025-10-31 16:05:05
-2025-10-31 16:05:05
-2025-10-31 16:05:05
-2025-10-31 16:05:06
-2025-10-31 16:05:06
-2025-10-31 16:05:06
-2025-10-31 16:05:06
-2025-10-31 16:05:06
-2025-10-31 16:05:06
-2025-10-31 16:05:06
-2025-10-31 16:05:06
-2025-10-31 16:05:06
-2025-10-31 16:05:06
-2025-10-31 16:05:06
-2025-10-31 16:05:06
-2025-10-31 16:05:06
-2025-10-31 16:05:06
-2025-10-31 16:05:06
-2025-10-31 16:05:06
-2025-10-31 16:05:06
-2025-10-31 16:05:06
-2025-10-31 16:05:06
-2025-10-31 16:05:06
-2025-10-31 16:05:06
-2025-10-31 16:05:06
-2025-10-31 16:05:06
-2025-10-31 16:05:06
-2025-10-31 16:05:06
-2025-10-31 16:05:06
-2025-10-31 16:05:06
-2025-10-31 16:05:06
-2025-10-31 16:05:06
-2025-10-31 16:05:06
-2025-10-31 16:05:06
-2025-10-31 16:05:06
-2025-10-31 16:05:06
-2025-10-31 16:05:06
-2025-10-31 16:05:06
-2025-10-31 16:05:06
-2025-10-31 16:05:06
-2025-10-31 16:05:06
-2025-10-31 16:05:06
-2025-10-31 16:05:07
-2025-10-31 16:05:07
-2025-10-31 16:05:07
-2025-10-31 16:05:07
-2025-10-31 16:05:07
-2025-10-31 16:05:07
-2025-10-31 16:05:07
-2025-10-31 16:05:07
-2025-10-31 16:05:07
-2025-10-31 16:05:07
-2025-10-31 16:05:07
-2025-10-31 16:05:07
-2025-10-31 16:05:07
-2025-10-31 16:05:07
-2025-10-31 16:05:07
-2025-10-31 16:05:07
-2025-10-31 16:05:07
-2025-10-31 16:05:07
-2025-10-31 16:05:07
-2025-10-31 16:05:07
-2025-10-31 16:05:07
-2025-10-31 16:05:07
-2025-10-31 16:05:07
-2025-10-31 16:05:07
-2025-10-31 16:05:07
-2025-10-31 16:05:07
-2025-10-31 16:05:07
-2025-10-31 16:05:07
-2025-10-31 16:05:07
-2025-10-31 16:05:07
-2025-10-31 16:05:07
-2025-10-31 16:05:07
-2025-10-31 16:05:07
-2025-10-31 16:05:07
-2025-10-31 16:05:07
-2025-10-31 16:05:07
-2025-10-31 16:05:07
-2025-10-31 16:05:07
-2025-10-31 16:05:07
-2025-10-31 16:05:07
-2025-10-31 16:05:07
-2025-10-31 16:05:08
-2025-10-31 16:05:08
-2025-10-31 16:05:08
-2025-10-31 16:05:08
-2025-10-31 16:05:08
-2025-10-31 16:05:08
-2025-10-31 16:05:08
-2025-10-31 16:05:08
-2025-10-31 16:05:08
-2025-10-31 16:05:08
-2025-10-31 16:05:08
-2025-10-31 16:05:08
-2025-10-31 16:05:08
-2025-10-31 16:05:08
-2025-10-31 16:05:08
-2025-10-31 16:05:08
-2025-10-31 16:05:08
-2025-10-31 16:05:08
-2025-10-31 16:05:08
-2025-10-31 16:05:08
-2025-10-31 16:05:08
-2025-10-31 16:05:08
-2025-10-31 16:05:08
-2025-10-31 16:05:08
-2025-10-31 16:05:08
-2025-10-31 16:05:08
-2025-10-31 16:05:08
-2025-10-31 16:05:08
-2025-10-31 16:05:08
-2025-10-31 16:05:08
-2025-10-31 16:05:08
-2025-10-31 16:05:08
-2025-10-31 16:05:08
-2025-10-31 16:05:08
-2025-10-31 16:05:08
-2025-10-31 16:05:08
-2025-10-31 16:05:08
-2025-10-31 16:05:08
-2025-10-31 16:05:08
-2025-10-31 16:05:08
-2025-10-31 16:05:08
-2025-10-31 16:05:08
-2025-10-31 16:05:09
-2025-10-31 16:05:09
-2025-10-31 16:05:09
-2025-10-31 16:05:09
-2025-10-31 16:05:09
-2025-10-31 16:05:09
-2025-10-31 16:05:09
-2025-10-31 16:05:09
-2025-10-31 16:05:09
-2025-10-31 16:05:09
-2025-10-31 16:05:09
-2025-10-31 16:05:09
-2025-10-31 16:05:09
-2025-10-31 16:05:09
-2025-10-31 16:05:09
-2025-10-31 16:05:09
-2025-10-31 16:05:09
-2025-10-31 16:05:09
-2025-10-31 16:05:09
-2025-10-31 16:05:09
-2025-10-31 16:05:09
-2025-10-31 16:05:09
-2025-10-31 16:05:09
-2025-10-31 16:05:09
-2025-10-31 16:05:09
-2025-10-31 16:05:09
-2025-10-31 16:05:09
-2025-10-31 16:05:09
-2025-10-31 16:05:09
-2025-10-31 16:05:09
-2025-10-31 16:05:09
-2025-10-31 16:05:09
-2025-10-31 16:05:09
-2025-10-31 16:05:09
-2025-10-31 16:05:09
-2025-10-31 16:05:09
-2025-10-31 16:05:09
-2025-10-31 16:05:09
-2025-10-31 16:05:09
-2025-10-31 16:05:09
-2025-10-31 16:05:09
-2025-10-31 16:05:09
-2025-10-31 16:05:09
-2025-10-31 16:05:10
-2025-10-31 16:05:10
-2025-10-31 16:05:10
-2025-10-31 16:05:10
-2025-10-31 16:05:10
-2025-10-31 16:05:10
-2025-10-31 16:05:10
-2025-10-31 16:05:10
-2025-10-31 16:05:10
-2025-10-31 16:05:10
-2025-10-31 16:05:10
-2025-10-31 16:05:10
-2025-10-31 16:05:10
-2025-10-31 16:05:10
-2025-10-31 16:05:10
-2025-10-31 16:05:10
-2025-10-31 16:05:10
-2025-10-31 16:05:10
-2025-10-31 16:05:10
-2025-10-31 16:05:10
-2025-10-31 16:05:10
-2025-10-31 16:05:10
-2025-10-31 16:05:10
-2025-10-31 16:05:10
-2025-10-31 16:05:10
-2025-10-31 16:05:10
-2025-10-31 16:05:10
-2025-10-31 16:05:10
-2025-10-31 16:05:10
-2025-10-31 16:05:10
-2025-10-31 16:05:10
-2025-10-31 16:05:10
-2025-10-31 16:05:10
-2025-10-31 16:05:10
-2025-10-31 16:05:10
-2025-10-31 16:05:10
-2025-10-31 16:05:10
-2025-10-31 16:05:10
-2025-10-31 16:05:10
-2025-10-31 16:05:10
-2025-10-31 16:05:11
-2025-10-31 16:05:11
-2025-10-31 16:05:11
-2025-10-31 16:05:11
-2025-10-31 16:05:11
-2025-10-31 16:05:11
-2025-10-31 16:05:11
-2025-10-31 16:05:11
-2025-10-31 16:05:11
-2025-10-31 16:05:11
-2025-10-31 16:05:11
-2025-10-31 16:05:11
-2025-10-31 16:05:11
-2025-10-31 16:05:11
-2025-10-31 16:05:11
-2025-10-31 16:05:11
-2025-10-31 16:05:11
-2025-10-31 16:05:11
-2025-10-31 16:05:11
-2025-10-31 16:05:11
-2025-10-31 16:05:11
-2025-10-31 16:05:11
-2025-10-31 16:05:11
-2025-10-31 16:05:11
-2025-10-31 16:05:11
-2025-10-31 16:05:11
-2025-10-31 16:05:11
-2025-10-31 16:05:11
-2025-10-31 16:05:11
-2025-10-31 16:05:11
-2025-10-31 16:05:11
-2025-10-31 16:05:11
-2025-10-31 16:05:11
-2025-10-31 16:05:11
-2025-10-31 16:05:11
-2025-10-31 16:05:11
-2025-10-31 16:05:11
-2025-10-31 16:05:11
-2025-10-31 16:05:11
-2025-10-31 16:05:11
-2025-10-31 16:05:12
-2025-10-31 16:05:12
-2025-10-31 16:05:12
-2025-10-31 16:05:12
-2025-10-31 16:05:12
-2025-10-31 16:05:12
-2025-10-31 16:05:12
-2025-10-31 16:05:12
-2025-10-31 16:05:12
-2025-10-31 16:05:12
-2025-10-31 16:05:12
-2025-10-31 16:05:12
-2025-10-31 16:05:12
-2025-10-31 16:05:12
-2025-10-31 16:05:12
-2025-10-31 16:05:12
-2025-10-31 16:05:12
-2025-10-31 16:05:12
-2025-10-31 16:05:12
-2025-10-31 16:05:12
-2025-10-31 16:05:12
-2025-10-31 16:05:12
-2025-10-31 16:05:12
-2025-10-31 16:05:12
-2025-10-31 16:05:12
-2025-10-31 16:05:12
-2025-10-31 16:05:12
-2025-10-31 16:05:12
-2025-10-31 16:05:12
-2025-10-31 16:05:12
-2025-10-31 16:05:12
-2025-10-31 16:05:12
-2025-10-31 16:05:12
-2025-10-31 16:05:12
-2025-10-31 16:05:12
-2025-10-31 16:05:12
-2025-10-31 16:05:12
-2025-10-31 16:05:12
-2025-10-31 16:05:12
-2025-10-31 16:05:12
-2025-10-31 16:05:12
-2025-10-31 16:05:13
-2025-10-31 16:05:13
-2025-10-31 16:05:13
-2025-10-31 16:05:13
-2025-10-31 16:05:13
-2025-10-31 16:05:13
-2025-10-31 16:05:13
-2025-10-31 16:05:13
-2025-10-31 16:05:13
-2025-10-31 16:05:13
-2025-10-31 16:05:13
-2025-10-31 16:05:13
-2025-10-31 16:05:13
-2025-10-31 16:05:13
-2025-10-31 16:05:13
-2025-10-31 16:05:13
-2025-10-31 16:05:13
-2025-10-31 16:05:13
-2025-10-31 16:05:13
-2025-10-31 16:05:13
-2025-10-31 16:05:13
-2025-10-31 16:05:13
-2025-10-31 16:05:13
-2025-10-31 16:05:13
-2025-10-31 16:05:13
-2025-10-31 16:05:13
-2025-10-31 16:05:13
-2025-10-31 16:05:13
-2025-10-31 16:05:13
-2025-10-31 16:05:13
-2025-10-31 16:05:13
-2025-10-31 16:05:13
-2025-10-31 16:05:13
-2025-10-31 16:05:13
-2025-10-31 16:05:13
-2025-10-31 16:05:13
-2025-10-31 16:05:13
-2025-10-31 16:05:13
-2025-10-31 16:05:13
-2025-10-31 16:05:13
-2025-10-31 16:05:13
-2025-10-31 16:05:14
-2025-10-31 16:05:14
-2025-10-31 16:05:14
-2025-10-31 16:05:14
-2025-10-31 16:05:14
-2025-10-31 16:05:14
-2025-10-31 16:05:14
-2025-10-31 16:05:14
-2025-10-31 16:05:14
-2025-10-31 16:05:14
-2025-10-31 16:05:14
-2025-10-31 16:05:14
-2025-10-31 16:05:14
-2025-10-31 16:05:14
-2025-10-31 16:05:14
-2025-10-31 16:05:14
-2025-10-31 16:05:14
-2025-10-31 16:05:14
-2025-10-31 16:05:14
-2025-10-31 16:05:14
-2025-10-31 16:05:14
-2025-10-31 16:05:14
-2025-10-31 16:05:14
-2025-10-31 16:05:14
-2025-10-31 16:05:14
-2025-10-31 16:05:14
-2025-10-31 16:05:14
-2025-10-31 16:05:14
-2025-10-31 16:05:14
-2025-10-31 16:05:14
-2025-10-31 16:05:14
-2025-10-31 16:05:14
-2025-10-31 16:05:14
-2025-10-31 16:05:14
-2025-10-31 16:05:14
-2025-10-31 16:05:14
-2025-10-31 16:05:14
-2025-10-31 16:05:14
-2025-10-31 16:05:14
-2025-10-31 16:05:15
-2025-10-31 16:05:15
-2025-10-31 16:05:15
-2025-10-31 16:05:15
-2025-10-31 16:05:15
-2025-10-31 16:05:15
-2025-10-31 16:05:15
-2025-10-31 16:05:15
-2025-10-31 16:05:15
-2025-10-31 16:05:15
-2025-10-31 16:05:15
-2025-10-31 16:05:15
-2025-10-31 16:05:15
-2025-10-31 16:05:15
-2025-10-31 16:05:15
-2025-10-31 16:05:15
-2025-10-31 16:05:15
-2025-10-31 16:05:15
-2025-10-31 16:05:15
-2025-10-31 16:05:15
-2025-10-31 16:05:15
-2025-10-31 16:05:15
-2025-10-31 16:05:15
-2025-10-31 16:05:15
-2025-10-31 16:05:15
-2025-10-31 16:05:15
-2025-10-31 16:05:15
-2025-10-31 16:05:15
-2025-10-31 16:05:15
-2025-10-31 16:05:15
-2025-10-31 16:05:15
-2025-10-31 16:05:15
-2025-10-31 16:05:15
-2025-10-31 16:05:15
-2025-10-31 16:05:15
-2025-10-31 16:05:15
-2025-10-31 16:05:15
-2025-10-31 16:05:15
-2025-10-31 16:05:16
-2025-10-31 16:05:16
-2025-10-31 16:05:16
-2025-10-31 16:05:16
-2025-10-31 16:05:16
-2025-10-31 16:05:16
-2025-10-31 16:05:16
-2025-10-31 16:05:16
-2025-10-31 16:05:16
-2025-10-31 16:05:16
-2025-10-31 16:05:16
-2025-10-31 16:05:16
-2025-10-31 16:05:16
-2025-10-31 16:05:16
-2025-10-31 16:05:16
-2025-10-31 16:05:16
-2025-10-31 16:05:16
-2025-10-31 16:05:16
-2025-10-31 16:05:16
-2025-10-31 16:05:16
-2025-10-31 16:05:16
-2025-10-31 16:05:16
-2025-10-31 16:05:16
-2025-10-31 16:05:16
-2025-10-31 16:05:16
-2025-10-31 16:05:16
-2025-10-31 16:05:16
-2025-10-31 16:05:16
-2025-10-31 16:05:16
-2025-10-31 16:05:16
-2025-10-31 16:05:16
-2025-10-31 16:05:16
-2025-10-31 16:05:16
-2025-10-31 16:05:16
-2025-10-31 16:05:16
-2025-10-31 16:05:16
-2025-10-31 16:05:16
-2025-10-31 16:05:16
-2025-10-31 16:05:16
-2025-10-31 16:05:16
-2025-10-31 16:05:16
-2025-10-31 16:05:17
-2025-10-31 16:05:17
-2025-10-31 16:05:17
-2025-10-31 16:05:17
-2025-10-31 16:05:17
-2025-10-31 16:05:17
-2025-10-31 16:05:17
-2025-10-31 16:05:17
-2025-10-31 16:05:17
-2025-10-31 16:05:17
-2025-10-31 16:05:17
-2025-10-31 16:05:17
-2025-10-31 16:05:17
-2025-10-31 16:05:17
-2025-10-31 16:05:17
-2025-10-31 16:05:17
-2025-10-31 16:05:17
-2025-10-31 16:05:17
-2025-10-31 16:05:17
-2025-10-31 16:05:17
-2025-10-31 16:05:17
-2025-10-31 16:05:17
-2025-10-31 16:05:17
-2025-10-31 16:05:17
-2025-10-31 16:05:17
-2025-10-31 16:05:17
-2025-10-31 16:05:17
-2025-10-31 16:05:17
-2025-10-31 16:05:17
-2025-10-31 16:05:17
-2025-10-31 16:05:17
-2025-10-31 16:05:17
-2025-10-31 16:05:17
-2025-10-31 16:05:17
-2025-10-31 16:05:17
-2025-10-31 16:05:17
-2025-10-31 16:05:17
-2025-10-31 16:05:17
-2025-10-31 16:05:18
-2025-10-31 16:05:18
-2025-10-31 16:05:18
-2025-10-31 16:05:18
-2025-10-31 16:05:18
-2025-10-31 16:05:18
-2025-10-31 16:05:18
-2025-10-31 16:05:18
-2025-10-31 16:05:18
-2025-10-31 16:05:18
-2025-10-31 16:05:18
-2025-10-31 16:05:18
-2025-10-31 16:05:18
-2025-10-31 16:05:18
-2025-10-31 16:05:18
-2025-10-31 16:05:18
-2025-10-31 16:05:18
-2025-10-31 16:05:18
-2025-10-31 16:05:18
-2025-10-31 16:05:18
-2025-10-31 16:05:18
-2025-10-31 16:05:18
-2025-10-31 16:05:18
-2025-10-31 16:05:18
-2025-10-31 16:05:18
-2025-10-31 16:05:18
-2025-10-31 16:05:18
-2025-10-31 16:05:18
-2025-10-31 16:05:18
-2025-10-31 16:05:18
-2025-10-31 16:05:18
-2025-10-31 16:05:18
-2025-10-31 16:05:18
-2025-10-31 16:05:18
-2025-10-31 16:05:18
-2025-10-31 16:05:18
-2025-10-31 16:05:18
-2025-10-31 16:05:18
-2025-10-31 16:05:18
-2025-10-31 16:05:18
-2025-10-31 16:05:19
-2025-10-31 16:05:19
-2025-10-31 16:05:19
-2025-10-31 16:05:19
-2025-10-31 16:05:19
-2025-10-31 16:05:19
-2025-10-31 16:05:19
-2025-10-31 16:05:19
-2025-10-31 16:05:19
-2025-10-31 16:05:19
-2025-10-31 16:05:19
-2025-10-31 16:05:19
-2025-10-31 16:05:19
-2025-10-31 16:05:19
-2025-10-31 16:05:19
-2025-10-31 16:05:19
-2025-10-31 16:05:19
-2025-10-31 16:05:19
-2025-10-31 16:05:19
-2025-10-31 16:05:19
-2025-10-31 16:05:19
-2025-10-31 16:05:19
-2025-10-31 16:05:19
-2025-10-31 16:05:19
-2025-10-31 16:05:19
-2025-10-31 16:05:19
-2025-10-31 16:05:19
-2025-10-31 16:05:19
-2025-10-31 16:05:19
-2025-10-31 16:05:19
-2025-10-31 16:05:19
-2025-10-31 16:05:19
-2025-10-31 16:05:19
-2025-10-31 16:05:19
-2025-10-31 16:05:19
-2025-10-31 16:05:19
-2025-10-31 16:05:19
-2025-10-31 16:05:19
-2025-10-31 16:05:20
-2025-10-31 16:05:20
-2025-10-31 16:05:20
-2025-10-31 16:05:20
-2025-10-31 16:05:20
-2025-10-31 16:05:20
-2025-10-31 16:05:20
-2025-10-31 16:05:20
-2025-10-31 16:05:20
-2025-10-31 16:05:20
-2025-10-31 16:05:20
-2025-10-31 16:05:20
-2025-10-31 16:05:20
-2025-10-31 16:05:20
-2025-10-31 16:05:20
-2025-10-31 16:05:20
-2025-10-31 16:05:20
-2025-10-31 16:05:20
-2025-10-31 16:05:20
-2025-10-31 16:05:20
-2025-10-31 16:05:20
-2025-10-31 16:05:20
-2025-10-31 16:05:20
-2025-10-31 16:05:20
-2025-10-31 16:05:20
-2025-10-31 16:05:20
-2025-10-31 16:05:20
-2025-10-31 16:05:20
-2025-10-31 16:05:20
-2025-10-31 16:05:20
-2025-10-31 16:05:20
-2025-10-31 16:05:20
-2025-10-31 16:05:20
-2025-10-31 16:05:20
-2025-10-31 16:05:20
-2025-10-31 16:05:20
-2025-10-31 16:05:20
-2025-10-31 16:05:21
-2025-10-31 16:05:21
-2025-10-31 16:05:21
-2025-10-31 16:05:21
-2025-10-31 16:05:21
-2025-10-31 16:05:21
-2025-10-31 16:05:21
-2025-10-31 16:05:21
-2025-10-31 16:05:21
-2025-10-31 16:05:21
-2025-10-31 16:05:21
-2025-10-31 16:05:21
-2025-10-31 16:05:21
-2025-10-31 16:05:21
-2025-10-31 16:05:21
-2025-10-31 16:05:21
-2025-10-31 16:05:21
-2025-10-31 16:05:21
-2025-10-31 16:05:21
-2025-10-31 16:05:21
-2025-10-31 16:05:21
-2025-10-31 16:05:21
-2025-10-31 16:05:21
-2025-10-31 16:05:21
-2025-10-31 16:05:21
-2025-10-31 16:05:21
-2025-10-31 16:05:21
-2025-10-31 16:05:21
-2025-10-31 16:05:21
-2025-10-31 16:05:21
-2025-10-31 16:05:21
-2025-10-31 16:05:21
-2025-10-31 16:05:21
-2025-10-31 16:05:21
-2025-10-31 16:05:21
-2025-10-31 16:05:21
-2025-10-31 16:05:21
-2025-10-31 16:05:22
-2025-10-31 16:05:22
-2025-10-31 16:05:22
-2025-10-31 16:05:22
-2025-10-31 16:05:22
-2025-10-31 16:05:22
-2025-10-31 16:05:22
-2025-10-31 16:05:22
-2025-10-31 16:05:22
-2025-10-31 16:05:22
-2025-10-31 16:05:22
-2025-10-31 16:05:22
-2025-10-31 16:05:22
-2025-10-31 16:05:22
-2025-10-31 16:05:22
-2025-10-31 16:05:22
-2025-10-31 16:05:22
-2025-10-31 16:05:22
-2025-10-31 16:05:22
-2025-10-31 16:05:22
-2025-10-31 16:05:22
-2025-10-31 16:05:22
-2025-10-31 16:05:22
-2025-10-31 16:05:22
-2025-10-31 16:05:22
-2025-10-31 16:05:22
-2025-10-31 16:05:22
-2025-10-31 16:05:22
-2025-10-31 16:05:22
-2025-10-31 16:05:22
-2025-10-31 16:05:22
-2025-10-31 16:05:22
-2025-10-31 16:05:22
-2025-10-31 16:05:22
-2025-10-31 16:05:22
-2025-10-31 16:05:22
-2025-10-31 16:05:22
-2025-10-31 16:05:22
-2025-10-31 16:05:22
-2025-10-31 16:05:23
-2025-10-31 16:05:23
-2025-10-31 16:05:23
-2025-10-31 16:05:23
-2025-10-31 16:05:23
-2025-10-31 16:05:23
-2025-10-31 16:05:23
-2025-10-31 16:05:23
-2025-10-31 16:05:23
-2025-10-31 16:05:23
-2025-10-31 16:05:23
-2025-10-31 16:05:23
-2025-10-31 16:05:23
-2025-10-31 16:05:23
-2025-10-31 16:05:23
-2025-10-31 16:05:23
-2025-10-31 16:05:23
-2025-10-31 16:05:23
-2025-10-31 16:05:23
-2025-10-31 16:05:23
-2025-10-31 16:05:23
-2025-10-31 16:05:23
-2025-10-31 16:05:23
-2025-10-31 16:05:23
-2025-10-31 16:05:23
-2025-10-31 16:05:23
-2025-10-31 16:05:23
-2025-10-31 16:05:23
-2025-10-31 16:05:23
-2025-10-31 16:05:23
-2025-10-31 16:05:23
-2025-10-31 16:05:23
-2025-10-31 16:05:23
-2025-10-31 16:05:23
-2025-10-31 16:05:23
-2025-10-31 16:05:23
-2025-10-31 16:05:23
-2025-10-31 16:05:24
-2025-10-31 16:05:24
-2025-10-31 16:05:24
-2025-10-31 16:05:24
-2025-10-31 16:05:24
-2025-10-31 16:05:24
-2025-10-31 16:05:24
-2025-10-31 16:05:24
-2025-10-31 16:05:24
-2025-10-31 16:05:24
-2025-10-31 16:05:24
-2025-10-31 16:05:24
-2025-10-31 16:05:24
-2025-10-31 16:05:24
-2025-10-31 16:05:24
-2025-10-31 16:05:24
-2025-10-31 16:05:24
-2025-10-31 16:05:24
-2025-10-31 16:05:24
-2025-10-31 16:05:24
-2025-10-31 16:05:24
-2025-10-31 16:05:24
-2025-10-31 16:05:24
-2025-10-31 16:05:24
-2025-10-31 16:05:24
-2025-10-31 16:05:24
-2025-10-31 16:05:24
-2025-10-31 16:05:24
-2025-10-31 16:05:24
-2025-10-31 16:05:24
-2025-10-31 16:05:24
-2025-10-31 16:05:24
-2025-10-31 16:05:24
-2025-10-31 16:05:24
-2025-10-31 16:05:24
-2025-10-31 16:05:24
-2025-10-31 16:05:24
-2025-10-31 16:05:24
-2025-10-31 16:05:24
-2025-10-31 16:05:25
-2025-10-31 16:05:25
-2025-10-31 16:05:25
-2025-10-31 16:05:25
-2025-10-31 16:05:25
-2025-10-31 16:05:25
-2025-10-31 16:05:25
-2025-10-31 16:05:25
-2025-10-31 16:05:25
-2025-10-31 16:05:25
-2025-10-31 16:05:25
-2025-10-31 16:05:25
-2025-10-31 16:05:25
-2025-10-31 16:05:25
-2025-10-31 16:05:25
-2025-10-31 16:05:25
-2025-10-31 16:05:25
-2025-10-31 16:05:25
-2025-10-31 16:05:25
-2025-10-31 16:05:25
-2025-10-31 16:05:25
-2025-10-31 16:05:25
-2025-10-31 16:05:25
-2025-10-31 16:05:25
-2025-10-31 16:05:25
-2025-10-31 16:05:25
-2025-10-31 16:05:25
-2025-10-31 16:05:25
-2025-10-31 16:05:25
-2025-10-31 16:05:25
-2025-10-31 16:05:25
-2025-10-31 16:05:25
-2025-10-31 16:05:25
-2025-10-31 16:05:25
-2025-10-31 16:05:25
-2025-10-31 16:05:25
-2025-10-31 16:05:25
-2025-10-31 16:05:26
-2025-10-31 16:05:26
-2025-10-31 16:05:26
-2025-10-31 16:05:26
-2025-10-31 16:05:26
-2025-10-31 16:05:26
-2025-10-31 16:05:26
-2025-10-31 16:05:26
-2025-10-31 16:05:26
-2025-10-31 16:05:26
-2025-10-31 16:05:26
-2025-10-31 16:05:26
-2025-10-31 16:05:26
-2025-10-31 16:05:26
-2025-10-31 16:05:26
-2025-10-31 16:05:26
-2025-10-31 16:05:26
-2025-10-31 16:05:26
-2025-10-31 16:05:26
-2025-10-31 16:05:26
-2025-10-31 16:05:26
-2025-10-31 16:05:26
-2025-10-31 16:05:26
-2025-10-31 16:05:26
-2025-10-31 16:05:26
-2025-10-31 16:05:26
-2025-10-31 16:05:26
-2025-10-31 16:05:26
-2025-10-31 16:05:26
-2025-10-31 16:05:26
-2025-10-31 16:05:26
-2025-10-31 16:05:26
-2025-10-31 16:05:26
-2025-10-31 16:05:26
-2025-10-31 16:05:26
-2025-10-31 16:05:26
-2025-10-31 16:05:26
-2025-10-31 16:05:26
-2025-10-31 16:05:27
-2025-10-31 16:05:27
-2025-10-31 16:05:27
-2025-10-31 16:05:27
-2025-10-31 16:05:27
-2025-10-31 16:05:27
-2025-10-31 16:05:27
-2025-10-31 16:05:27
-2025-10-31 16:05:27
-2025-10-31 16:05:27
-2025-10-31 16:05:27
-2025-10-31 16:05:27
-2025-10-31 16:05:27
-2025-10-31 16:05:27
-2025-10-31 16:05:27
-2025-10-31 16:05:27
-2025-10-31 16:05:27
-2025-10-31 16:05:27
-2025-10-31 16:05:27
-2025-10-31 16:05:27
-2025-10-31 16:05:27
-2025-10-31 16:05:27
-2025-10-31 16:05:27
-2025-10-31 16:05:27
-2025-10-31 16:05:27
-2025-10-31 16:05:27
-2025-10-31 16:05:27
-2025-10-31 16:05:27
-2025-10-31 16:05:27
-2025-10-31 16:05:27
-2025-10-31 16:05:27
-2025-10-31 16:05:27
-2025-10-31 16:05:27
-2025-10-31 16:05:27
-2025-10-31 16:05:27
-2025-10-31 16:05:27
-2025-10-31 16:05:28
-2025-10-31 16:05:28
-2025-10-31 16:05:28
-2025-10-31 16:05:28
-2025-10-31 16:05:28
-2025-10-31 16:05:28
-2025-10-31 16:05:28
-2025-10-31 16:05:28
-2025-10-31 16:05:28
-2025-10-31 16:05:28
-2025-10-31 16:05:28
-2025-10-31 16:05:28
-2025-10-31 16:05:28
-2025-10-31 16:05:28
-2025-10-31 16:05:28
-2025-10-31 16:05:28
-2025-10-31 16:05:28
-2025-10-31 16:05:28
-2025-10-31 16:05:28
-2025-10-31 16:05:28
-2025-10-31 16:05:28
-2025-10-31 16:05:28
-2025-10-31 16:05:28
-2025-10-31 16:05:28
-2025-10-31 16:05:28
-2025-10-31 16:05:28
-2025-10-31 16:05:28
-2025-10-31 16:05:28
-2025-10-31 16:05:28
-2025-10-31 16:05:28
-2025-10-31 16:05:28
-2025-10-31 16:05:28
-2025-10-31 16:05:28
-2025-10-31 16:05:28
-2025-10-31 16:05:28
-2025-10-31 16:05:28
-2025-10-31 16:05:28
-2025-10-31 16:05:29
-2025-10-31 16:05:29
-2025-10-31 16:05:29
-2025-10-31 16:05:29
-2025-10-31 16:05:29
-2025-10-31 16:05:29
-2025-10-31 16:05:29
-2025-10-31 16:05:29
-2025-10-31 16:05:29
-2025-10-31 16:05:29
-2025-10-31 16:05:29
-2025-10-31 16:05:29
-2025-10-31 16:05:29
-2025-10-31 16:05:29
-2025-10-31 16:05:29
-2025-10-31 16:05:29
-2025-10-31 16:05:29
-2025-10-31 16:05:29
-2025-10-31 16:05:29
-2025-10-31 16:05:29
-2025-10-31 16:05:29
-2025-10-31 16:05:29
-2025-10-31 16:05:29
-2025-10-31 16:05:29
-2025-10-31 16:05:29
-2025-10-31 16:05:29
-2025-10-31 16:05:29
-2025-10-31 16:05:29
-2025-10-31 16:05:29
-2025-10-31 16:05:29
-2025-10-31 16:05:29
-2025-10-31 16:05:29
-2025-10-31 16:05:29
-2025-10-31 16:05:29
-2025-10-31 16:05:30
-2025-10-31 16:05:30
-2025-10-31 16:05:30
-2025-10-31 16:05:30
-2025-10-31 16:05:30
-2025-10-31 16:05:30
-2025-10-31 16:05:30
-2025-10-31 16:05:30
-2025-10-31 16:05:30
-2025-10-31 16:05:30
-2025-10-31 16:05:30
-2025-10-31 16:05:30
-2025-10-31 16:05:30
-2025-10-31 16:05:30
-2025-10-31 16:05:30
-2025-10-31 16:05:30
-2025-10-31 16:05:30
-2025-10-31 16:05:30
-2025-10-31 16:05:30
-2025-10-31 16:05:30
-2025-10-31 16:05:30
-2025-10-31 16:05:30
-2025-10-31 16:05:30
-2025-10-31 16:05:30
-2025-10-31 16:05:30
-2025-10-31 16:05:30
-2025-10-31 16:05:30
-2025-10-31 16:05:30
-2025-10-31 16:05:30
-2025-10-31 16:05:30
-2025-10-31 16:05:30
-2025-10-31 16:05:30
-2025-10-31 16:05:30
-2025-10-31 16:05:30
-2025-10-31 16:05:30
-2025-10-31 16:05:31
-2025-10-31 16:05:31
-2025-10-31 16:05:31
-2025-10-31 16:05:31
-2025-10-31 16:05:31
-2025-10-31 16:05:31
-2025-10-31 16:05:31
-2025-10-31 16:05:31
-2025-10-31 16:05:31
-2025-10-31 16:05:31
-2025-10-31 16:05:31
-2025-10-31 16:05:31
-2025-10-31 16:05:31
-2025-10-31 16:05:31
-2025-10-31 16:05:31
-2025-10-31 16:05:31
-2025-10-31 16:05:31
-2025-10-31 16:05:31
-2025-10-31 16:05:31
-2025-10-31 16:05:31
-2025-10-31 16:05:31
-2025-10-31 16:05:31
-2025-10-31 16:05:31
-2025-10-31 16:05:31
-2025-10-31 16:05:31
-2025-10-31 16:05:31
-2025-10-31 16:05:31
-2025-10-31 16:05:31
-2025-10-31 16:05:31
-2025-10-31 16:05:31
-2025-10-31 16:05:31
-2025-10-31 16:05:31
-2025-10-31 16:05:31
-2025-10-31 16:05:31
-2025-10-31 16:05:31
-2025-10-31 16:05:31
-2025-10-31 16:05:32
-2025-10-31 16:05:32
-2025-10-31 16:05:32
-2025-10-31 16:05:32
-2025-10-31 16:05:32
-2025-10-31 16:05:32
-2025-10-31 16:05:32
-2025-10-31 16:05:32
-2025-10-31 16:05:32
-2025-10-31 16:05:32
-2025-10-31 16:05:32
-2025-10-31 16:05:32
-2025-10-31 16:05:32
-2025-10-31 16:05:32
-2025-10-31 16:05:32
-2025-10-31 16:05:32
-2025-10-31 16:05:32
-2025-10-31 16:05:32
-2025-10-31 16:05:32
-2025-10-31 16:05:32
-2025-10-31 16:05:32
-2025-10-31 16:05:32
-2025-10-31 16:05:32
-2025-10-31 16:05:32
-2025-10-31 16:05:32
-2025-10-31 16:05:32
-2025-10-31 16:05:32
-2025-10-31 16:05:32
-2025-10-31 16:05:32
-2025-10-31 16:05:32
-2025-10-31 16:05:32
-2025-10-31 16:05:32
-2025-10-31 16:05:32
-2025-10-31 16:05:33
-2025-10-31 16:05:33
-2025-10-31 16:05:33
-2025-10-31 16:05:33
-2025-10-31 16:05:33
-2025-10-31 16:05:33
-2025-10-31 16:05:33
-2025-10-31 16:05:33
-2025-10-31 16:05:33
-2025-10-31 16:05:33
-2025-10-31 16:05:33
-2025-10-31 16:05:33
-2025-10-31 16:05:33
-2025-10-31 16:05:33
-2025-10-31 16:05:33
-2025-10-31 16:05:33
-2025-10-31 16:05:33
-2025-10-31 16:05:33
-2025-10-31 16:05:33
-2025-10-31 16:05:33
-2025-10-31 16:05:33
-2025-10-31 16:05:33
-2025-10-31 16:05:33
-2025-10-31 16:05:33
-2025-10-31 16:05:33
-2025-10-31 16:05:33
-2025-10-31 16:05:33
-2025-10-31 16:05:33
-2025-10-31 16:05:33
-2025-10-31 16:05:33
-2025-10-31 16:05:33
-2025-10-31 16:05:33
-2025-10-31 16:05:33
-2025-10-31 16:05:33
-2025-10-31 16:05:33
-2025-10-31 16:05:33
-2025-10-31 16:05:33
-2025-10-31 16:05:34
-2025-10-31 16:05:34
-2025-10-31 16:05:34
-2025-10-31 16:05:34
-2025-10-31 16:05:34
-2025-10-31 16:05:34
-2025-10-31 16:05:34
-2025-10-31 16:05:34
-2025-10-31 16:05:34
-2025-10-31 16:05:34
-2025-10-31 16:05:34
-2025-10-31 16:05:34
-2025-10-31 16:05:34
-2025-10-31 16:05:34
-2025-10-31 16:05:34
-2025-10-31 16:05:34
-2025-10-31 16:05:34
-2025-10-31 16:05:34
-2025-10-31 16:05:34
-2025-10-31 16:05:34
-2025-10-31 16:05:34
-2025-10-31 16:05:34
-2025-10-31 16:05:34
-2025-10-31 16:05:34
-2025-10-31 16:05:34
-2025-10-31 16:05:34
-2025-10-31 16:05:34
-2025-10-31 16:05:34
-2025-10-31 16:05:34
-2025-10-31 16:05:34
-2025-10-31 16:05:34
-2025-10-31 16:05:34
-2025-10-31 16:05:34
-2025-10-31 16:05:34
-2025-10-31 16:05:34
-2025-10-31 16:05:35
-2025-10-31 16:05:35
-2025-10-31 16:05:35
-2025-10-31 16:05:35
-2025-10-31 16:05:35
-2025-10-31 16:05:35
-2025-10-31 16:05:35
-2025-10-31 16:05:35
-2025-10-31 16:05:35
-2025-10-31 16:05:35
-2025-10-31 16:05:35
-2025-10-31 16:05:35
-2025-10-31 16:05:35
-2025-10-31 16:05:35
-2025-10-31 16:05:35
-2025-10-31 16:05:35
-2025-10-31 16:05:35
-2025-10-31 16:05:35
-2025-10-31 16:05:35
-2025-10-31 16:05:35
-2025-10-31 16:05:35
-2025-10-31 16:05:35
-2025-10-31 16:05:35
-2025-10-31 16:05:35
-2025-10-31 16:05:35
-2025-10-31 16:05:35
-2025-10-31 16:05:35
-2025-10-31 16:05:35
-2025-10-31 16:05:35
-2025-10-31 16:05:35
-2025-10-31 16:05:35
-2025-10-31 16:05:35
-2025-10-31 16:05:35
-2025-10-31 16:05:35
-2025-10-31 16:05:35
-2025-10-31 16:05:36
-2025-10-31 16:05:36
-2025-10-31 16:05:36
-2025-10-31 16:05:36
-2025-10-31 16:05:36
-2025-10-31 16:05:36
-2025-10-31 16:05:36
-2025-10-31 16:05:36
-2025-10-31 16:05:36
-2025-10-31 16:05:36
-2025-10-31 16:05:36
-2025-10-31 16:05:36
-2025-10-31 16:05:36
-2025-10-31 16:05:36
-2025-10-31 16:05:36
-2025-10-31 16:05:36
-2025-10-31 16:05:36
-2025-10-31 16:05:36
-2025-10-31 16:05:36
-2025-10-31 16:05:36
-2025-10-31 16:05:36
-2025-10-31 16:05:36
-2025-10-31 16:05:36
-2025-10-31 16:05:36
-2025-10-31 16:05:36
-2025-10-31 16:05:36
-2025-10-31 16:05:36
-2025-10-31 16:05:36
-2025-10-31 16:05:36
-2025-10-31 16:05:36
-2025-10-31 16:05:36
-2025-10-31 16:05:36
-2025-10-31 16:05:36
-2025-10-31 16:05:36
-2025-10-31 16:05:36
-2025-10-31 16:05:37
-2025-10-31 16:05:37
-2025-10-31 16:05:37
-2025-10-31 16:05:37
-2025-10-31 16:05:37
-2025-10-31 16:05:37
-2025-10-31 16:05:37
-2025-10-31 16:05:37
-2025-10-31 16:05:37
-2025-10-31 16:05:37
-2025-10-31 16:05:37
-2025-10-31 16:05:37
-2025-10-31 16:05:37
-2025-10-31 16:05:37
-2025-10-31 16:05:37
-2025-10-31 16:05:37
-2025-10-31 16:05:37
-2025-10-31 16:05:37
-2025-10-31 16:05:37
-2025-10-31 16:05:37
-2025-10-31 16:05:37
-2025-10-31 16:05:37
-2025-10-31 16:05:37
-2025-10-31 16:05:37
-2025-10-31 16:05:37
-2025-10-31 16:05:37
-2025-10-31 16:05:37
-2025-10-31 16:05:37
-2025-10-31 16:05:37
-2025-10-31 16:05:37
-2025-10-31 16:05:37
-2025-10-31 16:05:37
-2025-10-31 16:05:37
-2025-10-31 16:05:37
-2025-10-31 16:05:38
-2025-10-31 16:05:38
-2025-10-31 16:05:38
-2025-10-31 16:05:38
-2025-10-31 16:05:38
-2025-10-31 16:05:38
-2025-10-31 16:05:38
-2025-10-31 16:05:38
-2025-10-31 16:05:38
-2025-10-31 16:05:38
-2025-10-31 16:05:38
-2025-10-31 16:05:38
-2025-10-31 16:05:38
-2025-10-31 16:05:38
-2025-10-31 16:05:38
-2025-10-31 16:05:38
-2025-10-31 16:05:38
-2025-10-31 16:05:38
-2025-10-31 16:05:38
-2025-10-31 16:05:38
-2025-10-31 16:05:38
-2025-10-31 16:05:38
-2025-10-31 16:05:38
-2025-10-31 16:05:38
-2025-10-31 16:05:38
-2025-10-31 16:05:38
-2025-10-31 16:05:38
-2025-10-31 16:05:38
-2025-10-31 16:05:38
-2025-10-31 16:05:38
-2025-10-31 16:05:38
-2025-10-31 16:05:38
-2025-10-31 16:05:38
-2025-10-31 16:05:39
-2025-10-31 16:05:39
-2025-10-31 16:05:39
-2025-10-31 16:05:39
-2025-10-31 16:05:39
-2025-10-31 16:05:39
-2025-10-31 16:05:39
-2025-10-31 16:05:39
-2025-10-31 16:05:39
-2025-10-31 16:05:39
-2025-10-31 16:05:39
-2025-10-31 16:05:39
-2025-10-31 16:05:39
-2025-10-31 16:05:39
-2025-10-31 16:05:39
-2025-10-31 16:05:39
-2025-10-31 16:05:39
-2025-10-31 16:05:39
-2025-10-31 16:05:39
-2025-10-31 16:05:39
-2025-10-31 16:05:39
-2025-10-31 16:05:39
-2025-10-31 16:05:39
-2025-10-31 16:05:39
-2025-10-31 16:05:39
-2025-10-31 16:05:39
-2025-10-31 16:05:39
-2025-10-31 16:05:39
-2025-10-31 16:05:39
-2025-10-31 16:05:39
-2025-10-31 16:05:39
-2025-10-31 16:05:39
-2025-10-31 16:05:39
-2025-10-31 16:05:40
-2025-10-31 16:05:40
-2025-10-31 16:05:40
-2025-10-31 16:05:40
-2025-10-31 16:05:40
-2025-10-31 16:05:40
-2025-10-31 16:05:40
-2025-10-31 16:05:40
-2025-10-31 16:05:40
-2025-10-31 16:05:40
-2025-10-31 16:05:40
-2025-10-31 16:05:40
-2025-10-31 16:05:40
-2025-10-31 16:05:40
-2025-10-31 16:05:40
-2025-10-31 16:05:40
-2025-10-31 16:05:40
-2025-10-31 16:05:40
-2025-10-31 16:05:40
-2025-10-31 16:05:40
-2025-10-31 16:05:40
-2025-10-31 16:05:40
-2025-10-31 16:05:40
-2025-10-31 16:05:40
-2025-10-31 16:05:40
-2025-10-31 16:05:40
-2025-10-31 16:05:40
-2025-10-31 16:05:40
-2025-10-31 16:05:40
-2025-10-31 16:05:40
-2025-10-31 16:05:40
-2025-10-31 16:05:40
-2025-10-31 16:05:41
-2025-10-31 16:05:41
-2025-10-31 16:05:41
-2025-10-31 16:05:41
-2025-10-31 16:05:41
-2025-10-31 16:05:41
-2025-10-31 16:05:41
-2025-10-31 16:05:41
-2025-10-31 16:05:41
-2025-10-31 16:05:41
-2025-10-31 16:05:41
-2025-10-31 16:05:41
-2025-10-31 16:05:41
-2025-10-31 16:05:41
-2025-10-31 16:05:41
-2025-10-31 16:05:41
-2025-10-31 16:05:41
-2025-10-31 16:05:41
-2025-10-31 16:05:41
-2025-10-31 16:05:41
-2025-10-31 16:05:41
-2025-10-31 16:05:41
-2025-10-31 16:05:41
-2025-10-31 16:05:41
-2025-10-31 16:05:41
-2025-10-31 16:05:41
-2025-10-31 16:05:41
-2025-10-31 16:05:41
-2025-10-31 16:05:41
-2025-10-31 16:05:41
-2025-10-31 16:05:41
-2025-10-31 16:05:41
-2025-10-31 16:05:41
-2025-10-31 16:05:42
-2025-10-31 16:05:42
-2025-10-31 16:05:42
-2025-10-31 16:05:42
-2025-10-31 16:05:42
-2025-10-31 16:05:42
-2025-10-31 16:05:42
-2025-10-31 16:05:42
-2025-10-31 16:05:42
-2025-10-31 16:05:42
-2025-10-31 16:05:42
-2025-10-31 16:05:42
-2025-10-31 16:05:42
-2025-10-31 16:05:42
-2025-10-31 16:05:42
-2025-10-31 16:05:42
-2025-10-31 16:05:42
-2025-10-31 16:05:42
-2025-10-31 16:05:42
-2025-10-31 16:05:42
-2025-10-31 16:05:42
-2025-10-31 16:05:42
-2025-10-31 16:05:42
-2025-10-31 16:05:42
-2025-10-31 16:05:42
-2025-10-31 16:05:42
-2025-10-31 16:05:42
-2025-10-31 16:05:42
-2025-10-31 16:05:42
-2025-10-31 16:05:42
-2025-10-31 16:05:42
-2025-10-31 16:05:42
-2025-10-31 16:05:42
-2025-10-31 16:05:43
-2025-10-31 16:05:43
-2025-10-31 16:05:43
-2025-10-31 16:05:43
-2025-10-31 16:05:43
-2025-10-31 16:05:43
-2025-10-31 16:05:43
-2025-10-31 16:05:43
-2025-10-31 16:05:43
-2025-10-31 16:05:43
-2025-10-31 16:05:43
-2025-10-31 16:05:43
-2025-10-31 16:05:43
-2025-10-31 16:05:43
-2025-10-31 16:05:43
-2025-10-31 16:05:43
-2025-10-31 16:05:43
-2025-10-31 16:05:43
-2025-10-31 16:05:43
-2025-10-31 16:05:43
-2025-10-31 16:05:43
-2025-10-31 16:05:43
-2025-10-31 16:05:43
-2025-10-31 16:05:43
-2025-10-31 16:05:43
-2025-10-31 16:05:43
-2025-10-31 16:05:43
-2025-10-31 16:05:43
-2025-10-31 16:05:43
-2025-10-31 16:05:43
-2025-10-31 16:05:43
-2025-10-31 16:05:43
-2025-10-31 16:05:43
-2025-10-31 16:05:43
-2025-10-31 16:05:44
-2025-10-31 16:05:44
-2025-10-31 16:05:44
-2025-10-31 16:05:44
-2025-10-31 16:05:44
-2025-10-31 16:05:44
-2025-10-31 16:05:44
-2025-10-31 16:05:44
-2025-10-31 16:05:44
-2025-10-31 16:05:44
-2025-10-31 16:05:44
-2025-10-31 16:05:44
-2025-10-31 16:05:44
-2025-10-31 16:05:44
-2025-10-31 16:05:44
-2025-10-31 16:05:44
-2025-10-31 16:05:44
-2025-10-31 16:05:44
-2025-10-31 16:05:44
-2025-10-31 16:05:44
-2025-10-31 16:05:44
-2025-10-31 16:05:44
-2025-10-31 16:05:44
-2025-10-31 16:05:44
-2025-10-31 16:05:44
-2025-10-31 16:05:44
-2025-10-31 16:05:44
-2025-10-31 16:05:44
-2025-10-31 16:05:44
-2025-10-31 16:05:44
-2025-10-31 16:05:44
-2025-10-31 16:05:44
-2025-10-31 16:05:44
-2025-10-31 16:05:44
-2025-10-31 16:05:45
-2025-10-31 16:05:45
-2025-10-31 16:05:45
-2025-10-31 16:05:45
-2025-10-31 16:05:45
-2025-10-31 16:05:45
-2025-10-31 16:05:45
-2025-10-31 16:05:45
-2025-10-31 16:05:45
-2025-10-31 16:05:45
-2025-10-31 16:05:45
-2025-10-31 16:05:45
-2025-10-31 16:05:45
-2025-10-31 16:05:45
-2025-10-31 16:05:45
-2025-10-31 16:05:45
-2025-10-31 16:05:45
-2025-10-31 16:05:45
-2025-10-31 16:05:45
-2025-10-31 16:05:45
-2025-10-31 16:05:45
-2025-10-31 16:05:45
-2025-10-31 16:05:45
-2025-10-31 16:05:45
-2025-10-31 16:05:45
-2025-10-31 16:05:45
-2025-10-31 16:05:45
-2025-10-31 16:05:45
-2025-10-31 16:05:45
-2025-10-31 16:05:45
-2025-10-31 16:05:45
-2025-10-31 16:05:45
-2025-10-31 16:05:46
-2025-10-31 16:05:46
-2025-10-31 16:05:46
-2025-10-31 16:05:46
-2025-10-31 16:05:46
-2025-10-31 16:05:46
-2025-10-31 16:05:46
-2025-10-31 16:05:46
-2025-10-31 16:05:46
-2025-10-31 16:05:46
-2025-10-31 16:05:46
-2025-10-31 16:05:46
-2025-10-31 16:05:46
-2025-10-31 16:05:46
-2025-10-31 16:05:46
-2025-10-31 16:05:46
-2025-10-31 16:05:46
-2025-10-31 16:05:46
-2025-10-31 16:05:46
-2025-10-31 16:05:46
-2025-10-31 16:05:46
-2025-10-31 16:05:46
-2025-10-31 16:05:46
-2025-10-31 16:05:46
-2025-10-31 16:05:46
-2025-10-31 16:05:46
-2025-10-31 16:05:46
-2025-10-31 16:05:46
-2025-10-31 16:05:46
-2025-10-31 16:05:46
-2025-10-31 16:05:46
-2025-10-31 16:05:46
-2025-10-31 16:05:46
-2025-10-31 16:05:47
-2025-10-31 16:05:47
-2025-10-31 16:05:47
-2025-10-31 16:05:47
-2025-10-31 16:05:47
-2025-10-31 16:05:47
-2025-10-31 16:05:47
-2025-10-31 16:05:47
-2025-10-31 16:05:47
-2025-10-31 16:05:47
-2025-10-31 16:05:47
-2025-10-31 16:05:47
-2025-10-31 16:05:47
-2025-10-31 16:05:47
-2025-10-31 16:05:47
-2025-10-31 16:05:47
-2025-10-31 16:05:47
-2025-10-31 16:05:47
-2025-10-31 16:05:47
-2025-10-31 16:05:47
-2025-10-31 16:05:47
-2025-10-31 16:05:47
-2025-10-31 16:05:47
-2025-10-31 16:05:47
-2025-10-31 16:05:47
-2025-10-31 16:05:47
-2025-10-31 16:05:47
-2025-10-31 16:05:47
-2025-10-31 16:05:47
-2025-10-31 16:05:47
-2025-10-31 16:05:47
-2025-10-31 16:05:47
-2025-10-31 16:05:47
-2025-10-31 16:05:47
-2025-10-31 16:05:47
-2025-10-31 16:05:48
-2025-10-31 16:05:48
-2025-10-31 16:05:48
-2025-10-31 16:05:48
-2025-10-31 16:05:48
-2025-10-31 16:05:48
-2025-10-31 16:05:48
-2025-10-31 16:05:48
-2025-10-31 16:05:48
-2025-10-31 16:05:48
-2025-10-31 16:05:48
-2025-10-31 16:05:48
-2025-10-31 16:05:48
-2025-10-31 16:05:48
-2025-10-31 16:05:48
-2025-10-31 16:05:48
-2025-10-31 16:05:48
-2025-10-31 16:05:48
-2025-10-31 16:05:48
-2025-10-31 16:05:48
-2025-10-31 16:05:48
-2025-10-31 16:05:48
-2025-10-31 16:05:48
-2025-10-31 16:05:48
-2025-10-31 16:05:48
-2025-10-31 16:05:48
-2025-10-31 16:05:48
-2025-10-31 16:05:48
-2025-10-31 16:05:48
-2025-10-31 16:05:48
-2025-10-31 16:05:48
-2025-10-31 16:05:48
-2025-10-31 16:05:48
-2025-10-31 16:05:48
-2025-10-31 16:05:48
-2025-10-31 16:05:49
-2025-10-31 16:05:49
-2025-10-31 16:05:49
-2025-10-31 16:05:49
-2025-10-31 16:05:49
-2025-10-31 16:05:49
-2025-10-31 16:05:49
-2025-10-31 16:05:49
-2025-10-31 16:05:49
-2025-10-31 16:05:49
-2025-10-31 16:05:49
-2025-10-31 16:05:49
-2025-10-31 16:05:49
-2025-10-31 16:05:49
-2025-10-31 16:05:49
-2025-10-31 16:05:49
-2025-10-31 16:05:49
-2025-10-31 16:05:49
-2025-10-31 16:05:49
-2025-10-31 16:05:49
-2025-10-31 16:05:49
-2025-10-31 16:05:49
-2025-10-31 16:05:49
-2025-10-31 16:05:49
-2025-10-31 16:05:49
-2025-10-31 16:05:49
-2025-10-31 16:05:49
-2025-10-31 16:05:49
-2025-10-31 16:05:49
-2025-10-31 16:05:49
-2025-10-31 16:05:49
-2025-10-31 16:05:49
-2025-10-31 16:05:49
-2025-10-31 16:05:49
-2025-10-31 16:05:50
-2025-10-31 16:05:50
-2025-10-31 16:05:50
-2025-10-31 16:05:50
-2025-10-31 16:05:50
-2025-10-31 16:05:50
-2025-10-31 16:05:50
-2025-10-31 16:05:50
-2025-10-31 16:05:50
-2025-10-31 16:05:50
-2025-10-31 16:05:50
-2025-10-31 16:05:50
-2025-10-31 16:05:50
-2025-10-31 16:05:50
-2025-10-31 16:05:50
-2025-10-31 16:05:50
-2025-10-31 16:05:50
-2025-10-31 16:05:50
-2025-10-31 16:05:50
-2025-10-31 16:05:50
-2025-10-31 16:05:50
-2025-10-31 16:05:50
-2025-10-31 16:05:50
-2025-10-31 16:05:50
-2025-10-31 16:05:50
-2025-10-31 16:05:50
-2025-10-31 16:05:50
-2025-10-31 16:05:50
-2025-10-31 16:05:50
-2025-10-31 16:05:50
-2025-10-31 16:05:50
-2025-10-31 16:05:50
-2025-10-31 16:05:50
-2025-10-31 16:05:50
-2025-10-31 16:05:51
-2025-10-31 16:05:51
-2025-10-31 16:05:51
-2025-10-31 16:05:51
-2025-10-31 16:05:51
-2025-10-31 16:05:51
-2025-10-31 16:05:51
-2025-10-31 16:05:51
-2025-10-31 16:05:51
-2025-10-31 16:05:51
-2025-10-31 16:05:51
-2025-10-31 16:05:51
-2025-10-31 16:05:51
-2025-10-31 16:05:51
-2025-10-31 16:05:51
-2025-10-31 16:05:51
-2025-10-31 16:05:51
-2025-10-31 16:05:51
-2025-10-31 16:05:51
-2025-10-31 16:05:51
-2025-10-31 16:05:51
-2025-10-31 16:05:51
-2025-10-31 16:05:51
-2025-10-31 16:05:51
-2025-10-31 16:05:51
-2025-10-31 16:05:51
-2025-10-31 16:05:51
-2025-10-31 16:05:51
-2025-10-31 16:05:51
-2025-10-31 16:05:51
-2025-10-31 16:05:51
-2025-10-31 16:05:51
-2025-10-31 16:05:51
-2025-10-31 16:05:52
-2025-10-31 16:05:52
-2025-10-31 16:05:52
-2025-10-31 16:05:52
-2025-10-31 16:05:52
-2025-10-31 16:05:52
-2025-10-31 16:05:52
-2025-10-31 16:05:52
-2025-10-31 16:05:52
-2025-10-31 16:05:52
-2025-10-31 16:05:52
-2025-10-31 16:05:52
-2025-10-31 16:05:52
-2025-10-31 16:05:52
-2025-10-31 16:05:52
-2025-10-31 16:05:52
-2025-10-31 16:05:52
-2025-10-31 16:05:52
-2025-10-31 16:05:52
-2025-10-31 16:05:52
-2025-10-31 16:05:52
-2025-10-31 16:05:52
-2025-10-31 16:05:52
-2025-10-31 16:05:52
-2025-10-31 16:05:52
-2025-10-31 16:05:52
-2025-10-31 16:05:52
-2025-10-31 16:05:52
-2025-10-31 16:05:52
-2025-10-31 16:05:52
-2025-10-31 16:05:52
-2025-10-31 16:05:52
-2025-10-31 16:05:52
-2025-10-31 16:05:52
-2025-10-31 16:05:52
-2025-10-31 16:05:53
-2025-10-31 16:05:53
-2025-10-31 16:05:53
-2025-10-31 16:05:53
-2025-10-31 16:05:53
-2025-10-31 16:05:53
-2025-10-31 16:05:53
-2025-10-31 16:05:53
-2025-10-31 16:05:53
-2025-10-31 16:05:53
-2025-10-31 16:05:53
-2025-10-31 16:05:53
-2025-10-31 16:05:53
-2025-10-31 16:05:53
-2025-10-31 16:05:53
-2025-10-31 16:05:53
-2025-10-31 16:05:53
-2025-10-31 16:05:53
-2025-10-31 16:05:53
-2025-10-31 16:05:53
-2025-10-31 16:05:53
-2025-10-31 16:05:53
-2025-10-31 16:05:53
-2025-10-31 16:05:53
-2025-10-31 16:05:53
-2025-10-31 16:05:53
-2025-10-31 16:05:53
-2025-10-31 16:05:53
-2025-10-31 16:05:53
-2025-10-31 16:05:53
-2025-10-31 16:05:53
-2025-10-31 16:05:53
-2025-10-31 16:05:53
-2025-10-31 16:05:54
-2025-10-31 16:05:54
-2025-10-31 16:05:54
-2025-10-31 16:05:54
-2025-10-31 16:05:54
-2025-10-31 16:05:54
-2025-10-31 16:05:54
-2025-10-31 16:05:54
-2025-10-31 16:05:54
-2025-10-31 16:05:54
-2025-10-31 16:05:54
-2025-10-31 16:05:54
-2025-10-31 16:05:54
-2025-10-31 16:05:54
-2025-10-31 16:05:54
-2025-10-31 16:05:54
-2025-10-31 16:05:54
-2025-10-31 16:05:54
-2025-10-31 16:05:54
-2025-10-31 16:05:54
-2025-10-31 16:05:54
-2025-10-31 16:05:54
-2025-10-31 16:05:54
-2025-10-31 16:05:54
-2025-10-31 16:05:54
-2025-10-31 16:05:54
-2025-10-31 16:05:54
-2025-10-31 16:05:54
-2025-10-31 16:05:54
-2025-10-31 16:05:54
-2025-10-31 16:05:54
-2025-10-31 16:05:54
-2025-10-31 16:05:54
-2025-10-31 16:05:55
-2025-10-31 16:05:55
-2025-10-31 16:05:55
-2025-10-31 16:05:55
-2025-10-31 16:05:55
-2025-10-31 16:05:55
-2025-10-31 16:05:55
-2025-10-31 16:05:55
-2025-10-31 16:05:55
-2025-10-31 16:05:55
-2025-10-31 16:05:55
-2025-10-31 16:05:55
-2025-10-31 16:05:55
-2025-10-31 16:05:55
-2025-10-31 16:05:55
-2025-10-31 16:05:55
-2025-10-31 16:05:55
-2025-10-31 16:05:55
-2025-10-31 16:05:55
-2025-10-31 16:05:55
-2025-10-31 16:05:55
-2025-10-31 16:05:55
-2025-10-31 16:05:55
-2025-10-31 16:05:55
-2025-10-31 16:05:55
-2025-10-31 16:05:55
-2025-10-31 16:05:55
-2025-10-31 16:05:55
-2025-10-31 16:05:55
-2025-10-31 16:05:55
-2025-10-31 16:05:55
-2025-10-31 16:05:55
-2025-10-31 16:05:55
-2025-10-31 16:05:56
-2025-10-31 16:05:56
-2025-10-31 16:05:56
-2025-10-31 16:05:56
-2025-10-31 16:05:56
-2025-10-31 16:05:56
-2025-10-31 16:05:56
-2025-10-31 16:05:56
-2025-10-31 16:05:56
-2025-10-31 16:05:56
-2025-10-31 16:05:56
-2025-10-31 16:05:56
-2025-10-31 16:05:56
-2025-10-31 16:05:56
-2025-10-31 16:05:56
-2025-10-31 16:05:56
-2025-10-31 16:05:56
-2025-10-31 16:05:56
-2025-10-31 16:05:56
-2025-10-31 16:05:56
-2025-10-31 16:05:56
-2025-10-31 16:05:56
-2025-10-31 16:05:56
-2025-10-31 16:05:56
-2025-10-31 16:05:56
-2025-10-31 16:05:56
-2025-10-31 16:05:56
-2025-10-31 16:05:57
-2025-10-31 16:05:57
-2025-10-31 16:05:57
-2025-10-31 16:05:57
-2025-10-31 16:05:57
-2025-10-31 16:05:57
-2025-10-31 16:05:57
-2025-10-31 16:05:57
-2025-10-31 16:05:58
-2025-10-31 16:05:58
-2025-10-31 16:05:58
-2025-10-31 16:05:58
-2025-10-31 16:05:58
-2025-10-31 16:05:58
-2025-10-31 16:05:59
-2025-10-31 16:05:59
-2025-10-31 16:05:59
-2025-10-31 16:05:59
-2025-10-31 16:05:59
-2025-10-31 16:05:59
-2025-10-31 16:06:00
-2025-10-31 16:06:00
-2025-10-31 16:06:00
-2025-10-31 16:06:00
-2025-10-31 16:06:00
-2025-10-31 16:06:01
-2025-10-31 16:06:01
-2025-10-31 16:06:01
-2025-10-31 16:06:01
-2025-10-31 16:06:02
-2025-10-31 16:06:02
-2025-10-31 16:06:02
-2025-10-31 16:06:02
-2025-10-31 16:06:02
-2025-10-31 16:06:03
-2025-10-31 16:06:03
-2025-10-31 16:06:03
-2025-10-31 16:06:03
-2025-10-31 16:06:04
-2025-10-31 16:06:04
-2025-10-31 16:06:04
468.0 KiB2025-08-15 16:02:47
6.9 KiB2025-08-15 16:02:47
3.4 MiB2025-08-15 16:12:54
483.2 KiB2025-10-25 16:01:58
8.1 KiB2025-10-25 16:01:58
2.0 MiB2025-10-25 16:07:40
0 B2025-10-31 16:01:56
802.6 KiB2025-10-31 16:01:56
393.8 KiB2025-10-31 16:01:56
243.2 KiB2025-10-31 16:01:56
531.0 KiB2025-10-31 16:01:56
7.5 KiB2025-10-31 16:01:57
628.6 KiB2025-10-31 16:01:57
11.9 KiB2025-10-31 16:01:57
7.1 KiB2025-10-31 16:01:57
7.1 KiB2025-10-31 16:01:57
7.1 KiB2025-10-31 16:01:57
3.3 KiB2025-10-31 16:01:57
6.0 KiB2025-10-31 16:01:57
616.9 KiB2025-10-31 16:01:57
7.1 KiB2025-10-31 16:01:57
537.1 KiB2025-10-31 16:01:57
7.0 KiB2025-10-31 16:01:57
2.6 KiB2025-10-31 16:01:57
3.0 MiB2025-10-31 16:06:06
3.4 MiB2025-10-31 16:06:09
3.4 MiB2025-10-31 16:06:13
1.3 MiB2025-10-31 16:06:13
11.3 MiB2025-10-31 16:06:23
58.3 MiB2025-10-31 16:07:22