Back to Build/check report for BioC 3.21 experimental data
ABCDEFGHIJKLMNOPQR[S]TUVWXYZ

This page was generated on 2025-07-24 15:01 -0400 (Thu, 24 Jul 2025).

HostnameOSArch (*)R versionInstalled pkgs
nebbiolo1Linux (Ubuntu 24.04.1 LTS)x86_644.5.1 (2025-06-13) -- "Great Square Root" 4821
Click on any hostname to see more info about the system (e.g. compilers)      (*) as reported by 'uname -p', except on Windows and Mac OS X

Package 356/432HostnameOS / ArchINSTALLBUILDCHECK
scRNAseq 2.22.0  (landing page)
Aaron Lun
Snapshot Date: 2025-07-24 07:30 -0400 (Thu, 24 Jul 2025)
git_url: https://git.bioconductor.org/packages/scRNAseq
git_branch: RELEASE_3_21
git_last_commit: 62a2b70
git_last_commit_date: 2025-04-15 10:08:35 -0400 (Tue, 15 Apr 2025)
nebbiolo1Linux (Ubuntu 24.04.1 LTS) / x86_64  OK    OK    OK  UNNEEDED, same version is already published


CHECK results for scRNAseq on nebbiolo1

To the developers/maintainers of the scRNAseq package:
- Use the following Renviron settings to reproduce errors and warnings.
- If 'R CMD check' started to fail recently on the Linux builder(s) over a missing dependency, add the missing dependency to 'Suggests:' in your DESCRIPTION file. See Renviron.bioc for more information.

raw results


Summary

Package: scRNAseq
Version: 2.22.0
Command: /home/biocbuild/bbs-3.21-bioc/R/bin/R CMD check --install=check:scRNAseq.install-out.txt --library=/home/biocbuild/bbs-3.21-bioc/R/site-library --timings scRNAseq_2.22.0.tar.gz
StartedAt: 2025-07-24 12:54:32 -0400 (Thu, 24 Jul 2025)
EndedAt: 2025-07-24 13:10:32 -0400 (Thu, 24 Jul 2025)
EllapsedTime: 960.6 seconds
RetCode: 0
Status:   OK  
CheckDir: scRNAseq.Rcheck
Warnings: 0

Command output

##############################################################################
##############################################################################
###
### Running command:
###
###   /home/biocbuild/bbs-3.21-bioc/R/bin/R CMD check --install=check:scRNAseq.install-out.txt --library=/home/biocbuild/bbs-3.21-bioc/R/site-library --timings scRNAseq_2.22.0.tar.gz
###
##############################################################################
##############################################################################


* using log directory ‘/home/biocbuild/bbs-3.21-data-experiment/meat/scRNAseq.Rcheck’
* using R version 4.5.1 (2025-06-13)
* using platform: x86_64-pc-linux-gnu
* R was compiled by
    gcc (Ubuntu 13.3.0-6ubuntu2~24.04) 13.3.0
    GNU Fortran (Ubuntu 13.3.0-6ubuntu2~24.04) 13.3.0
* running under: Ubuntu 24.04.2 LTS
* using session charset: UTF-8
* checking for file ‘scRNAseq/DESCRIPTION’ ... OK
* this is package ‘scRNAseq’ version ‘2.22.0’
* package encoding: UTF-8
* checking package namespace information ... OK
* checking package dependencies ... OK
* checking if this is a source package ... OK
* checking if there is a namespace ... OK
* checking for hidden files and directories ... NOTE
Found the following hidden files and directories:
  .BBSoptions
These were most likely included in error. See section ‘Package
structure’ in the ‘Writing R Extensions’ manual.
* checking for portable file names ... OK
* checking for sufficient/correct file permissions ... OK
* checking whether package ‘scRNAseq’ can be installed ... OK
* checking installed package size ... OK
* checking package directory ... OK
* checking ‘build’ directory ... OK
* checking DESCRIPTION meta-information ... OK
* checking top-level files ... OK
* checking for left-over files ... OK
* checking index information ... OK
* checking package subdirectories ... OK
* checking code files for non-ASCII characters ... OK
* checking R files for syntax errors ... OK
* checking whether the package can be loaded ... OK
* checking whether the package can be loaded with stated dependencies ... OK
* checking whether the package can be unloaded cleanly ... OK
* checking whether the namespace can be loaded with stated dependencies ... OK
* checking whether the namespace can be unloaded cleanly ... OK
* checking loading without being on the library search path ... OK
* checking dependencies in R code ... OK
* checking S3 generic/method consistency ... OK
* checking replacement functions ... OK
* checking foreign function calls ... OK
* checking R code for possible problems ... OK
* checking Rd files ... OK
* checking Rd metadata ... OK
* checking Rd cross-references ... OK
* checking for missing documentation entries ... OK
* checking for code/documentation mismatches ... OK
* checking Rd \usage sections ... OK
* checking Rd contents ... OK
* checking for unstated dependencies in examples ... OK
* checking files in ‘vignettes’ ... OK
* checking examples ... OK
Examples with CPU (user + system) or elapsed time > 5s
                           user system elapsed
BhaduriOrganoidData      24.392 10.070  34.770
BacherTCellData          17.174  5.234  23.436
ZeiselNervousData        14.219  5.962  21.765
HeOrganAtlasData         12.289  7.108  19.937
JessaBrainData           10.750  4.743  16.672
ErnstSpermatogenesisData 10.483  4.992  17.051
StoeckiusHashingData      9.130  1.628  11.531
ZhaoImmuneLiverData       6.707  3.081  10.633
BachMammaryData           7.101  1.470   9.509
AztekinTailData           7.180  0.680   8.068
GiladiHSCData             4.937  2.528   8.030
LunSpikeInData            6.177  1.209   7.831
NestorowaHSCData          4.303  0.791   5.485
ZilionisLungData          3.968  1.118   5.445
listPaths                 0.534  0.020  11.025
* checking for unstated dependencies in ‘tests’ ... OK
* checking tests ...
  Running ‘testthat.R’
 OK
* checking for unstated dependencies in vignettes ... OK
* checking package vignettes ... OK
* checking re-building of vignette outputs ... OK
* checking PDF version of manual ... OK
* DONE

Status: 1 NOTE
See
  ‘/home/biocbuild/bbs-3.21-data-experiment/meat/scRNAseq.Rcheck/00check.log’
for details.


Installation output

scRNAseq.Rcheck/00install.out

##############################################################################
##############################################################################
###
### Running command:
###
###   /home/biocbuild/bbs-3.21-bioc/R/bin/R CMD INSTALL scRNAseq
###
##############################################################################
##############################################################################


* installing to library ‘/home/biocbuild/bbs-3.21-bioc/R/site-library’
* installing *source* package ‘scRNAseq’ ...
** this is package ‘scRNAseq’ version ‘2.22.0’
** using staged installation
** R
** inst
** byte-compile and prepare package for lazy loading
** help
*** installing help indices
** building package indices
** installing vignettes
** testing if installed package can be loaded from temporary location
** testing if installed package can be loaded from final location
** testing if installed package keeps a record of temporary installation path
* DONE (scRNAseq)

Tests output

scRNAseq.Rcheck/tests/testthat.Rout


R version 4.5.1 (2025-06-13) -- "Great Square Root"
Copyright (C) 2025 The R Foundation for Statistical Computing
Platform: x86_64-pc-linux-gnu

R is free software and comes with ABSOLUTELY NO WARRANTY.
You are welcome to redistribute it under certain conditions.
Type 'license()' or 'licence()' for distribution details.

R is a collaborative project with many contributors.
Type 'contributors()' for more information and
'citation()' on how to cite R or R packages in publications.

Type 'demo()' for some demos, 'help()' for on-line help, or
'help.start()' for an HTML browser interface to help.
Type 'q()' to quit R.

> library(testthat)
> library(scRNAseq)
Loading required package: SingleCellExperiment
Loading required package: SummarizedExperiment
Loading required package: MatrixGenerics
Loading required package: matrixStats

Attaching package: 'MatrixGenerics'

The following objects are masked from 'package:matrixStats':

    colAlls, colAnyNAs, colAnys, colAvgsPerRowSet, colCollapse,
    colCounts, colCummaxs, colCummins, colCumprods, colCumsums,
    colDiffs, colIQRDiffs, colIQRs, colLogSumExps, colMadDiffs,
    colMads, colMaxs, colMeans2, colMedians, colMins, colOrderStats,
    colProds, colQuantiles, colRanges, colRanks, colSdDiffs, colSds,
    colSums2, colTabulates, colVarDiffs, colVars, colWeightedMads,
    colWeightedMeans, colWeightedMedians, colWeightedSds,
    colWeightedVars, rowAlls, rowAnyNAs, rowAnys, rowAvgsPerColSet,
    rowCollapse, rowCounts, rowCummaxs, rowCummins, rowCumprods,
    rowCumsums, rowDiffs, rowIQRDiffs, rowIQRs, rowLogSumExps,
    rowMadDiffs, rowMads, rowMaxs, rowMeans2, rowMedians, rowMins,
    rowOrderStats, rowProds, rowQuantiles, rowRanges, rowRanks,
    rowSdDiffs, rowSds, rowSums2, rowTabulates, rowVarDiffs, rowVars,
    rowWeightedMads, rowWeightedMeans, rowWeightedMedians,
    rowWeightedSds, rowWeightedVars

Loading required package: GenomicRanges
Loading required package: stats4
Loading required package: BiocGenerics
Loading required package: generics

Attaching package: 'generics'

The following objects are masked from 'package:base':

    as.difftime, as.factor, as.ordered, intersect, is.element, setdiff,
    setequal, union


Attaching package: 'BiocGenerics'

The following objects are masked from 'package:stats':

    IQR, mad, sd, var, xtabs

The following objects are masked from 'package:base':

    Filter, Find, Map, Position, Reduce, anyDuplicated, aperm, append,
    as.data.frame, basename, cbind, colnames, dirname, do.call,
    duplicated, eval, evalq, get, grep, grepl, is.unsorted, lapply,
    mapply, match, mget, order, paste, pmax, pmax.int, pmin, pmin.int,
    rank, rbind, rownames, sapply, saveRDS, table, tapply, unique,
    unsplit, which.max, which.min

Loading required package: S4Vectors

Attaching package: 'S4Vectors'

The following object is masked from 'package:utils':

    findMatches

The following objects are masked from 'package:base':

    I, expand.grid, unname

Loading required package: IRanges
Loading required package: GenomeInfoDb
Loading required package: Biobase
Welcome to Bioconductor

    Vignettes contain introductory material; view with
    'browseVignettes()'. To cite Bioconductor, see
    'citation("Biobase")', and for packages 'citation("pkgname")'.


Attaching package: 'Biobase'

The following object is masked from 'package:MatrixGenerics':

    rowMedians

The following objects are masked from 'package:matrixStats':

    anyMissing, rowMedians

> test_check("scRNAseq")
[ FAIL 0 | WARN 35 | SKIP 1 | PASS 186 ]

══ Skipped tests (1) ═══════════════════════════════════════════════════════════
• is.null(gh_token) is TRUE (1): 'test-uploadDirectory.R:59:5'

[ FAIL 0 | WARN 35 | SKIP 1 | PASS 186 ]
Warning message:
call dbDisconnect() when finished working with a connection 
> 
> proc.time()
   user  system elapsed 
291.988  69.523 379.377 

Example timings

scRNAseq.Rcheck/scRNAseq-Ex.timings

nameusersystemelapsed
AztekinTailData7.1800.6808.068
BachMammaryData7.1011.4709.509
BacherTCellData17.174 5.23423.436
BaronPancreasData0.9990.1071.145
BhaduriOrganoidData24.39210.07034.770
BuettnerESCData3.1820.6784.145
BunisHSPCData0.9960.6221.738
CampbellBrainData1.8221.0833.167
ChenBrainData1.0190.6181.778
DarmanisBrainData0.2480.0700.322
ERCCSpikeInConcentrations0.0190.0010.020
ErnstSpermatogenesisData10.483 4.99217.051
FletcherOlfactoryData0.8550.3131.180
GiladiHSCData4.9372.5288.030
GrunHSCData0.2410.0620.308
GrunPancreasData0.6290.3220.962
HeOrganAtlasData12.289 7.10819.937
HermannSpermatogenesisData0.7920.2741.093
HuCortexData0.5120.1810.750
JessaBrainData10.750 4.74316.672
KolodziejczykESCData3.2771.0194.672
KotliarovPBMCData2.3950.4903.166
LaMannoBrainData1.6190.2921.960
LawlorPancreasData0.8160.1050.929
LedergorMyelomaData1.3990.1971.781
LengESCData0.4980.0750.576
LunSpikeInData6.1771.2097.831
MacoskoRetinaData1.6470.4602.344
MairPBMCData0.5970.1080.713
MarquesBrainData0.6700.0960.843
MessmerESCData3.7730.8694.891
MuraroPancreasData0.9320.1871.141
NestorowaHSCData4.3030.7915.485
NowakowskiCortexData1.4230.1591.605
PaulHSCData2.9200.2133.203
PollenGliaData0.2250.0210.250
ReprocessedData1.9910.1732.171
RichardTCellData3.0020.6143.836
RomanovBrainData0.5000.1010.619
SegerstolpePancreasData1.1690.3441.611
ShekharRetinaData2.1800.6043.070
StoeckiusHashingData 9.130 1.62811.531
TasicBrainData1.8590.3942.256
UsoskinBrainData0.5040.0620.579
WuKidneyData0.3710.0650.453
XinPancreasData0.9540.2811.250
ZeiselBrainData0.8890.2751.187
ZeiselNervousData14.219 5.96221.765
ZhaoImmuneLiverData 6.707 3.08110.633
ZhongPrefrontalData0.5960.1530.816
ZilionisLungData3.9681.1185.445
countErccMolecules0.0310.0020.034
fetchDataset0.6070.1610.768
listDatasets0.0100.0000.011
listPaths 0.534 0.02011.025
listVersions0.0100.0000.337
polishDataset0.1210.0030.124
saveDataset0.8680.0660.831
searchDatasets1.6320.1391.911
surveyDatasets0.8660.0260.893