Back to Build/check report for BioC 3.21 experimental data
ABCDEF[G]HIJKLMNOPQRSTUVWXYZ

This page was generated on 2025-07-24 15:01 -0400 (Thu, 24 Jul 2025).

HostnameOSArch (*)R versionInstalled pkgs
nebbiolo1Linux (Ubuntu 24.04.1 LTS)x86_644.5.1 (2025-06-13) -- "Great Square Root" 4821
Click on any hostname to see more info about the system (e.g. compilers)      (*) as reported by 'uname -p', except on Windows and Mac OS X

Package 147/432HostnameOS / ArchINSTALLBUILDCHECK
geneLenDataBase 1.44.0  (landing page)
Federico Marini
Snapshot Date: 2025-07-24 07:30 -0400 (Thu, 24 Jul 2025)
git_url: https://git.bioconductor.org/packages/geneLenDataBase
git_branch: RELEASE_3_21
git_last_commit: ad5f383
git_last_commit_date: 2025-04-15 09:16:59 -0400 (Tue, 15 Apr 2025)
nebbiolo1Linux (Ubuntu 24.04.1 LTS) / x86_64  OK    OK    OK  UNNEEDED, same version is already published


CHECK results for geneLenDataBase on nebbiolo1

To the developers/maintainers of the geneLenDataBase package:
- Use the following Renviron settings to reproduce errors and warnings.
- If 'R CMD check' started to fail recently on the Linux builder(s) over a missing dependency, add the missing dependency to 'Suggests:' in your DESCRIPTION file. See Renviron.bioc for more information.

raw results


Summary

Package: geneLenDataBase
Version: 1.44.0
Command: /home/biocbuild/bbs-3.21-bioc/R/bin/R CMD check --install=check:geneLenDataBase.install-out.txt --library=/home/biocbuild/bbs-3.21-bioc/R/site-library --timings geneLenDataBase_1.44.0.tar.gz
StartedAt: 2025-07-24 12:20:22 -0400 (Thu, 24 Jul 2025)
EndedAt: 2025-07-24 12:29:23 -0400 (Thu, 24 Jul 2025)
EllapsedTime: 541.4 seconds
RetCode: 0
Status:   OK  
CheckDir: geneLenDataBase.Rcheck
Warnings: 0

Command output

##############################################################################
##############################################################################
###
### Running command:
###
###   /home/biocbuild/bbs-3.21-bioc/R/bin/R CMD check --install=check:geneLenDataBase.install-out.txt --library=/home/biocbuild/bbs-3.21-bioc/R/site-library --timings geneLenDataBase_1.44.0.tar.gz
###
##############################################################################
##############################################################################


* using log directory ‘/home/biocbuild/bbs-3.21-data-experiment/meat/geneLenDataBase.Rcheck’
* using R version 4.5.1 (2025-06-13)
* using platform: x86_64-pc-linux-gnu
* R was compiled by
    gcc (Ubuntu 13.3.0-6ubuntu2~24.04) 13.3.0
    GNU Fortran (Ubuntu 13.3.0-6ubuntu2~24.04) 13.3.0
* running under: Ubuntu 24.04.2 LTS
* using session charset: UTF-8
* checking for file ‘geneLenDataBase/DESCRIPTION’ ... OK
* this is package ‘geneLenDataBase’ version ‘1.44.0’
* package encoding: UTF-8
* checking package namespace information ... OK
* checking package dependencies ... OK
* checking if this is a source package ... OK
* checking if there is a namespace ... OK
* checking for hidden files and directories ... OK
* checking for portable file names ... OK
* checking for sufficient/correct file permissions ... OK
* checking whether package ‘geneLenDataBase’ can be installed ... OK
* checking installed package size ... INFO
  installed size is 100.0Mb
  sub-directories of 1Mb or more:
    data  99.5Mb
* checking package directory ... OK
* checking DESCRIPTION meta-information ... OK
* checking top-level files ... OK
* checking for left-over files ... OK
* checking index information ... OK
* checking package subdirectories ... OK
* checking code files for non-ASCII characters ... OK
* checking R files for syntax errors ... OK
* checking whether the package can be loaded ... OK
* checking whether the package can be loaded with stated dependencies ... OK
* checking whether the package can be unloaded cleanly ... OK
* checking whether the namespace can be loaded with stated dependencies ... OK
* checking whether the namespace can be unloaded cleanly ... OK
* checking loading without being on the library search path ... OK
* checking dependencies in R code ... NOTE
Unexported object imported by a ':::' call: ‘txdbmaker:::.UCSC_TXNAME2GENEID_MAPDEFS’
  See the note in ?`:::` about the use of this operator.
* checking S3 generic/method consistency ... OK
* checking replacement functions ... OK
* checking foreign function calls ... OK
* checking R code for possible problems ... OK
* checking Rd files ... OK
* checking Rd metadata ... OK
* checking Rd cross-references ... OK
* checking for missing documentation entries ... OK
* checking for code/documentation mismatches ... OK
* checking Rd \usage sections ... OK
* checking Rd contents ... OK
* checking for unstated dependencies in examples ... OK
* checking contents of ‘data’ directory ... OK
* checking data for non-ASCII characters ... OK
* checking data for ASCII and uncompressed saves ... OK
* checking examples ... OK
Examples with CPU (user + system) or elapsed time > 5s
                  user system elapsed
supportedGeneIDs 3.286  0.189   6.062
* checking PDF version of manual ... OK
* DONE

Status: 1 NOTE
See
  ‘/home/biocbuild/bbs-3.21-data-experiment/meat/geneLenDataBase.Rcheck/00check.log’
for details.


Installation output

geneLenDataBase.Rcheck/00install.out

##############################################################################
##############################################################################
###
### Running command:
###
###   /home/biocbuild/bbs-3.21-bioc/R/bin/R CMD INSTALL geneLenDataBase
###
##############################################################################
##############################################################################


* installing to library ‘/home/biocbuild/bbs-3.21-bioc/R/site-library’
* installing *source* package ‘geneLenDataBase’ ...
** this is package ‘geneLenDataBase’ version ‘1.44.0’
** using staged installation
** R
** data
** byte-compile and prepare package for lazy loading
** help
*** installing help indices
** building package indices
** testing if installed package can be loaded from temporary location
** testing if installed package can be loaded from final location
** testing if installed package keeps a record of temporary installation path
* DONE (geneLenDataBase)

Tests output


Example timings

geneLenDataBase.Rcheck/geneLenDataBase-Ex.timings

nameusersystemelapsed
anoCar1.ensGene.LENGTH0.0760.0030.079
anoCar1.genscan.LENGTH0.0460.0030.048
anoCar1.xenoRefGene.LENGTH1.5430.0081.552
anoGam1.ensGene.LENGTH0.0580.0010.060
anoGam1.geneid.LENGTH0.0440.0000.044
anoGam1.genscan.LENGTH0.0390.0030.042
apiMel1.genscan.LENGTH0.0370.0020.039
apiMel2.ensGene.LENGTH0.0930.0010.095
apiMel2.geneid.LENGTH0.0450.0040.049
apiMel2.genscan.LENGTH0.0340.0000.034
aplCal1.xenoRefGene.LENGTH0.4810.0040.486
bosTau2.geneSymbol.LENGTH0.0430.0000.044
bosTau2.geneid.LENGTH0.3100.0190.330
bosTau2.genscan.LENGTH0.0780.0090.087
bosTau2.refGene.LENGTH0.0390.0010.041
bosTau2.sgpGene.LENGTH0.1030.0020.105
bosTau3.ensGene.LENGTH0.1070.0010.108
bosTau3.geneSymbol.LENGTH0.0370.0000.037
bosTau3.geneid.LENGTH0.1210.0000.122
bosTau3.genscan.LENGTH0.0730.0020.075
bosTau3.refGene.LENGTH0.0330.0010.034
bosTau3.sgpGene.LENGTH0.0910.0010.092
bosTau4.ensGene.LENGTH0.0950.0030.098
bosTau4.geneSymbol.LENGTH0.0360.0010.037
bosTau4.genscan.LENGTH0.0670.0020.069
bosTau4.nscanGene.LENGTH0.0320.0010.033
bosTau4.refGene.LENGTH0.0330.0020.035
braFlo1.xenoRefGene.LENGTH0.5010.0020.514
caeJap1.xenoRefGene.LENGTH0.4820.0080.495
caePb1.xenoRefGene.LENGTH0.4710.0020.476
caePb2.xenoRefGene.LENGTH0.4050.0110.415
caeRem2.xenoRefGene.LENGTH0.3620.0000.363
caeRem3.xenoRefGene.LENGTH0.3280.0050.333
calJac1.genscan.LENGTH0.0790.0000.080
calJac1.nscanGene.LENGTH0.1020.0020.104
calJac1.xenoRefGene.LENGTH0.6460.0070.653
canFam1.ensGene.LENGTH0.0980.0020.100
canFam1.geneSymbol.LENGTH0.0060.0000.006
canFam1.genscan.LENGTH0.0580.0000.059
canFam1.nscanGene.LENGTH0.0560.0010.058
canFam1.refGene.LENGTH0.0040.0000.005
canFam1.xenoRefGene.LENGTH0.5430.0020.546
canFam2.ensGene.LENGTH0.0870.0000.088
canFam2.geneSymbol.LENGTH0.0050.0000.005
canFam2.genscan.LENGTH0.0540.0000.054
canFam2.nscanGene.LENGTH0.1280.0030.131
canFam2.refGene.LENGTH0.0040.0000.005
canFam2.xenoRefGene.LENGTH0.5850.0020.587
cavPor3.ensGene.LENGTH0.0870.0020.090
cavPor3.genscan.LENGTH0.0980.0010.099
cavPor3.nscanGene.LENGTH0.0650.0000.065
cavPor3.xenoRefGene.LENGTH0.5870.0040.592
cb1.xenoRefGene.LENGTH0.3910.0020.393
cb3.xenoRefGene.LENGTH0.3270.0010.329
ce2.geneSymbol.LENGTH0.0690.0000.071
ce2.geneid.LENGTH0.0590.0000.059
ce2.refGene.LENGTH0.0640.0000.064
ce4.geneSymbol.LENGTH0.0680.0010.069
ce4.refGene.LENGTH0.0590.0000.060
ce4.xenoRefGene.LENGTH0.0810.0020.081
ce6.ensGene.LENGTH0.0940.0050.099
ce6.geneSymbol.LENGTH0.0670.0000.068
ce6.refGene.LENGTH0.0620.0020.063
ce6.xenoRefGene.LENGTH0.0800.0010.082
ci1.geneSymbol.LENGTH0.0050.0010.006
ci1.refGene.LENGTH0.0040.0010.005
ci1.xenoRefGene.LENGTH0.1710.0010.171
ci2.ensGene.LENGTH0.1760.0080.184
ci2.geneSymbol.LENGTH0.0050.0000.005
ci2.refGene.LENGTH0.0040.0000.004
ci2.xenoRefGene.LENGTH0.2460.0000.246
danRer3.ensGene.LENGTH0.0940.0000.094
danRer3.geneSymbol.LENGTH0.0500.0000.051
danRer3.refGene.LENGTH0.0470.0000.047
danRer4.ensGene.LENGTH0.1030.0020.106
danRer4.geneSymbol.LENGTH0.0500.0010.050
danRer4.genscan.LENGTH0.0560.0010.056
danRer4.nscanGene.LENGTH0.0850.0000.086
danRer4.refGene.LENGTH0.0480.0000.048
danRer5.ensGene.LENGTH0.1060.0010.107
danRer5.geneSymbol.LENGTH0.0480.0000.048
danRer5.refGene.LENGTH0.0420.0000.043
danRer5.vegaGene.LENGTH0.0480.0010.047
danRer5.vegaPseudoGene.LENGTH0.0010.0010.003
danRer6.ensGene.LENGTH0.1060.0020.108
danRer6.geneSymbol.LENGTH0.0510.0000.052
danRer6.refGene.LENGTH0.0440.0010.045
danRer6.xenoRefGene.LENGTH0.4940.0040.497
dm1.geneSymbol.LENGTH0.0660.0000.067
dm1.genscan.LENGTH0.0250.0000.026
dm1.refGene.LENGTH0.0570.0010.059
dm2.geneSymbol.LENGTH0.0630.0000.065
dm2.geneid.LENGTH0.0380.0000.039
dm2.genscan.LENGTH0.0230.0000.024
dm2.nscanGene.LENGTH0.0500.0020.051
dm2.refGene.LENGTH0.0570.0010.059
dm3.geneSymbol.LENGTH0.0700.0010.071
dm3.nscanPasaGene.LENGTH0.0520.0010.054
dm3.refGene.LENGTH0.0650.0010.067
downloadLengthFromUCSC000
dp2.genscan.LENGTH0.0320.0000.032
dp2.xenoRefGene.LENGTH0.1990.0000.200
dp3.geneid.LENGTH0.0390.0020.041
dp3.genscan.LENGTH0.0260.0010.027
dp3.xenoRefGene.LENGTH0.1100.0000.111
droAna1.geneid.LENGTH0.0740.0000.074
droAna1.genscan.LENGTH0.0200.0030.023
droAna1.xenoRefGene.LENGTH0.2110.0030.215
droAna2.genscan.LENGTH0.0500.0000.052
droAna2.xenoRefGene.LENGTH0.2860.0040.291
droEre1.genscan.LENGTH0.030.000.03
droEre1.xenoRefGene.LENGTH0.3610.0010.363
droGri1.genscan.LENGTH0.0390.0000.039
droGri1.xenoRefGene.LENGTH0.2610.0000.262
droMoj1.geneid.LENGTH0.2360.0060.241
droMoj1.genscan.LENGTH0.0520.0010.054
droMoj1.xenoRefGene.LENGTH0.2020.0020.204
droMoj2.genscan.LENGTH0.0360.0000.036
droMoj2.xenoRefGene.LENGTH0.2570.0020.260
droPer1.genscan.LENGTH0.0380.0000.038
droPer1.xenoRefGene.LENGTH0.2540.0010.256
droSec1.genscan.LENGTH0.0280.0010.028
droSec1.xenoRefGene.LENGTH0.2490.0010.251
droSim1.geneid.LENGTH0.0360.0020.038
droSim1.genscan.LENGTH0.0230.0000.024
droSim1.xenoRefGene.LENGTH0.2200.0020.221
droVir1.geneid.LENGTH0.1660.0010.168
droVir1.genscan.LENGTH0.0400.0000.041
droVir1.xenoRefGene.LENGTH0.2260.0010.227
droVir2.genscan.LENGTH0.0360.0080.045
droVir2.xenoRefGene.LENGTH0.2470.0080.254
droYak1.geneid.LENGTH0.0440.0000.044
droYak1.genscan.LENGTH0.0300.0000.031
droYak1.xenoRefGene.LENGTH0.2070.0030.210
droYak2.genscan.LENGTH0.0270.0000.028
droYak2.xenoRefGene.LENGTH0.2580.0010.260
equCab1.geneSymbol.LENGTH0.0050.0000.006
equCab1.geneid.LENGTH0.0920.0000.092
equCab1.nscanGene.LENGTH0.0360.0010.038
equCab1.refGene.LENGTH0.0030.0010.005
equCab1.sgpGene.LENGTH0.0640.0040.068
equCab2.ensGene.LENGTH0.0960.0010.097
equCab2.geneSymbol.LENGTH0.0050.0010.007
equCab2.nscanGene.LENGTH0.2950.0060.301
equCab2.refGene.LENGTH0.0070.0020.008
equCab2.xenoRefGene.LENGTH0.5520.0000.553
felCat3.ensGene.LENGTH0.1140.0000.115
felCat3.geneSymbol.LENGTH0.0040.0000.004
felCat3.geneid.LENGTH0.5180.0020.521
felCat3.genscan.LENGTH0.1170.0030.121
felCat3.nscanGene.LENGTH1.0680.1471.215
felCat3.refGene.LENGTH0.0030.0000.004
felCat3.sgpGene.LENGTH0.1360.0010.137
felCat3.xenoRefGene.LENGTH1.0070.0031.010
fr1.ensGene.LENGTH0.0690.0010.070
fr1.genscan.LENGTH0.0510.0000.052
fr2.ensGene.LENGTH0.1180.0000.119
galGal2.ensGene.LENGTH0.0540.0000.054
galGal2.geneSymbol.LENGTH0.0140.0010.016
galGal2.geneid.LENGTH0.0360.0020.036
galGal2.genscan.LENGTH0.0460.0000.047
galGal2.refGene.LENGTH0.0140.0000.014
galGal2.sgpGene.LENGTH0.0400.0000.041
galGal3.ensGene.LENGTH0.0690.0000.068
galGal3.geneSymbol.LENGTH0.0140.0000.015
galGal3.genscan.LENGTH0.0430.0010.043
galGal3.nscanGene.LENGTH0.0660.0010.066
galGal3.refGene.LENGTH0.0120.0010.014
galGal3.xenoRefGene.LENGTH0.4230.0050.430
gasAcu1.ensGene.LENGTH0.0840.0020.086
gasAcu1.nscanGene.LENGTH0.0870.0010.089
hg16.acembly.LENGTH0.3430.0020.345
hg16.ensGene.LENGTH0.0670.0030.070
hg16.exoniphy.LENGTH0.2300.0080.240
hg16.geneSymbol.LENGTH0.1010.0010.102
hg16.geneid.LENGTH0.0450.0020.047
hg16.genscan.LENGTH0.0610.0010.062
hg16.knownGene.LENGTH0.1180.0010.119
hg16.refGene.LENGTH0.0940.0030.096
hg16.sgpGene.LENGTH0.0540.0000.053
hg17.acembly.LENGTH0.4020.0110.412
hg17.acescan.LENGTH0.0090.0010.011
hg17.ccdsGene.LENGTH0.0240.0000.024
hg17.ensGene.LENGTH0.1010.0040.105
hg17.exoniphy.LENGTH0.3820.0020.383
hg17.geneSymbol.LENGTH0.1020.0020.105
hg17.geneid.LENGTH0.0740.0010.075
hg17.genscan.LENGTH0.0530.0030.057
hg17.knownGene.LENGTH0.1080.0010.109
hg17.refGene.LENGTH0.0970.0010.099
hg17.sgpGene.LENGTH0.0700.0010.070
hg17.vegaGene.LENGTH1.0310.0041.035
hg17.vegaPseudoGene.LENGTH0.0160.0000.016
hg17.xenoRefGene.LENGTH0.1640.0020.166
hg18.acembly.LENGTH0.4030.0010.403
hg18.acescan.LENGTH0.0090.0000.009
hg18.ccdsGene.LENGTH0.0310.0000.032
hg18.ensGene.LENGTH0.1690.0000.169
hg18.exoniphy.LENGTH0.4120.0020.413
hg18.geneSymbol.LENGTH0.0970.0010.097
hg18.geneid.LENGTH0.0750.0000.074
hg18.genscan.LENGTH0.0580.0010.058
hg18.knownGene.LENGTH0.1490.0010.150
hg18.knownGeneOld3.LENGTH0.0650.0010.065
hg18.refGene.LENGTH0.0880.0010.089
hg18.sgpGene.LENGTH0.0680.0010.070
hg18.sibGene.LENGTH0.3400.0010.342
hg18.xenoRefGene.LENGTH0.3350.0010.337
hg19.ccdsGene.LENGTH0.0380.0010.039
hg19.ensGene.LENGTH0.2810.0010.281
hg19.exoniphy.LENGTH0.4130.0010.413
hg19.geneSymbol.LENGTH0.0960.0010.097
hg19.knownGene.LENGTH0.1670.0020.168
hg19.nscanGene.LENGTH0.1530.0010.153
hg19.refGene.LENGTH0.0980.0010.098
hg19.xenoRefGene.LENGTH0.3570.0040.362
loxAfr3.xenoRefGene.LENGTH0.7840.0020.786
mm7.ensGene.LENGTH0.1150.0020.117
mm7.geneSymbol.LENGTH0.0890.0020.090
mm7.geneid.LENGTH0.0770.0000.076
mm7.genscan.LENGTH0.2650.0010.266
mm7.knownGene.LENGTH0.0910.0010.092
mm7.refGene.LENGTH0.080.000.08
mm7.sgpGene.LENGTH0.0760.0020.079
mm7.xenoRefGene.LENGTH0.3090.0030.312
mm8.ccdsGene.LENGTH0.0230.0000.023
mm8.ensGene.LENGTH0.0770.0020.080
mm8.geneSymbol.LENGTH0.0850.0010.086
mm8.geneid.LENGTH0.0720.0000.072
mm8.genscan.LENGTH0.0550.0020.058
mm8.knownGene.LENGTH0.0850.0020.088
mm8.nscanGene.LENGTH0.0580.0020.060
mm8.refGene.LENGTH0.0790.0010.079
mm8.sgpGene.LENGTH0.0670.0020.070
mm8.sibGene.LENGTH0.4460.0070.454
mm8.xenoRefGene.LENGTH0.3340.0020.337
mm9.acembly.LENGTH0.3030.0010.304
mm9.ccdsGene.LENGTH0.0270.0020.029
mm9.ensGene.LENGTH0.1410.0010.143
mm9.exoniphy.LENGTH0.4180.0020.420
mm9.geneSymbol.LENGTH0.0870.0000.086
mm9.geneid.LENGTH0.0820.0000.082
mm9.genscan.LENGTH0.0600.0020.061
mm9.knownGene.LENGTH0.1060.0000.105
mm9.nscanGene.LENGTH0.1740.0010.175
mm9.refGene.LENGTH0.0820.0010.084
mm9.sgpGene.LENGTH0.0780.0020.081
mm9.xenoRefGene.LENGTH0.3490.0030.352
monDom1.genscan.LENGTH0.0620.0000.061
monDom4.ensGene.LENGTH0.0710.0000.071
monDom4.geneSymbol.LENGTH0.0040.0000.003
monDom4.genscan.LENGTH0.050.000.05
monDom4.nscanGene.LENGTH0.050.000.05
monDom4.refGene.LENGTH0.0040.0000.003
monDom4.xenoRefGene.LENGTH0.3570.0010.359
monDom5.ensGene.LENGTH0.1090.0010.112
monDom5.geneSymbol.LENGTH0.0040.0000.004
monDom5.genscan.LENGTH0.0510.0020.054
monDom5.nscanGene.LENGTH0.1080.0010.111
monDom5.refGene.LENGTH0.0020.0000.004
monDom5.xenoRefGene.LENGTH0.5950.0040.602
ornAna1.ensGene.LENGTH0.0900.0010.091
ornAna1.geneSymbol.LENGTH0.0020.0010.002
ornAna1.refGene.LENGTH0.0010.0010.002
ornAna1.xenoRefGene.LENGTH0.5310.0010.533
oryLat2.ensGene.LENGTH0.0730.0030.077
oryLat2.geneSymbol.LENGTH0.0030.0010.004
oryLat2.refGene.LENGTH0.0040.0000.003
oryLat2.xenoRefGene.LENGTH0.4780.0020.479
panTro1.ensGene.LENGTH0.6370.0020.638
panTro1.geneid.LENGTH0.0470.0020.049
panTro1.genscan.LENGTH0.0590.0010.060
panTro1.xenoRefGene.LENGTH0.1090.0000.110
panTro2.ensGene.LENGTH0.1090.0010.109
panTro2.geneSymbol.LENGTH0.0940.0020.096
panTro2.genscan.LENGTH0.060.000.06
panTro2.nscanGene.LENGTH0.0600.0020.063
panTro2.refGene.LENGTH0.0980.0010.098
panTro2.xenoRefGene.LENGTH0.5090.0020.511
petMar1.xenoRefGene.LENGTH0.2560.0000.257
ponAbe2.ensGene.LENGTH0.0840.0020.087
ponAbe2.geneSymbol.LENGTH0.0110.0010.013
ponAbe2.genscan.LENGTH0.0620.0000.062
ponAbe2.nscanGene.LENGTH0.0580.0010.059
ponAbe2.refGene.LENGTH0.0110.0010.011
ponAbe2.xenoRefGene.LENGTH0.6240.0030.628
priPac1.xenoRefGene.LENGTH0.3380.0010.338
rheMac2.ensGene.LENGTH0.1240.0010.125
rheMac2.geneSymbol.LENGTH0.0050.0000.006
rheMac2.geneid.LENGTH0.0710.0000.071
rheMac2.nscanGene.LENGTH0.0620.0000.062
rheMac2.refGene.LENGTH0.0050.0010.005
rheMac2.sgpGene.LENGTH0.0720.0010.072
rheMac2.xenoRefGene.LENGTH0.4520.0020.454
rn3.ensGene.LENGTH0.0960.0020.098
rn3.geneSymbol.LENGTH0.0520.0010.053
rn3.geneid.LENGTH0.0510.0010.052
rn3.genscan.LENGTH0.0620.0010.064
rn3.knownGene.LENGTH0.0220.0010.023
rn3.nscanGene.LENGTH0.240.000.24
rn3.refGene.LENGTH0.0490.0010.050
rn3.sgpGene.LENGTH0.0560.0020.058
rn3.xenoRefGene.LENGTH0.4990.0020.501
rn4.ensGene.LENGTH0.1360.0020.138
rn4.geneSymbol.LENGTH0.0510.0000.051
rn4.geneid.LENGTH0.0850.0010.086
rn4.genscan.LENGTH0.0610.0010.063
rn4.knownGene.LENGTH0.0240.0000.024
rn4.nscanGene.LENGTH0.0530.0010.054
rn4.refGene.LENGTH0.0470.0010.048
rn4.sgpGene.LENGTH0.0790.0020.082
rn4.xenoRefGene.LENGTH0.3060.0030.309
sacCer1.ensGene.LENGTH0.0180.0000.017
sacCer2.ensGene.LENGTH0.0150.0010.016
strPur1.geneSymbol.LENGTH0.0030.0010.004
strPur1.genscan.LENGTH0.0600.0020.062
strPur1.refGene.LENGTH0.0040.0000.005
strPur1.xenoRefGene.LENGTH0.4390.0010.439
strPur2.geneSymbol.LENGTH0.0020.0020.004
strPur2.genscan.LENGTH0.1030.0010.104
strPur2.refGene.LENGTH0.0020.0020.004
strPur2.xenoRefGene.LENGTH0.6520.0010.653
supportedGeneIDs3.2860.1896.062
supportedGenomes0.2550.0071.107
taeGut1.ensGene.LENGTH0.0570.0030.059
taeGut1.geneSymbol.LENGTH0.0010.0020.003
taeGut1.genscan.LENGTH0.030.000.03
taeGut1.nscanGene.LENGTH0.0230.0000.023
taeGut1.refGene.LENGTH0.0020.0000.002
taeGut1.xenoRefGene.LENGTH0.4000.0030.403
tetNig1.ensGene.LENGTH0.0800.0010.081
tetNig1.geneid.LENGTH0.0560.0020.058
tetNig1.genscan.LENGTH0.0460.0010.047
tetNig1.nscanGene.LENGTH0.0600.0040.064
tetNig2.ensGene.LENGTH0.0640.0020.066
unfactor0.0030.0030.006
xenTro1.genscan.LENGTH0.0760.0010.077
xenTro2.ensGene.LENGTH0.0840.0020.086
xenTro2.geneSymbol.LENGTH0.0290.0000.029
xenTro2.genscan.LENGTH0.0680.0010.068
xenTro2.refGene.LENGTH0.0260.0020.028