| Back to Build/check report for BioC 3.21 experimental data |
|
This page was generated on 2025-10-16 15:01 -0400 (Thu, 16 Oct 2025).
| Hostname | OS | Arch (*) | R version | Installed pkgs |
|---|---|---|---|---|
| nebbiolo1 | Linux (Ubuntu 24.04.3 LTS) | x86_64 | 4.5.1 (2025-06-13) -- "Great Square Root" | 4833 |
| Click on any hostname to see more info about the system (e.g. compilers) (*) as reported by 'uname -p', except on Windows and Mac OS X | ||||
| Package 369/432 | Hostname | OS / Arch | INSTALL | BUILD | CHECK | ||||||||
| SingleCellMultiModal 1.20.0 (landing page) Marcel Ramos
| nebbiolo1 | Linux (Ubuntu 24.04.3 LTS) / x86_64 | OK | OK | OK | ||||||||
|
To the developers/maintainers of the SingleCellMultiModal package: - Use the following Renviron settings to reproduce errors and warnings. - If 'R CMD check' started to fail recently on the Linux builder(s) over a missing dependency, add the missing dependency to 'Suggests:' in your DESCRIPTION file. See Renviron.bioc for more information. |
| Package: SingleCellMultiModal |
| Version: 1.20.0 |
| Command: /home/biocbuild/bbs-3.21-bioc/R/bin/R CMD check --install=check:SingleCellMultiModal.install-out.txt --library=/home/biocbuild/bbs-3.21-bioc/R/site-library --timings SingleCellMultiModal_1.20.0.tar.gz |
| StartedAt: 2025-10-16 12:57:14 -0400 (Thu, 16 Oct 2025) |
| EndedAt: 2025-10-16 13:08:14 -0400 (Thu, 16 Oct 2025) |
| EllapsedTime: 659.5 seconds |
| RetCode: 0 |
| Status: OK |
| CheckDir: SingleCellMultiModal.Rcheck |
| Warnings: 0 |
##############################################################################
##############################################################################
###
### Running command:
###
### /home/biocbuild/bbs-3.21-bioc/R/bin/R CMD check --install=check:SingleCellMultiModal.install-out.txt --library=/home/biocbuild/bbs-3.21-bioc/R/site-library --timings SingleCellMultiModal_1.20.0.tar.gz
###
##############################################################################
##############################################################################
* using log directory ‘/home/biocbuild/bbs-3.21-data-experiment/meat/SingleCellMultiModal.Rcheck’
* using R version 4.5.1 (2025-06-13)
* using platform: x86_64-pc-linux-gnu
* R was compiled by
gcc (Ubuntu 13.3.0-6ubuntu2~24.04) 13.3.0
GNU Fortran (Ubuntu 13.3.0-6ubuntu2~24.04) 13.3.0
* running under: Ubuntu 24.04.3 LTS
* using session charset: UTF-8
* checking for file ‘SingleCellMultiModal/DESCRIPTION’ ... OK
* checking extension type ... Package
* this is package ‘SingleCellMultiModal’ version ‘1.20.0’
* package encoding: UTF-8
* checking package namespace information ... OK
* checking package dependencies ... OK
* checking if this is a source package ... OK
* checking if there is a namespace ... OK
* checking for hidden files and directories ... OK
* checking for portable file names ... OK
* checking for sufficient/correct file permissions ... OK
* checking whether package ‘SingleCellMultiModal’ can be installed ... OK
* checking installed package size ... OK
* checking package directory ... OK
* checking ‘build’ directory ... OK
* checking DESCRIPTION meta-information ... OK
* checking top-level files ... OK
* checking for left-over files ... OK
* checking index information ... OK
* checking package subdirectories ... OK
* checking code files for non-ASCII characters ... OK
* checking R files for syntax errors ... OK
* checking whether the package can be loaded ... OK
* checking whether the package can be loaded with stated dependencies ... OK
* checking whether the package can be unloaded cleanly ... OK
* checking whether the namespace can be loaded with stated dependencies ... OK
* checking whether the namespace can be unloaded cleanly ... OK
* checking loading without being on the library search path ... OK
* checking dependencies in R code ... OK
* checking S3 generic/method consistency ... OK
* checking replacement functions ... OK
* checking foreign function calls ... OK
* checking R code for possible problems ... OK
* checking Rd files ... OK
* checking Rd metadata ... OK
* checking Rd cross-references ... NOTE
Non-topic package-anchored link(s) in Rd file 'scmmCache.Rd':
‘[tools:userdir]{R_user_dir}’
See section 'Cross-references' in the 'Writing R Extensions' manual.
* checking for missing documentation entries ... OK
* checking for code/documentation mismatches ... OK
* checking Rd \usage sections ... OK
* checking Rd contents ... OK
* checking for unstated dependencies in examples ... OK
* checking files in ‘vignettes’ ... OK
* checking examples ... OK
Examples with CPU (user + system) or elapsed time > 5s
user system elapsed
CITEseq 11.787 1.973 14.254
* checking for unstated dependencies in vignettes ... OK
* checking package vignettes ... OK
* checking re-building of vignette outputs ... OK
* checking PDF version of manual ... OK
* DONE
Status: 1 NOTE
See
‘/home/biocbuild/bbs-3.21-data-experiment/meat/SingleCellMultiModal.Rcheck/00check.log’
for details.
SingleCellMultiModal.Rcheck/00install.out
############################################################################## ############################################################################## ### ### Running command: ### ### /home/biocbuild/bbs-3.21-bioc/R/bin/R CMD INSTALL SingleCellMultiModal ### ############################################################################## ############################################################################## * installing to library ‘/home/biocbuild/bbs-3.21-bioc/R/site-library’ * installing *source* package ‘SingleCellMultiModal’ ... ** this is package ‘SingleCellMultiModal’ version ‘1.20.0’ ** using staged installation ** R ** inst ** byte-compile and prepare package for lazy loading ** help *** installing help indices ** building package indices ** installing vignettes ** testing if installed package can be loaded from temporary location ** testing if installed package can be loaded from final location ** testing if installed package keeps a record of temporary installation path * DONE (SingleCellMultiModal)
SingleCellMultiModal.Rcheck/SingleCellMultiModal-Ex.timings
| name | user | system | elapsed | |
| CITEseq | 11.787 | 1.973 | 14.254 | |
| GTseq | 0.814 | 0.095 | 1.118 | |
| SCoPE2 | 1.036 | 0.133 | 1.432 | |
| SingleCellMultiModal-package | 0.006 | 0.005 | 0.011 | |
| SingleCellMultiModal | 3.969 | 0.234 | 4.922 | |
| ontomap | 0.003 | 0.000 | 0.004 | |
| scMultiome | 1.944 | 0.253 | 2.492 | |
| scNMT | 3.171 | 0.227 | 3.896 | |
| scmmCache | 0.001 | 0.001 | 0.001 | |
| seqFISH | 1.582 | 0.158 | 2.021 | |