Back to Multiple platform build/check report for BioC 3.21:   simplified   long
ABCDEFGHIJKLMNOPQR[S]TUVWXYZ

This page was generated on 2025-10-16 11:39 -0400 (Thu, 16 Oct 2025).

HostnameOSArch (*)R versionInstalled pkgs
nebbiolo1Linux (Ubuntu 24.04.3 LTS)x86_644.5.1 (2025-06-13) -- "Great Square Root" 4833
merida1macOS 12.7.6 Montereyx86_644.5.1 RC (2025-06-05 r88288) -- "Great Square Root" 4614
kjohnson1macOS 13.7.5 Venturaarm644.5.1 Patched (2025-06-14 r88325) -- "Great Square Root" 4555
kunpeng2Linux (openEuler 24.03 LTS)aarch64R Under development (unstable) (2025-02-19 r87757) -- "Unsuffered Consequences" 4586
Click on any hostname to see more info about the system (e.g. compilers)      (*) as reported by 'uname -p', except on Windows and Mac OS X

Package 2122/2341HostnameOS / ArchINSTALLBUILDCHECKBUILD BIN
structToolbox 1.20.0  (landing page)
Gavin Rhys Lloyd
Snapshot Date: 2025-10-13 13:40 -0400 (Mon, 13 Oct 2025)
git_url: https://git.bioconductor.org/packages/structToolbox
git_branch: RELEASE_3_21
git_last_commit: 1668438
git_last_commit_date: 2025-04-15 11:54:06 -0400 (Tue, 15 Apr 2025)
nebbiolo1Linux (Ubuntu 24.04.3 LTS) / x86_64  OK    OK    OK  UNNEEDED, same version is already published
merida1macOS 12.7.6 Monterey / x86_64  OK    OK    OK    OK  UNNEEDED, same version is already published
kjohnson1macOS 13.7.5 Ventura / arm64  OK    OK    OK    OK  UNNEEDED, same version is already published
kunpeng2Linux (openEuler 24.03 LTS) / aarch64  OK    OK    OK  


CHECK results for structToolbox on merida1

To the developers/maintainers of the structToolbox package:
- Allow up to 24 hours (and sometimes 48 hours) for your latest push to git@git.bioconductor.org:packages/structToolbox.git to reflect on this report. See Troubleshooting Build Report for more information.
- Use the following Renviron settings to reproduce errors and warnings.
- If 'R CMD check' started to fail recently on the Linux builder(s) over a missing dependency, add the missing dependency to 'Suggests:' in your DESCRIPTION file. See Renviron.bioc for more information.

raw results


Summary

Package: structToolbox
Version: 1.20.0
Command: /Library/Frameworks/R.framework/Resources/bin/R CMD check --install=check:structToolbox.install-out.txt --library=/Library/Frameworks/R.framework/Resources/library --no-vignettes --timings structToolbox_1.20.0.tar.gz
StartedAt: 2025-10-14 11:15:33 -0400 (Tue, 14 Oct 2025)
EndedAt: 2025-10-14 11:34:30 -0400 (Tue, 14 Oct 2025)
EllapsedTime: 1136.8 seconds
RetCode: 0
Status:   OK  
CheckDir: structToolbox.Rcheck
Warnings: 0

Command output

##############################################################################
##############################################################################
###
### Running command:
###
###   /Library/Frameworks/R.framework/Resources/bin/R CMD check --install=check:structToolbox.install-out.txt --library=/Library/Frameworks/R.framework/Resources/library --no-vignettes --timings structToolbox_1.20.0.tar.gz
###
##############################################################################
##############################################################################


* using log directory ‘/Users/biocbuild/bbs-3.21-bioc/meat/structToolbox.Rcheck’
* using R version 4.5.1 RC (2025-06-05 r88288)
* using platform: x86_64-apple-darwin20
* R was compiled by
    Apple clang version 14.0.0 (clang-1400.0.29.202)
    GNU Fortran (GCC) 14.2.0
* running under: macOS Monterey 12.7.6
* using session charset: UTF-8
* using option ‘--no-vignettes’
* checking for file ‘structToolbox/DESCRIPTION’ ... OK
* checking extension type ... Package
* this is package ‘structToolbox’ version ‘1.20.0’
* package encoding: UTF-8
* checking package namespace information ... OK
* checking package dependencies ... OK
* checking if this is a source package ... OK
* checking if there is a namespace ... OK
* checking for hidden files and directories ... OK
* checking for portable file names ... OK
* checking for sufficient/correct file permissions ... OK
* checking whether package ‘structToolbox’ can be installed ... OK
* checking installed package size ... OK
* checking package directory ... OK
* checking ‘build’ directory ... OK
* checking DESCRIPTION meta-information ... OK
* checking top-level files ... OK
* checking for left-over files ... OK
* checking index information ... OK
* checking package subdirectories ... OK
* checking code files for non-ASCII characters ... OK
* checking R files for syntax errors ... OK
* checking whether the package can be loaded ... OK
* checking whether the package can be loaded with stated dependencies ... OK
* checking whether the package can be unloaded cleanly ... OK
* checking whether the namespace can be loaded with stated dependencies ... OK
* checking whether the namespace can be unloaded cleanly ... OK
* checking dependencies in R code ... OK
* checking S3 generic/method consistency ... OK
* checking replacement functions ... OK
* checking foreign function calls ... OK
* checking R code for possible problems ... OK
* checking Rd files ... OK
* checking Rd metadata ... OK
* checking Rd cross-references ... OK
* checking for missing documentation entries ... OK
* checking for code/documentation mismatches ... OK
* checking Rd \usage sections ... OK
* checking Rd contents ... OK
* checking for unstated dependencies in examples ... OK
* checking R/sysdata.rda ... OK
* checking files in ‘vignettes’ ... OK
* checking examples ... OK
Examples with CPU (user + system) or elapsed time > 5s
                            user system elapsed
fold_change_int           37.559  0.106  37.953
fold_change               27.823  0.107  28.736
fisher_exact              23.697  0.092  25.170
fs_line                   14.064  0.168  14.254
forward_selection_by_rank 13.974  0.141  14.212
kfoldxcv_grid              9.565  0.057  11.069
grid_search_1d             8.709  0.143   9.909
compare_dist               8.498  0.226   8.744
kfold_xval                 8.252  0.050   9.385
confounders_lsq_barchart   7.442  0.035   7.566
confounders_lsq_boxplot    7.061  0.027   7.103
confounders_clsq           6.637  0.028   6.674
* checking for unstated dependencies in ‘tests’ ... OK
* checking tests ...
  Running ‘testthat.R’
 OK
* checking for unstated dependencies in vignettes ... OK
* checking package vignettes ... OK
* checking running R code from vignettes ... SKIPPED
* checking re-building of vignette outputs ... SKIPPED
* checking PDF version of manual ... OK
* DONE

Status: OK


Installation output

structToolbox.Rcheck/00install.out

##############################################################################
##############################################################################
###
### Running command:
###
###   /Library/Frameworks/R.framework/Resources/bin/R CMD INSTALL structToolbox
###
##############################################################################
##############################################################################


* installing to library ‘/Library/Frameworks/R.framework/Versions/4.5-x86_64/Resources/library’
* installing *source* package ‘structToolbox’ ...
** this is package ‘structToolbox’ version ‘1.20.0’
** using staged installation
** R
** inst
** byte-compile and prepare package for lazy loading
** help
*** installing help indices
** building package indices
** installing vignettes
** testing if installed package can be loaded from temporary location
** testing if installed package can be loaded from final location
** testing if installed package keeps a record of temporary installation path
* DONE (structToolbox)

Tests output

structToolbox.Rcheck/tests/testthat.Rout


R version 4.5.1 RC (2025-06-05 r88288) -- "Great Square Root"
Copyright (C) 2025 The R Foundation for Statistical Computing
Platform: x86_64-apple-darwin20

R is free software and comes with ABSOLUTELY NO WARRANTY.
You are welcome to redistribute it under certain conditions.
Type 'license()' or 'licence()' for distribution details.

R is a collaborative project with many contributors.
Type 'contributors()' for more information and
'citation()' on how to cite R or R packages in publications.

Type 'demo()' for some demos, 'help()' for on-line help, or
'help.start()' for an HTML browser interface to help.
Type 'q()' to quit R.

> library(testthat)
> library(ggplot2)
> library(structToolbox)
Loading required package: struct
> 
> test_check("structToolbox")
[ FAIL 0 | WARN 6 | SKIP 0 | PASS 166 ]

[ FAIL 0 | WARN 6 | SKIP 0 | PASS 166 ]
> 
> proc.time()
   user  system elapsed 
450.905   3.830 472.994 

Example timings

structToolbox.Rcheck/structToolbox-Ex.timings

nameusersystemelapsed
ANOVA0.4450.0100.456
AUC4.5200.1804.708
DFA0.4770.0020.481
DatasetExperiment_boxplot2.7600.0592.825
DatasetExperiment_dist2.0530.0962.153
DatasetExperiment_factor_boxplot0.8030.0180.823
DatasetExperiment_heatmap1.2950.0361.333
HCA0.1220.0010.123
HSD0.5990.0170.623
HSDEM0.6940.0280.724
MTBLS79_DatasetExperiment0.0010.0000.001
OPLSDA0.0200.0010.021
OPLSR0.0190.0000.020
PCA0.0080.0000.008
PLSDA0.0230.0000.024
PLSR0.0230.0010.024
SVM0.0520.0020.053
as_data_frame0.2510.0020.252
autoscale0.1620.0010.163
balanced_accuracy3.8460.0283.882
blank_filter0.7000.0250.727
blank_filter_hist0.0020.0010.002
bootstrap0.0230.0010.023
calculate0.0110.0010.012
chart_plot0.0640.0030.066
classical_lsq0.7020.0070.711
compare_dist8.4980.2268.744
confounders_clsq6.6370.0286.674
confounders_lsq_barchart7.4420.0357.566
confounders_lsq_boxplot7.0610.0277.103
constant_sum_norm0.0170.0010.018
corr_coef0.5720.0030.577
dfa_scores_plot2.0740.0252.102
dratio_filter0.5800.0130.593
equal_split0.2380.0020.240
feature_boxplot0.0550.0010.056
feature_profile1.1160.0131.130
feature_profile_array1.3850.0091.396
filter_by_name0.070.000.07
filter_na_count2.4660.0822.552
filter_smeta0.1550.0000.157
fisher_exact23.697 0.09225.170
fold_change27.823 0.10728.736
fold_change_int37.559 0.10637.953
fold_change_plot0.0160.0010.017
forward_selection_by_rank13.974 0.14114.212
fs_line14.064 0.16814.254
glog_opt_plot1.3590.0071.372
glog_transform0.7050.0040.712
grid_search_1d8.7090.1439.909
gs_line0.0020.0000.002
hca_dendrogram0.0010.0010.002
kfold_xval8.2520.0509.385
kfoldxcv_grid 9.565 0.05711.069
kfoldxcv_metric0.0010.0000.001
knn_impute0.0300.0010.038
kw_p_hist0.0010.0000.001
kw_rank_sum0.1790.0010.199
linear_model0.0750.0010.083
log_transform0.0180.0010.022
mean_centre0.0080.0000.008
mean_of_medians0.2940.0020.329
mixed_effect0.3980.0040.476
model_apply0.0560.0020.074
model_predict0.1320.0010.149
model_reverse0.0620.0010.075
model_train0.1290.0020.170
mv_boxplot1.0650.0091.191
mv_feature_filter0.2750.0040.296
mv_feature_filter_hist0.0020.0010.002
mv_histogram0.8870.0091.046
mv_sample_filter0.0190.0010.021
mv_sample_filter_hist0.0010.0000.001
nroot_transform0.0170.0010.021
ontology_cache0.0010.0010.001
pairs_filter0.0250.0010.037
pareto_scale0.1380.0020.151
pca_biplot0.0380.0010.043
pca_correlation_plot0.0150.0010.017
pca_dstat_plot0.0230.0010.023
pca_loadings_plot0.0240.0000.028
pca_scores_plot1.8080.0141.899
pca_scree_plot0.0160.0000.017
permutation_test0.0250.0010.026
permutation_test_plot0.0060.0000.007
permute_sample_order0.0180.0000.020
pls_regcoeff_plot1.1470.0091.208
pls_scores_plot2.1990.0112.302
pls_vip_plot1.2120.0091.277
plsda_feature_importance_plot2.1780.0172.287
plsda_predicted_plot1.5110.0101.601
plsda_roc_plot3.2510.0183.458
plsr_cook_dist0.0160.0010.019
plsr_prediction_plot0.0150.0000.016
plsr_qq_plot0.0160.0010.017
plsr_residual_hist0.0160.0000.018
pqn_norm0.9030.0071.012
pqn_norm_hist0.0020.0000.002
prop_na0.0260.0010.035
r_squared0.0020.0010.014
resample0.0390.0010.041
resample_chart0.0060.0010.007
rsd_filter0.0340.0010.045
rsd_filter_hist0.0020.0010.004
run0.0710.0010.079
sb_corr0.0690.0030.082
scatter_chart1.3650.0081.440
split_data0.0150.0000.016
stratified_split0.2630.0030.266
svm_plot_2d1.8850.0211.913
tSNE0.0580.0020.061
tSNE_scatter0.0160.0010.017
tic_chart0.8670.0090.881
ttest0.0580.0010.060
vec_norm0.0020.0010.002
wilcox_p_hist0.0010.0000.002
wilcox_test0.0480.0010.049