Back to Multiple platform build/check report for BioC 3.21: simplified long |
|
This page was generated on 2025-10-16 11:41 -0400 (Thu, 16 Oct 2025).
Hostname | OS | Arch (*) | R version | Installed pkgs |
---|---|---|---|---|
nebbiolo1 | Linux (Ubuntu 24.04.3 LTS) | x86_64 | 4.5.1 (2025-06-13) -- "Great Square Root" | 4833 |
merida1 | macOS 12.7.6 Monterey | x86_64 | 4.5.1 RC (2025-06-05 r88288) -- "Great Square Root" | 4614 |
kjohnson1 | macOS 13.7.5 Ventura | arm64 | 4.5.1 Patched (2025-06-14 r88325) -- "Great Square Root" | 4555 |
kunpeng2 | Linux (openEuler 24.03 LTS) | aarch64 | R Under development (unstable) (2025-02-19 r87757) -- "Unsuffered Consequences" | 4586 |
Click on any hostname to see more info about the system (e.g. compilers) (*) as reported by 'uname -p', except on Windows and Mac OS X |
Package 2077/2341 | Hostname | OS / Arch | INSTALL | BUILD | CHECK | BUILD BIN | ||||||||
spiky 1.14.0 (landing page) Tim Triche
| nebbiolo1 | Linux (Ubuntu 24.04.3 LTS) / x86_64 | OK | OK | OK | ![]() | ||||||||
merida1 | macOS 12.7.6 Monterey / x86_64 | OK | OK | OK | OK | ![]() | ||||||||
kjohnson1 | macOS 13.7.5 Ventura / arm64 | OK | OK | OK | OK | ![]() | ||||||||
kunpeng2 | Linux (openEuler 24.03 LTS) / aarch64 | OK | OK | OK | ||||||||||
To the developers/maintainers of the spiky package: - Allow up to 24 hours (and sometimes 48 hours) for your latest push to git@git.bioconductor.org:packages/spiky.git to reflect on this report. See Troubleshooting Build Report for more information. - Use the following Renviron settings to reproduce errors and warnings. - If 'R CMD check' started to fail recently on the Linux builder(s) over a missing dependency, add the missing dependency to 'Suggests:' in your DESCRIPTION file. See Renviron.bioc for more information. - See Martin Grigorov's blog post for how to debug Linux ARM64 related issues on a x86_64 host. |
Package: spiky |
Version: 1.14.0 |
Command: /home/biocbuild/R/R/bin/R CMD check --install=check:spiky.install-out.txt --library=/home/biocbuild/R/R/site-library --no-vignettes --timings spiky_1.14.0.tar.gz |
StartedAt: 2025-10-14 14:45:21 -0000 (Tue, 14 Oct 2025) |
EndedAt: 2025-10-14 14:53:44 -0000 (Tue, 14 Oct 2025) |
EllapsedTime: 502.6 seconds |
RetCode: 0 |
Status: OK |
CheckDir: spiky.Rcheck |
Warnings: 0 |
############################################################################## ############################################################################## ### ### Running command: ### ### /home/biocbuild/R/R/bin/R CMD check --install=check:spiky.install-out.txt --library=/home/biocbuild/R/R/site-library --no-vignettes --timings spiky_1.14.0.tar.gz ### ############################################################################## ############################################################################## * using log directory ‘/home/biocbuild/bbs-3.21-bioc/meat/spiky.Rcheck’ * using R Under development (unstable) (2025-02-19 r87757) * using platform: aarch64-unknown-linux-gnu * R was compiled by aarch64-unknown-linux-gnu-gcc (GCC) 14.2.0 GNU Fortran (GCC) 14.2.0 * running under: openEuler 24.03 (LTS-SP1) * using session charset: UTF-8 * using option ‘--no-vignettes’ * checking for file ‘spiky/DESCRIPTION’ ... OK * checking extension type ... Package * this is package ‘spiky’ version ‘1.14.0’ * package encoding: UTF-8 * checking package namespace information ... OK * checking package dependencies ... OK * checking if this is a source package ... OK * checking if there is a namespace ... OK * checking for hidden files and directories ... OK * checking for portable file names ... OK * checking for sufficient/correct file permissions ... OK * checking whether package ‘spiky’ can be installed ... OK * checking installed package size ... INFO installed size is 16.4Mb sub-directories of 1Mb or more: data 3.2Mb extdata 12.9Mb * checking package directory ... OK * checking ‘build’ directory ... OK * checking DESCRIPTION meta-information ... OK * checking top-level files ... OK * checking for left-over files ... OK * checking index information ... OK * checking package subdirectories ... OK * checking code files for non-ASCII characters ... OK * checking R files for syntax errors ... OK * checking whether the package can be loaded ... OK * checking whether the package can be loaded with stated dependencies ... OK * checking whether the package can be unloaded cleanly ... OK * checking whether the namespace can be loaded with stated dependencies ... OK * checking whether the namespace can be unloaded cleanly ... OK * checking loading without being on the library search path ... OK * checking dependencies in R code ... OK * checking S3 generic/method consistency ... OK * checking replacement functions ... OK * checking foreign function calls ... OK * checking R code for possible problems ... NOTE .toGRs: warning in grep("(chrom|seqnames|start|end)1", colnames(x), val = TRUE): partial argument match of 'val' to 'value' .toGRs: warning in grep("(chrom|seqnames|start|end)2", colnames(x), val = TRUE): partial argument match of 'val' to 'value' * checking Rd files ... OK * checking Rd metadata ... OK * checking Rd cross-references ... OK * checking for missing documentation entries ... OK * checking for code/documentation mismatches ... OK * checking Rd \usage sections ... OK * checking Rd contents ... OK * checking for unstated dependencies in examples ... OK * checking contents of ‘data’ directory ... OK * checking data for non-ASCII characters ... OK * checking LazyData ... OK * checking data for ASCII and uncompressed saves ... OK * checking files in ‘vignettes’ ... OK * checking examples ... OK Examples with CPU (user + system) or elapsed time > 5s user system elapsed scan_genomic_contigs 22.819 0.634 27.388 scan_genomic_bedpe 20.685 0.411 24.405 model_bam_standards 8.357 0.092 10.414 scan_spike_bedpe 5.923 0.064 7.722 bin_pmol 4.003 0.508 5.824 * checking for unstated dependencies in vignettes ... OK * checking package vignettes ... OK * checking running R code from vignettes ... SKIPPED * checking re-building of vignette outputs ... SKIPPED * checking PDF version of manual ... OK * DONE Status: 1 NOTE See ‘/home/biocbuild/bbs-3.21-bioc/meat/spiky.Rcheck/00check.log’ for details.
spiky.Rcheck/00install.out
############################################################################## ############################################################################## ### ### Running command: ### ### /home/biocbuild/R/R/bin/R CMD INSTALL spiky ### ############################################################################## ############################################################################## * installing to library ‘/home/biocbuild/R/R-devel_2025-02-19/site-library’ * installing *source* package ‘spiky’ ... ** this is package ‘spiky’ version ‘1.14.0’ ** using staged installation ** R ** data *** moving datasets to lazyload DB ** inst ** byte-compile and prepare package for lazy loading ** help *** installing help indices ** building package indices ** installing vignettes ** testing if installed package can be loaded from temporary location ** testing if installed package can be loaded from final location ** testing if installed package keeps a record of temporary installation path * DONE (spiky)
spiky.Rcheck/spiky-Ex.timings
name | user | system | elapsed | |
add_frag_info | 0.179 | 0.012 | 0.191 | |
bam_to_bins | 0.178 | 0.012 | 0.190 | |
bin_pmol | 4.003 | 0.508 | 5.824 | |
covg_to_df | 0.114 | 0.000 | 0.114 | |
find_spike_contigs | 0.032 | 0.000 | 0.066 | |
generate_spike_fasta | 0.133 | 0.001 | 0.224 | |
get_base_name | 0.014 | 0.000 | 0.013 | |
get_binned_coverage | 0.283 | 0.000 | 0.452 | |
get_merged_gr | 0.075 | 0.004 | 0.079 | |
get_spike_depth | 0.333 | 0.008 | 0.341 | |
get_spiked_coverage | 0.260 | 0.016 | 0.277 | |
kmax | 0.055 | 0.000 | 0.088 | |
kmers | 0.036 | 0.000 | 0.069 | |
methylation_specificity | 0.115 | 0.000 | 0.231 | |
model_bam_standards | 8.357 | 0.092 | 10.414 | |
model_glm_pmol | 0.075 | 0.000 | 0.090 | |
predict_pmol | 2.500 | 0.448 | 3.749 | |
process_spikes | 0.244 | 0.024 | 0.522 | |
read_bedpe | 0 | 0 | 0 | |
scan_genomic_bedpe | 20.685 | 0.411 | 24.405 | |
scan_genomic_contigs | 22.819 | 0.634 | 27.388 | |
scan_methylation_specificity | 0.04 | 0.00 | 0.04 | |
scan_spike_bedpe | 5.923 | 0.064 | 7.722 | |
scan_spike_contigs | 0.450 | 0.028 | 0.482 | |
scan_spike_counts | 0.065 | 0.004 | 0.068 | |
scan_spiked_bam | 0.559 | 0.040 | 1.009 | |
seqinfo_from_header | 0.12 | 0.02 | 0.14 | |
spike_bland_altman_plot | 0.415 | 0.036 | 0.452 | |
spike_counts | 0.069 | 0.012 | 0.080 | |
tile_bins | 0.050 | 0.004 | 0.054 | |