Back to Multiple platform build/check report for BioC 3.21: simplified long |
|
This page was generated on 2025-10-16 11:38 -0400 (Thu, 16 Oct 2025).
Hostname | OS | Arch (*) | R version | Installed pkgs |
---|---|---|---|---|
nebbiolo1 | Linux (Ubuntu 24.04.3 LTS) | x86_64 | 4.5.1 (2025-06-13) -- "Great Square Root" | 4833 |
merida1 | macOS 12.7.6 Monterey | x86_64 | 4.5.1 RC (2025-06-05 r88288) -- "Great Square Root" | 4614 |
kjohnson1 | macOS 13.7.5 Ventura | arm64 | 4.5.1 Patched (2025-06-14 r88325) -- "Great Square Root" | 4555 |
kunpeng2 | Linux (openEuler 24.03 LTS) | aarch64 | R Under development (unstable) (2025-02-19 r87757) -- "Unsuffered Consequences" | 4586 |
Click on any hostname to see more info about the system (e.g. compilers) (*) as reported by 'uname -p', except on Windows and Mac OS X |
Package 2056/2341 | Hostname | OS / Arch | INSTALL | BUILD | CHECK | BUILD BIN | ||||||||
spatialDE 1.14.1 (landing page) Gabriele Sales
| nebbiolo1 | Linux (Ubuntu 24.04.3 LTS) / x86_64 | OK | OK | OK | ![]() | ||||||||
merida1 | macOS 12.7.6 Monterey / x86_64 | OK | OK | OK | OK | ![]() | ||||||||
kjohnson1 | macOS 13.7.5 Ventura / arm64 | OK | OK | OK | OK | ![]() | ||||||||
kunpeng2 | Linux (openEuler 24.03 LTS) / aarch64 | OK | ERROR | skipped | ||||||||||
To the developers/maintainers of the spatialDE package: - Allow up to 24 hours (and sometimes 48 hours) for your latest push to git@git.bioconductor.org:packages/spatialDE.git to reflect on this report. See Troubleshooting Build Report for more information. - Use the following Renviron settings to reproduce errors and warnings. - If 'R CMD check' started to fail recently on the Linux builder(s) over a missing dependency, add the missing dependency to 'Suggests:' in your DESCRIPTION file. See Renviron.bioc for more information. |
Package: spatialDE |
Version: 1.14.1 |
Command: /home/biocbuild/bbs-3.21-bioc/R/bin/R CMD check --install=check:spatialDE.install-out.txt --library=/home/biocbuild/bbs-3.21-bioc/R/site-library --timings spatialDE_1.14.1.tar.gz |
StartedAt: 2025-10-16 03:52:04 -0400 (Thu, 16 Oct 2025) |
EndedAt: 2025-10-16 03:59:05 -0400 (Thu, 16 Oct 2025) |
EllapsedTime: 420.4 seconds |
RetCode: 0 |
Status: OK |
CheckDir: spatialDE.Rcheck |
Warnings: 0 |
############################################################################## ############################################################################## ### ### Running command: ### ### /home/biocbuild/bbs-3.21-bioc/R/bin/R CMD check --install=check:spatialDE.install-out.txt --library=/home/biocbuild/bbs-3.21-bioc/R/site-library --timings spatialDE_1.14.1.tar.gz ### ############################################################################## ############################################################################## * using log directory ‘/home/biocbuild/bbs-3.21-bioc/meat/spatialDE.Rcheck’ * using R version 4.5.1 (2025-06-13) * using platform: x86_64-pc-linux-gnu * R was compiled by gcc (Ubuntu 13.3.0-6ubuntu2~24.04) 13.3.0 GNU Fortran (Ubuntu 13.3.0-6ubuntu2~24.04) 13.3.0 * running under: Ubuntu 24.04.3 LTS * using session charset: UTF-8 * checking for file ‘spatialDE/DESCRIPTION’ ... OK * this is package ‘spatialDE’ version ‘1.14.1’ * package encoding: UTF-8 * checking package namespace information ... OK * checking package dependencies ... OK * checking if this is a source package ... OK * checking if there is a namespace ... OK * checking for hidden files and directories ... OK * checking for portable file names ... OK * checking for sufficient/correct file permissions ... OK * checking whether package ‘spatialDE’ can be installed ... NOTE Found the following notes/warnings: Non-staged installation was used See ‘/home/biocbuild/bbs-3.21-bioc/meat/spatialDE.Rcheck/00install.out’ for details. * checking installed package size ... OK * checking package directory ... OK * checking ‘build’ directory ... OK * checking DESCRIPTION meta-information ... OK * checking top-level files ... OK * checking for left-over files ... OK * checking index information ... OK * checking package subdirectories ... OK * checking code files for non-ASCII characters ... OK * checking R files for syntax errors ... OK * checking whether the package can be loaded ... OK * checking whether the package can be loaded with stated dependencies ... OK * checking whether the package can be unloaded cleanly ... OK * checking whether the namespace can be loaded with stated dependencies ... OK * checking whether the namespace can be unloaded cleanly ... OK * checking loading without being on the library search path ... OK * checking dependencies in R code ... OK * checking S3 generic/method consistency ... OK * checking replacement functions ... OK * checking foreign function calls ... OK * checking R code for possible problems ... OK * checking Rd files ... OK * checking Rd metadata ... OK * checking Rd cross-references ... NOTE Found the following Rd file(s) with Rd \link{} targets missing package anchors: mockSVG.Rd: SpatialExperiment-class modelSearch.Rd: SpatialExperiment-class multiGenePlots.Rd: SpatialExperiment-class spatialDE.Rd: SpatialExperiment-class spatialPatterns.Rd: SpatialExperiment-class Please provide package anchors for all Rd \link{} targets not in the package itself and the base packages. * checking for missing documentation entries ... OK * checking for code/documentation mismatches ... OK * checking Rd \usage sections ... OK * checking Rd contents ... OK * checking for unstated dependencies in examples ... OK * checking contents of ‘data’ directory ... OK * checking data for non-ASCII characters ... OK * checking data for ASCII and uncompressed saves ... OK * checking line endings in shell scripts ... OK * checking files in ‘vignettes’ ... OK * checking examples ... OK Examples with CPU (user + system) or elapsed time > 5s user system elapsed spatial_patterns 56.567 1.664 56.330 FSV_sig 6.765 1.593 8.032 * checking for unstated dependencies in ‘tests’ ... OK * checking tests ... Running ‘testthat.R’ OK * checking for unstated dependencies in vignettes ... OK * checking package vignettes ... OK * checking re-building of vignette outputs ... OK * checking PDF version of manual ... OK * DONE Status: 2 NOTEs See ‘/home/biocbuild/bbs-3.21-bioc/meat/spatialDE.Rcheck/00check.log’ for details.
spatialDE.Rcheck/00install.out
############################################################################## ############################################################################## ### ### Running command: ### ### /home/biocbuild/bbs-3.21-bioc/R/bin/R CMD INSTALL spatialDE ### ############################################################################## ############################################################################## * installing to library ‘/home/biocbuild/bbs-3.21-bioc/R/site-library’ * installing *source* package ‘spatialDE’ ... ** this is package ‘spatialDE’ version ‘1.14.1’ ** using non-staged installation via StagedInstall field ** R ** data ** inst ** byte-compile and prepare package for lazy loading ** help *** installing help indices ** building package indices ** installing vignettes ** testing if installed package can be loaded * DONE (spatialDE)
spatialDE.Rcheck/tests/testthat.Rout
R version 4.5.1 (2025-06-13) -- "Great Square Root" Copyright (C) 2025 The R Foundation for Statistical Computing Platform: x86_64-pc-linux-gnu R is free software and comes with ABSOLUTELY NO WARRANTY. You are welcome to redistribute it under certain conditions. Type 'license()' or 'licence()' for distribution details. R is a collaborative project with many contributors. Type 'contributors()' for more information and 'citation()' on how to cite R or R packages in publications. Type 'demo()' for some demos, 'help()' for on-line help, or 'help.start()' for an HTML browser interface to help. Type 'q()' to quit R. > library(testthat) > library(spatialDE) > > test_check("spatialDE") Loading required package: SingleCellExperiment Loading required package: SummarizedExperiment Loading required package: MatrixGenerics Loading required package: matrixStats Attaching package: 'MatrixGenerics' The following objects are masked from 'package:matrixStats': colAlls, colAnyNAs, colAnys, colAvgsPerRowSet, colCollapse, colCounts, colCummaxs, colCummins, colCumprods, colCumsums, colDiffs, colIQRDiffs, colIQRs, colLogSumExps, colMadDiffs, colMads, colMaxs, colMeans2, colMedians, colMins, colOrderStats, colProds, colQuantiles, colRanges, colRanks, colSdDiffs, colSds, colSums2, colTabulates, colVarDiffs, colVars, colWeightedMads, colWeightedMeans, colWeightedMedians, colWeightedSds, colWeightedVars, rowAlls, rowAnyNAs, rowAnys, rowAvgsPerColSet, rowCollapse, rowCounts, rowCummaxs, rowCummins, rowCumprods, rowCumsums, rowDiffs, rowIQRDiffs, rowIQRs, rowLogSumExps, rowMadDiffs, rowMads, rowMaxs, rowMeans2, rowMedians, rowMins, rowOrderStats, rowProds, rowQuantiles, rowRanges, rowRanks, rowSdDiffs, rowSds, rowSums2, rowTabulates, rowVarDiffs, rowVars, rowWeightedMads, rowWeightedMeans, rowWeightedMedians, rowWeightedSds, rowWeightedVars Loading required package: GenomicRanges Loading required package: stats4 Loading required package: BiocGenerics Loading required package: generics Attaching package: 'generics' The following objects are masked from 'package:base': as.difftime, as.factor, as.ordered, intersect, is.element, setdiff, setequal, union Attaching package: 'BiocGenerics' The following objects are masked from 'package:stats': IQR, mad, sd, var, xtabs The following objects are masked from 'package:base': Filter, Find, Map, Position, Reduce, anyDuplicated, aperm, append, as.data.frame, basename, cbind, colnames, dirname, do.call, duplicated, eval, evalq, get, grep, grepl, is.unsorted, lapply, mapply, match, mget, order, paste, pmax, pmax.int, pmin, pmin.int, rank, rbind, rownames, sapply, saveRDS, table, tapply, unique, unsplit, which.max, which.min Loading required package: S4Vectors Attaching package: 'S4Vectors' The following object is masked from 'package:utils': findMatches The following objects are masked from 'package:base': I, expand.grid, unname Loading required package: IRanges Loading required package: GenomeInfoDb Loading required package: Biobase Welcome to Bioconductor Vignettes contain introductory material; view with 'browseVignettes()'. To cite Bioconductor, see 'citation("Biobase")', and for packages 'citation("pkgname")'. Attaching package: 'Biobase' The following object is masked from 'package:MatrixGenerics': rowMedians The following objects are masked from 'package:matrixStats': anyMissing, rowMedians Models: 0%| | 0/10 [00:00<?, ?it/s] 0%| | 0/100 [00:00<?, ?it/s][A 55%|█████▌ | 55/100 [00:00<00:00, 546.59it/s][A [A Models: 10%|█ | 1/10 [00:00<00:01, 5.38it/s] 0%| | 0/100 [00:00<?, ?it/s][A 46%|████▌ | 46/100 [00:00<00:00, 449.69it/s][A 91%|█████████ | 91/100 [00:00<00:00, 409.51it/s][A [A Models: 20%|██ | 2/10 [00:00<00:01, 4.53it/s] 0%| | 0/100 [00:00<?, ?it/s][A 42%|████▏ | 42/100 [00:00<00:00, 416.78it/s][A 84%|████████▍ | 84/100 [00:00<00:00, 394.32it/s][A [A Models: 30%|███ | 3/10 [00:00<00:01, 4.20it/s] 0%| | 0/100 [00:00<?, ?it/s][A 41%|████ | 41/100 [00:00<00:00, 398.91it/s][A 81%|████████ | 81/100 [00:00<00:00, 378.84it/s][A [A Models: 40%|████ | 4/10 [00:00<00:01, 3.99it/s] 0%| | 0/100 [00:00<?, ?it/s][A 38%|███▊ | 38/100 [00:00<00:00, 371.39it/s][A 76%|███████▌ | 76/100 [00:00<00:00, 367.30it/s][A [A Models: 50%|█████ | 5/10 [00:01<00:01, 3.83it/s] 0%| | 0/100 [00:00<?, ?it/s][A 36%|███▌ | 36/100 [00:00<00:00, 359.83it/s][A 72%|███████▏ | 72/100 [00:00<00:00, 358.16it/s][A [A Models: 60%|██████ | 6/10 [00:01<00:01, 3.72it/s] 0%| | 0/100 [00:00<?, ?it/s][A 38%|███▊ | 38/100 [00:00<00:00, 370.39it/s][A 76%|███████▌ | 76/100 [00:00<00:00, 365.94it/s][A [A Models: 70%|███████ | 7/10 [00:01<00:00, 3.69it/s] 0%| | 0/100 [00:00<?, ?it/s][A 38%|███▊ | 38/100 [00:00<00:00, 370.90it/s][A 76%|███████▌ | 76/100 [00:00<00:00, 371.13it/s][A [A Models: 80%|████████ | 8/10 [00:02<00:00, 3.67it/s] 0%| | 0/100 [00:00<?, ?it/s][A 41%|████ | 41/100 [00:00<00:00, 407.99it/s][A 82%|████████▏ | 82/100 [00:00<00:00, 317.78it/s][A [A Models: 90%|█████████ | 9/10 [00:02<00:00, 3.55it/s] 0%| | 0/100 [00:00<?, ?it/s][A 43%|████▎ | 43/100 [00:00<00:00, 424.84it/s][A 86%|████████▌ | 86/100 [00:00<00:00, 415.91it/s][A [A Models: 100%|██████████| 10/10 [00:02<00:00, 3.70it/s] Models: 100%|██████████| 10/10 [00:02<00:00, 3.82it/s] Models: 0%| | 0/10 [00:00<?, ?it/s] 0%| | 0/100 [00:00<?, ?it/s][A 55%|█████▌ | 55/100 [00:00<00:00, 545.31it/s][A [A Models: 10%|█ | 1/10 [00:00<00:01, 5.36it/s] 0%| | 0/100 [00:00<?, ?it/s][A 43%|████▎ | 43/100 [00:00<00:00, 424.03it/s][A 86%|████████▌ | 86/100 [00:00<00:00, 404.94it/s][A [A Models: 20%|██ | 2/10 [00:00<00:01, 4.46it/s] 0%| | 0/100 [00:00<?, ?it/s][A 40%|████ | 40/100 [00:00<00:00, 396.80it/s][A 80%|████████ | 80/100 [00:00<00:00, 380.87it/s][A [A Models: 30%|███ | 3/10 [00:00<00:01, 4.09it/s] 0%| | 0/100 [00:00<?, ?it/s][A 39%|███▉ | 39/100 [00:00<00:00, 382.56it/s][A 78%|███████▊ | 78/100 [00:00<00:00, 364.71it/s][A [A Models: 40%|████ | 4/10 [00:00<00:01, 3.90it/s] 0%| | 0/100 [00:00<?, ?it/s][A 39%|███▉ | 39/100 [00:00<00:00, 383.19it/s][A 78%|███████▊ | 78/100 [00:00<00:00, 362.87it/s][A [A Models: 50%|█████ | 5/10 [00:01<00:01, 3.78it/s] 0%| | 0/100 [00:00<?, ?it/s][A 39%|███▉ | 39/100 [00:00<00:00, 388.67it/s][A 78%|███████▊ | 78/100 [00:00<00:00, 368.42it/s][A [A Models: 60%|██████ | 6/10 [00:01<00:01, 3.73it/s] 0%| | 0/100 [00:00<?, ?it/s][A 39%|███▉ | 39/100 [00:00<00:00, 389.44it/s][A 78%|███████▊ | 78/100 [00:00<00:00, 375.86it/s][A [A Models: 70%|███████ | 7/10 [00:01<00:00, 3.73it/s] 0%| | 0/100 [00:00<?, ?it/s][A 39%|███▉ | 39/100 [00:00<00:00, 384.76it/s][A 78%|███████▊ | 78/100 [00:00<00:00, 372.22it/s][A [A Models: 80%|████████ | 8/10 [00:02<00:00, 3.72it/s] 0%| | 0/100 [00:00<?, ?it/s][A 39%|███▉ | 39/100 [00:00<00:00, 382.83it/s][A 78%|███████▊ | 78/100 [00:00<00:00, 377.02it/s][A [A Models: 90%|█████████ | 9/10 [00:02<00:00, 3.74it/s] 0%| | 0/100 [00:00<?, ?it/s][A 42%|████▏ | 42/100 [00:00<00:00, 412.77it/s][A 84%|████████▍ | 84/100 [00:00<00:00, 403.72it/s][A [A Models: 100%|██████████| 10/10 [00:02<00:00, 3.81it/s] Models: 100%|██████████| 10/10 [00:02<00:00, 3.86it/s] /home/biocbuild/.cache/R/basilisk/1.20.0/spatialDE/1.14.1/env/lib/python3.11/site-packages/pandas/core/internals/blocks.py:351: RuntimeWarning: invalid value encountered in log result = func(self.values, **kwargs) Models: 0%| | 0/10 [00:00<?, ?it/s] 0%| | 0/100 [00:00<?, ?it/s][A 56%|█████▌ | 56/100 [00:00<00:00, 551.80it/s][A [A Models: 10%|█ | 1/10 [00:00<00:01, 5.57it/s] 0%| | 0/100 [00:00<?, ?it/s][A 46%|████▌ | 46/100 [00:00<00:00, 451.73it/s][A 92%|█████████▏| 92/100 [00:00<00:00, 422.87it/s][A [A Models: 20%|██ | 2/10 [00:00<00:01, 4.68it/s] 0%| | 0/100 [00:00<?, ?it/s][A 41%|████ | 41/100 [00:00<00:00, 405.24it/s][A 82%|████████▏ | 82/100 [00:00<00:00, 389.62it/s][A [A Models: 30%|███ | 3/10 [00:00<00:01, 4.29it/s] 0%| | 0/100 [00:00<?, ?it/s][A 39%|███▉ | 39/100 [00:00<00:00, 388.20it/s][A 78%|███████▊ | 78/100 [00:00<00:00, 378.13it/s][A [A Models: 40%|████ | 4/10 [00:00<00:01, 4.06it/s] 0%| | 0/100 [00:00<?, ?it/s][A 39%|███▉ | 39/100 [00:00<00:00, 384.31it/s][A 78%|███████▊ | 78/100 [00:00<00:00, 370.11it/s][A [A Models: 50%|█████ | 5/10 [00:01<00:01, 3.93it/s] 0%| | 0/100 [00:00<?, ?it/s][A 38%|███▊ | 38/100 [00:00<00:00, 374.87it/s][A 76%|███████▌ | 76/100 [00:00<00:00, 362.96it/s][A [A Models: 60%|██████ | 6/10 [00:01<00:01, 3.82it/s] 0%| | 0/100 [00:00<?, ?it/s][A 40%|████ | 40/100 [00:00<00:00, 393.44it/s][A 80%|████████ | 80/100 [00:00<00:00, 377.33it/s][A [A Models: 70%|███████ | 7/10 [00:01<00:00, 3.80it/s] 0%| | 0/100 [00:00<?, ?it/s][A 40%|████ | 40/100 [00:00<00:00, 391.60it/s][A 80%|████████ | 80/100 [00:00<00:00, 376.78it/s][A [A Models: 80%|████████ | 8/10 [00:02<00:00, 3.79it/s] 0%| | 0/100 [00:00<?, ?it/s][A 42%|████▏ | 42/100 [00:00<00:00, 414.31it/s][A 84%|████████▍ | 84/100 [00:00<00:00, 390.84it/s][A [A Models: 90%|█████████ | 9/10 [00:02<00:00, 3.82it/s] 0%| | 0/100 [00:00<?, ?it/s][A 44%|████▍ | 44/100 [00:00<00:00, 432.40it/s][A 88%|████████▊ | 88/100 [00:00<00:00, 415.84it/s][A [A Models: 100%|██████████| 10/10 [00:02<00:00, 3.92it/s] Models: 100%|██████████| 10/10 [00:02<00:00, 3.98it/s] Models: 0%| | 0/10 [00:00<?, ?it/s] 0%| | 0/100 [00:00<?, ?it/s][A 55%|█████▌ | 55/100 [00:00<00:00, 546.24it/s][A [A Models: 10%|█ | 1/10 [00:00<00:01, 5.48it/s] 0%| | 0/100 [00:00<?, ?it/s][A 45%|████▌ | 45/100 [00:00<00:00, 444.56it/s][A 90%|█████████ | 90/100 [00:00<00:00, 418.25it/s][A [A Models: 20%|██ | 2/10 [00:00<00:01, 4.62it/s] 0%| | 0/100 [00:00<?, ?it/s][A 39%|███▉ | 39/100 [00:00<00:00, 382.51it/s][A 78%|███████▊ | 78/100 [00:00<00:00, 366.97it/s][A [A Models: 30%|███ | 3/10 [00:00<00:01, 4.14it/s] 0%| | 0/100 [00:00<?, ?it/s][A 38%|███▊ | 38/100 [00:00<00:00, 373.27it/s][A 76%|███████▌ | 76/100 [00:00<00:00, 360.95it/s][A [A Models: 40%|████ | 4/10 [00:00<00:01, 3.91it/s] 0%| | 0/100 [00:00<?, ?it/s][A 38%|███▊ | 38/100 [00:00<00:00, 370.99it/s][A 76%|███████▌ | 76/100 [00:00<00:00, 357.51it/s][A [A Models: 50%|█████ | 5/10 [00:01<00:01, 3.78it/s] 0%| | 0/100 [00:00<?, ?it/s][A 38%|███▊ | 38/100 [00:00<00:00, 373.95it/s][A 76%|███████▌ | 76/100 [00:00<00:00, 358.53it/s][A [A Models: 60%|██████ | 6/10 [00:01<00:01, 3.70it/s] 0%| | 0/100 [00:00<?, ?it/s][A 38%|███▊ | 38/100 [00:00<00:00, 373.58it/s][A 76%|███████▌ | 76/100 [00:00<00:00, 357.78it/s][A [A Models: 70%|███████ | 7/10 [00:01<00:00, 3.66it/s] 0%| | 0/100 [00:00<?, ?it/s][A 38%|███▊ | 38/100 [00:00<00:00, 379.09it/s][A 76%|███████▌ | 76/100 [00:00<00:00, 358.66it/s][A [A Models: 80%|████████ | 8/10 [00:02<00:00, 3.64it/s] 0%| | 0/100 [00:00<?, ?it/s][A 40%|████ | 40/100 [00:00<00:00, 395.23it/s][A 80%|████████ | 80/100 [00:00<00:00, 368.83it/s][A [A Models: 90%|█████████ | 9/10 [00:02<00:00, 3.66it/s] 0%| | 0/100 [00:00<?, ?it/s][A 44%|████▍ | 44/100 [00:00<00:00, 431.95it/s][A 88%|████████▊ | 88/100 [00:00<00:00, 411.75it/s][A [A Models: 100%|██████████| 10/10 [00:02<00:00, 3.79it/s] Models: 100%|██████████| 10/10 [00:02<00:00, 3.84it/s] Models: 0%| | 0/10 [00:00<?, ?it/s] 0%| | 0/100 [00:00<?, ?it/s][A 56%|█████▌ | 56/100 [00:00<00:00, 552.82it/s][A [A Models: 10%|█ | 1/10 [00:00<00:01, 5.55it/s] 0%| | 0/100 [00:00<?, ?it/s][A 45%|████▌ | 45/100 [00:00<00:00, 449.86it/s][A 90%|█████████ | 90/100 [00:00<00:00, 420.05it/s][A [A Models: 20%|██ | 2/10 [00:00<00:01, 4.66it/s] 0%| | 0/100 [00:00<?, ?it/s][A 41%|████ | 41/100 [00:00<00:00, 403.01it/s][A 82%|████████▏ | 82/100 [00:00<00:00, 383.04it/s][A [A Models: 30%|███ | 3/10 [00:00<00:01, 4.24it/s] 0%| | 0/100 [00:00<?, ?it/s][A 39%|███▉ | 39/100 [00:00<00:00, 384.78it/s][A 78%|███████▊ | 78/100 [00:00<00:00, 369.87it/s][A [A Models: 40%|████ | 4/10 [00:00<00:01, 3.99it/s] 0%| | 0/100 [00:00<?, ?it/s][A 38%|███▊ | 38/100 [00:00<00:00, 372.01it/s][A 76%|███████▌ | 76/100 [00:00<00:00, 361.61it/s][A [A Models: 50%|█████ | 5/10 [00:01<00:01, 3.85it/s] 0%| | 0/100 [00:00<?, ?it/s][A 38%|███▊ | 38/100 [00:00<00:00, 376.93it/s][A 76%|███████▌ | 76/100 [00:00<00:00, 366.72it/s][A [A Models: 60%|██████ | 6/10 [00:01<00:01, 3.78it/s] 0%| | 0/100 [00:00<?, ?it/s][A 40%|████ | 40/100 [00:00<00:00, 398.19it/s][A 80%|████████ | 80/100 [00:00<00:00, 379.55it/s][A [A Models: 70%|███████ | 7/10 [00:01<00:00, 3.78it/s] 0%| | 0/100 [00:00<?, ?it/s][A 40%|████ | 40/100 [00:00<00:00, 396.24it/s][A 80%|████████ | 80/100 [00:00<00:00, 375.37it/s][A [A Models: 80%|████████ | 8/10 [00:02<00:00, 3.78it/s] 0%| | 0/100 [00:00<?, ?it/s][A 42%|████▏ | 42/100 [00:00<00:00, 410.24it/s][A 84%|████████▍ | 84/100 [00:00<00:00, 387.89it/s][A [A Models: 90%|█████████ | 9/10 [00:02<00:00, 3.80it/s] 0%| | 0/100 [00:00<?, ?it/s][A 44%|████▍ | 44/100 [00:00<00:00, 432.55it/s][A 88%|████████▊ | 88/100 [00:00<00:00, 414.55it/s][A [A Models: 100%|██████████| 10/10 [00:02<00:00, 3.90it/s] Models: 100%|██████████| 10/10 [00:02<00:00, 3.95it/s] [ FAIL 0 | WARN 0 | SKIP 0 | PASS 29 ] > > proc.time() user system elapsed 43.089 7.234 43.572
spatialDE.Rcheck/spatialDE-Ex.timings
name | user | system | elapsed | |
FSV_sig | 6.765 | 1.593 | 8.032 | |
mockSVG | 0.140 | 0.009 | 0.148 | |
modelSearch | 3.129 | 0.313 | 3.112 | |
model_search | 2.981 | 0.383 | 2.945 | |
multiGenePlots | 3.163 | 0.458 | 3.311 | |
regress_out | 0.095 | 0.000 | 0.095 | |
run | 1.473 | 0.123 | 1.484 | |
spatialDE | 1.548 | 0.227 | 1.542 | |
spatialPatterns | 1.310 | 0.844 | 1.167 | |
spatial_patterns | 56.567 | 1.664 | 56.330 | |
stabilize | 0.045 | 0.000 | 0.045 | |