Back to Multiple platform build/check report for BioC 3.21:   simplified   long
ABCDEFGHIJKLMNOPQR[S]TUVWXYZ

This page was generated on 2025-10-16 11:39 -0400 (Thu, 16 Oct 2025).

HostnameOSArch (*)R versionInstalled pkgs
nebbiolo1Linux (Ubuntu 24.04.3 LTS)x86_644.5.1 (2025-06-13) -- "Great Square Root" 4833
merida1macOS 12.7.6 Montereyx86_644.5.1 RC (2025-06-05 r88288) -- "Great Square Root" 4614
kjohnson1macOS 13.7.5 Venturaarm644.5.1 Patched (2025-06-14 r88325) -- "Great Square Root" 4555
kunpeng2Linux (openEuler 24.03 LTS)aarch64R Under development (unstable) (2025-02-19 r87757) -- "Unsuffered Consequences" 4586
Click on any hostname to see more info about the system (e.g. compilers)      (*) as reported by 'uname -p', except on Windows and Mac OS X

Package 1969/2341HostnameOS / ArchINSTALLBUILDCHECKBUILD BIN
seqsetvis 1.28.0  (landing page)
Joseph R Boyd
Snapshot Date: 2025-10-13 13:40 -0400 (Mon, 13 Oct 2025)
git_url: https://git.bioconductor.org/packages/seqsetvis
git_branch: RELEASE_3_21
git_last_commit: 28d6e95
git_last_commit_date: 2025-04-15 11:20:09 -0400 (Tue, 15 Apr 2025)
nebbiolo1Linux (Ubuntu 24.04.3 LTS) / x86_64  OK    OK    OK  UNNEEDED, same version is already published
merida1macOS 12.7.6 Monterey / x86_64  OK    OK    OK    OK  UNNEEDED, same version is already published
kjohnson1macOS 13.7.5 Ventura / arm64  OK    OK    OK    OK  UNNEEDED, same version is already published
kunpeng2Linux (openEuler 24.03 LTS) / aarch64  OK    OK    OK  


CHECK results for seqsetvis on merida1

To the developers/maintainers of the seqsetvis package:
- Allow up to 24 hours (and sometimes 48 hours) for your latest push to git@git.bioconductor.org:packages/seqsetvis.git to reflect on this report. See Troubleshooting Build Report for more information.
- Use the following Renviron settings to reproduce errors and warnings.
- If 'R CMD check' started to fail recently on the Linux builder(s) over a missing dependency, add the missing dependency to 'Suggests:' in your DESCRIPTION file. See Renviron.bioc for more information.

raw results


Summary

Package: seqsetvis
Version: 1.28.0
Command: /Library/Frameworks/R.framework/Resources/bin/R CMD check --install=check:seqsetvis.install-out.txt --library=/Library/Frameworks/R.framework/Resources/library --no-vignettes --timings seqsetvis_1.28.0.tar.gz
StartedAt: 2025-10-14 10:18:54 -0400 (Tue, 14 Oct 2025)
EndedAt: 2025-10-14 10:41:31 -0400 (Tue, 14 Oct 2025)
EllapsedTime: 1357.3 seconds
RetCode: 0
Status:   OK  
CheckDir: seqsetvis.Rcheck
Warnings: 0

Command output

##############################################################################
##############################################################################
###
### Running command:
###
###   /Library/Frameworks/R.framework/Resources/bin/R CMD check --install=check:seqsetvis.install-out.txt --library=/Library/Frameworks/R.framework/Resources/library --no-vignettes --timings seqsetvis_1.28.0.tar.gz
###
##############################################################################
##############################################################################


* using log directory ‘/Users/biocbuild/bbs-3.21-bioc/meat/seqsetvis.Rcheck’
* using R version 4.5.1 RC (2025-06-05 r88288)
* using platform: x86_64-apple-darwin20
* R was compiled by
    Apple clang version 14.0.0 (clang-1400.0.29.202)
    GNU Fortran (GCC) 14.2.0
* running under: macOS Monterey 12.7.6
* using session charset: UTF-8
* using option ‘--no-vignettes’
* checking for file ‘seqsetvis/DESCRIPTION’ ... OK
* checking extension type ... Package
* this is package ‘seqsetvis’ version ‘1.28.0’
* package encoding: UTF-8
* checking package namespace information ... OK
* checking package dependencies ... OK
* checking if this is a source package ... OK
* checking if there is a namespace ... OK
* checking for hidden files and directories ... OK
* checking for portable file names ... OK
* checking for sufficient/correct file permissions ... OK
* checking whether package ‘seqsetvis’ can be installed ... OK
* checking installed package size ... OK
* checking package directory ... OK
* checking ‘build’ directory ... OK
* checking DESCRIPTION meta-information ... OK
* checking top-level files ... OK
* checking for left-over files ... OK
* checking index information ... OK
* checking package subdirectories ... OK
* checking code files for non-ASCII characters ... OK
* checking R files for syntax errors ... OK
* checking whether the package can be loaded ... OK
* checking whether the package can be loaded with stated dependencies ... OK
* checking whether the package can be unloaded cleanly ... OK
* checking whether the namespace can be loaded with stated dependencies ... OK
* checking whether the namespace can be unloaded cleanly ... OK
* checking dependencies in R code ... OK
* checking S3 generic/method consistency ... OK
* checking replacement functions ... OK
* checking foreign function calls ... OK
* checking R code for possible problems ... OK
* checking Rd files ... OK
* checking Rd metadata ... OK
* checking Rd cross-references ... OK
* checking for missing documentation entries ... OK
* checking for code/documentation mismatches ... OK
* checking Rd \usage sections ... OK
* checking Rd contents ... OK
* checking for unstated dependencies in examples ... OK
* checking contents of ‘data’ directory ... OK
* checking data for non-ASCII characters ... OK
* checking data for ASCII and uncompressed saves ... OK
* checking files in ‘vignettes’ ... OK
* checking examples ... OK
Examples with CPU (user + system) or elapsed time > 5s
                               user system elapsed
ssvFetchBam                  14.470  0.441  14.959
ssvSignalHeatmap             11.094  0.157  11.278
ssvFeatureBinaryHeatmap       9.800  0.795  10.613
merge_clusters                9.762  0.043   9.828
ssvSignalHeatmap.ClusterBars  9.392  0.052   9.494
ssvSignalBandedQuantiles      8.641  0.083   8.785
add_cluster_annotation        7.649  0.285   8.183
ssvFeatureUpset               7.283  0.055   7.347
ssvSignalLineplot             6.878  0.024   6.911
reorder_clusters_stepdown     6.340  0.044   6.395
ssvSignalClustering           6.219  0.083   6.312
reverse_clusters              5.682  0.039   5.728
reorder_clusters_hclust       5.538  0.022   5.574
split_cluster                 5.077  0.026   5.117
* checking for unstated dependencies in ‘tests’ ... OK
* checking tests ...
  Running ‘testthat.R’
 OK
* checking for unstated dependencies in vignettes ... OK
* checking package vignettes ... OK
* checking running R code from vignettes ... SKIPPED
* checking re-building of vignette outputs ... SKIPPED
* checking PDF version of manual ... OK
* DONE

Status: OK


Installation output

seqsetvis.Rcheck/00install.out

##############################################################################
##############################################################################
###
### Running command:
###
###   /Library/Frameworks/R.framework/Resources/bin/R CMD INSTALL seqsetvis
###
##############################################################################
##############################################################################


* installing to library ‘/Library/Frameworks/R.framework/Versions/4.5-x86_64/Resources/library’
* installing *source* package ‘seqsetvis’ ...
** this is package ‘seqsetvis’ version ‘1.28.0’
** using staged installation
** R
** data
** inst
** byte-compile and prepare package for lazy loading
** help
*** installing help indices
** building package indices
** installing vignettes
** testing if installed package can be loaded from temporary location
** testing if installed package can be loaded from final location
** testing if installed package keeps a record of temporary installation path
* DONE (seqsetvis)

Tests output

seqsetvis.Rcheck/tests/testthat.Rout


R version 4.5.1 RC (2025-06-05 r88288) -- "Great Square Root"
Copyright (C) 2025 The R Foundation for Statistical Computing
Platform: x86_64-apple-darwin20

R is free software and comes with ABSOLUTELY NO WARRANTY.
You are welcome to redistribute it under certain conditions.
Type 'license()' or 'licence()' for distribution details.

R is a collaborative project with many contributors.
Type 'contributors()' for more information and
'citation()' on how to cite R or R packages in publications.

Type 'demo()' for some demos, 'help()' for on-line help, or
'help.start()' for an HTML browser interface to help.
Type 'q()' to quit R.

> 
> ## load dependencies
> library(testthat)
> library(seqsetvis)
Loading required package: ggplot2
> library(data.table)
> 
> ## test package
> test_check(package = "seqsetvis")
[ FAIL 0 | WARN 3 | SKIP 0 | PASS 1291 ]

[ FAIL 0 | WARN 3 | SKIP 0 | PASS 1291 ]
> 
> proc.time()
   user  system elapsed 
625.609   9.444 642.179 

Example timings

seqsetvis.Rcheck/seqsetvis-Ex.timings

nameusersystemelapsed
add_cluster_annotation7.6490.2858.183
append_ynorm0.0980.0110.118
applyMovingAverage2.3390.0212.474
applySpline1.0560.0111.123
assemble_heatmap_cluster_bars2.3150.0192.448
calc_norm_factors0.0530.0050.060
centerAtMax0.6170.0160.665
centerFixedSizeGRanges0.3120.0150.343
centerGRangesAtMax1.1460.0351.230
clusteringKmeans0.0530.0090.062
clusteringKmeansNestedHclust0.0630.0070.071
col2hex0.0020.0010.002
collapse_gr1.6000.0221.637
convert_collapsed_coord0.5000.0300.533
copy_clust_info4.1040.0654.208
crossCorrByRle0.7380.0190.774
easyLoad_FUN0.1040.0020.110
easyLoad_IDRmerged0.0920.0030.097
easyLoad_bed0.3010.0030.307
easyLoad_broadPeak0.0780.0030.082
easyLoad_narrowPeak0.0850.0030.087
easyLoad_seacr0.0870.0030.090
expandCigar0.3180.0350.356
findMaxPos0.0620.0200.082
fragLen_calcStranded4.1830.0664.648
fragLen_fromMacs2Xls0.0040.0010.005
getReadLength0.1200.0150.143
get_mapped_reads0.0170.0020.021
ggellipse2.1060.0132.213
harmonize_seqlengths0.2200.0140.246
make_clustering_matrix0.1820.0070.189
merge_clusters9.7620.0439.828
prepare_fetch_GRanges0.0960.0090.104
prepare_fetch_GRanges_names0.1790.0090.189
prepare_fetch_GRanges_width0.0630.0070.070
quantileGRangesWidth0.0040.0060.011
reorder_clusters_hclust5.5380.0225.574
reorder_clusters_manual3.0240.0163.046
reorder_clusters_stepdown6.3400.0446.395
reverse_clusters5.6820.0395.728
safeBrew0.0440.0050.049
split_cluster5.0770.0265.117
ssvAnnotateSubjectGRanges2.1700.0582.235
ssvConsensusIntervalSets0.6970.0180.716
ssvFactorizeMembTable0.0260.0110.038
ssvFeatureBars1.9420.0111.956
ssvFeatureBinaryHeatmap 9.800 0.79510.613
ssvFeatureEuler1.9730.0582.035
ssvFeaturePie1.3770.0151.394
ssvFeatureUpset7.2830.0557.347
ssvFeatureVenn3.5050.0293.540
ssvFetchBam14.470 0.44114.959
ssvFetchBamPE4.3420.3734.748
ssvFetchBamPE.RNA3.2150.0523.272
ssvFetchBigwig2.9370.0472.990
ssvFetchGRanges1.7410.0151.764
ssvFetchSignal3.1580.0713.239
ssvMakeMembTable-methods1.0420.0171.059
ssvOverlapIntervalSets0.4600.0160.477
ssvSignalBandedQuantiles8.6410.0838.785
ssvSignalClustering6.2190.0836.312
ssvSignalHeatmap.ClusterBars9.3920.0529.494
ssvSignalHeatmap11.094 0.15711.278
ssvSignalLineplot6.8780.0246.911
ssvSignalLineplotAgg2.3700.0132.393
ssvSignalScatterplot2.6370.0182.663
viewGRangesWinSample_dt2.9160.0693.061
viewGRangesWinSummary_dt3.6620.1213.856
within_clust_sort4.2290.0394.295