| Back to Multiple platform build/check report for BioC 3.21: simplified long |
|
This page was generated on 2025-04-22 13:18 -0400 (Tue, 22 Apr 2025).
| Hostname | OS | Arch (*) | R version | Installed pkgs |
|---|---|---|---|---|
| nebbiolo1 | Linux (Ubuntu 24.04.1 LTS) | x86_64 | 4.5.0 RC (2025-04-04 r88126) -- "How About a Twenty-Six" | 4831 |
| palomino7 | Windows Server 2022 Datacenter | x64 | 4.5.0 RC (2025-04-04 r88126 ucrt) -- "How About a Twenty-Six" | 4573 |
| lconway | macOS 12.7.1 Monterey | x86_64 | 4.5.0 RC (2025-04-04 r88126) -- "How About a Twenty-Six" | 4599 |
| kjohnson3 | macOS 13.7.1 Ventura | arm64 | 4.5.0 RC (2025-04-04 r88126) -- "How About a Twenty-Six" | 4553 |
| kunpeng2 | Linux (openEuler 24.03 LTS) | aarch64 | R Under development (unstable) (2025-02-19 r87757) -- "Unsuffered Consequences" | 4570 |
| Click on any hostname to see more info about the system (e.g. compilers) (*) as reported by 'uname -p', except on Windows and Mac OS X | ||||
| Package 1747/2341 | Hostname | OS / Arch | INSTALL | BUILD | CHECK | BUILD BIN | ||||||||
| regioneReloaded 1.10.0 (landing page) Roberto Malinverni
| nebbiolo1 | Linux (Ubuntu 24.04.1 LTS) / x86_64 | OK | OK | OK | |||||||||
| palomino7 | Windows Server 2022 Datacenter / x64 | OK | OK | OK | OK | |||||||||
| lconway | macOS 12.7.1 Monterey / x86_64 | OK | OK | OK | OK | |||||||||
| kjohnson3 | macOS 13.7.1 Ventura / arm64 | OK | OK | OK | OK | |||||||||
| kunpeng2 | Linux (openEuler 24.03 LTS) / aarch64 | OK | OK | OK | ||||||||||
|
To the developers/maintainers of the regioneReloaded package: - Allow up to 24 hours (and sometimes 48 hours) for your latest push to git@git.bioconductor.org:packages/regioneReloaded.git to reflect on this report. See Troubleshooting Build Report for more information. - Use the following Renviron settings to reproduce errors and warnings. - If 'R CMD check' started to fail recently on the Linux builder(s) over a missing dependency, add the missing dependency to 'Suggests:' in your DESCRIPTION file. See Renviron.bioc for more information. |
| Package: regioneReloaded |
| Version: 1.10.0 |
| Command: /Library/Frameworks/R.framework/Resources/bin/R CMD check --install=check:regioneReloaded.install-out.txt --library=/Library/Frameworks/R.framework/Resources/library --no-vignettes --timings regioneReloaded_1.10.0.tar.gz |
| StartedAt: 2025-04-21 21:10:24 -0400 (Mon, 21 Apr 2025) |
| EndedAt: 2025-04-21 21:12:52 -0400 (Mon, 21 Apr 2025) |
| EllapsedTime: 148.7 seconds |
| RetCode: 0 |
| Status: OK |
| CheckDir: regioneReloaded.Rcheck |
| Warnings: 0 |
##############################################################################
##############################################################################
###
### Running command:
###
### /Library/Frameworks/R.framework/Resources/bin/R CMD check --install=check:regioneReloaded.install-out.txt --library=/Library/Frameworks/R.framework/Resources/library --no-vignettes --timings regioneReloaded_1.10.0.tar.gz
###
##############################################################################
##############################################################################
* using log directory ‘/Users/biocbuild/bbs-3.21-bioc/meat/regioneReloaded.Rcheck’
* using R version 4.5.0 RC (2025-04-04 r88126)
* using platform: aarch64-apple-darwin20
* R was compiled by
Apple clang version 14.0.0 (clang-1400.0.29.202)
GNU Fortran (GCC) 14.2.0
* running under: macOS Ventura 13.7.1
* using session charset: UTF-8
* using option ‘--no-vignettes’
* checking for file ‘regioneReloaded/DESCRIPTION’ ... OK
* checking extension type ... Package
* this is package ‘regioneReloaded’ version ‘1.10.0’
* package encoding: UTF-8
* checking package namespace information ... OK
* checking package dependencies ... OK
* checking if this is a source package ... OK
* checking if there is a namespace ... OK
* checking for hidden files and directories ... OK
* checking for portable file names ... OK
* checking for sufficient/correct file permissions ... OK
* checking whether package ‘regioneReloaded’ can be installed ... OK
* checking installed package size ... OK
* checking package directory ... OK
* checking ‘build’ directory ... OK
* checking DESCRIPTION meta-information ... OK
* checking top-level files ... OK
* checking for left-over files ... OK
* checking index information ... OK
* checking package subdirectories ... OK
* checking code files for non-ASCII characters ... OK
* checking R files for syntax errors ... OK
* checking whether the package can be loaded ... OK
* checking whether the package can be loaded with stated dependencies ... OK
* checking whether the package can be unloaded cleanly ... OK
* checking whether the namespace can be loaded with stated dependencies ... OK
* checking whether the namespace can be unloaded cleanly ... OK
* checking dependencies in R code ... OK
* checking S3 generic/method consistency ... OK
* checking replacement functions ... OK
* checking foreign function calls ... OK
* checking R code for possible problems ... OK
* checking Rd files ... OK
* checking Rd metadata ... OK
* checking Rd cross-references ... NOTE
Found the following Rd file(s) with Rd \link{} targets missing package
anchors:
AlienRSList_broad.Rd: createRandomRegions
AlienRSList_narrow.Rd: createRandomRegions
makeLZMatrix.Rd: localZScore
plotCrosswiseDimRed.Rd: pam, geom_text_repel, Rtsne
plotCrosswiseMatrix.Rd: geom_raster
Please provide package anchors for all Rd \link{} targets not in the
package itself and the base packages.
* checking for missing documentation entries ... OK
* checking for code/documentation mismatches ... OK
* checking Rd \usage sections ... OK
* checking Rd contents ... OK
* checking for unstated dependencies in examples ... OK
* checking contents of ‘data’ directory ... OK
* checking data for non-ASCII characters ... OK
* checking data for ASCII and uncompressed saves ... OK
* checking R/sysdata.rda ... OK
* checking files in ‘vignettes’ ... OK
* checking examples ... OK
* checking for unstated dependencies in ‘tests’ ... OK
* checking tests ...
Running ‘testthat.R’
OK
* checking for unstated dependencies in vignettes ... OK
* checking package vignettes ... OK
* checking running R code from vignettes ... SKIPPED
* checking re-building of vignette outputs ... SKIPPED
* checking PDF version of manual ... OK
* DONE
Status: 1 NOTE
See
‘/Users/biocbuild/bbs-3.21-bioc/meat/regioneReloaded.Rcheck/00check.log’
for details.
regioneReloaded.Rcheck/00install.out
############################################################################## ############################################################################## ### ### Running command: ### ### /Library/Frameworks/R.framework/Resources/bin/R CMD INSTALL regioneReloaded ### ############################################################################## ############################################################################## * installing to library ‘/Library/Frameworks/R.framework/Versions/4.5-arm64/Resources/library’ * installing *source* package ‘regioneReloaded’ ... ** this is package ‘regioneReloaded’ version ‘1.10.0’ ** using staged installation ** R ** data ** byte-compile and prepare package for lazy loading ** help *** installing help indices ** building package indices ** installing vignettes ** testing if installed package can be loaded from temporary location ** testing if installed package can be loaded from final location ** testing if installed package keeps a record of temporary installation path * DONE (regioneReloaded)
regioneReloaded.Rcheck/tests/testthat.Rout
R version 4.5.0 RC (2025-04-04 r88126) -- "How About a Twenty-Six"
Copyright (C) 2025 The R Foundation for Statistical Computing
Platform: aarch64-apple-darwin20
R is free software and comes with ABSOLUTELY NO WARRANTY.
You are welcome to redistribute it under certain conditions.
Type 'license()' or 'licence()' for distribution details.
R is a collaborative project with many contributors.
Type 'contributors()' for more information and
'citation()' on how to cite R or R packages in publications.
Type 'demo()' for some demos, 'help()' for on-line help, or
'help.start()' for an HTML browser interface to help.
Type 'q()' to quit R.
> # This file is part of the standard setup for testthat.
> # It is recommended that you do not modify it.
> #
> # Where should you do additional test configuration?
> # Learn more about the roles of various files in:
> # * https://r-pkgs.org/tests.html
> # * https://testthat.r-lib.org/reference/test_package.html#special-files
>
> library(testthat)
> library(regioneReloaded)
Loading required package: regioneR
Loading required package: GenomicRanges
Loading required package: stats4
Loading required package: BiocGenerics
Loading required package: generics
Attaching package: 'generics'
The following objects are masked from 'package:base':
as.difftime, as.factor, as.ordered, intersect, is.element, setdiff,
setequal, union
Attaching package: 'BiocGenerics'
The following objects are masked from 'package:stats':
IQR, mad, sd, var, xtabs
The following objects are masked from 'package:base':
Filter, Find, Map, Position, Reduce, anyDuplicated, aperm, append,
as.data.frame, basename, cbind, colnames, dirname, do.call,
duplicated, eval, evalq, get, grep, grepl, is.unsorted, lapply,
mapply, match, mget, order, paste, pmax, pmax.int, pmin, pmin.int,
rank, rbind, rownames, sapply, saveRDS, table, tapply, unique,
unsplit, which.max, which.min
Loading required package: S4Vectors
Attaching package: 'S4Vectors'
The following object is masked from 'package:utils':
findMatches
The following objects are masked from 'package:base':
I, expand.grid, unname
Loading required package: IRanges
Loading required package: GenomeInfoDb
>
> test_check("regioneReloaded")
[1] "method selected for hclustering: average"
complete average single ward.D2 median centroid mcquitty
0.7497654 0.7857181 0.6514804 0.7363304 0.3459672 0.4561003 0.7516609
[1] "method selected for hclustering: complete"
complete average single ward.D2 median centroid mcquitty
0.9098230 0.8541174 0.7986368 0.8320493 0.8348816 0.8510903 0.8475492
[1] "method selected for hclustering: average"
complete average single ward.D2 median centroid mcquitty
0.8909663 0.8944326 0.7892161 0.8311822 0.8813696 0.8857083 0.8784679
[1] "resampleRegions function need that universe parameters in not NULL universe will created using all the regions present in Blist"
[1] "resampleRegions function need that universe parameters in not NULL universe will created using all the regions present in Blist"
[1] "resampleRegions function need that universe parameters in not NULL universe will created using all the regions present in Blist"
[1] "resampleRegions function need that universe parameters in not NULL universe will created using all the regions present in Blist"
[1] "resampleRegions function need that universe parameters in not NULL universe will created using all the regions present in Blist"
[1] "resampleRegions function need that universe parameters in not NULL universe will created using all the regions present in Blist"
[1] "method selected for hclustering: average"
complete average single ward.D2 median centroid mcquitty
0.7515325 0.7716179 0.6542890 0.7136237 0.2223408 0.5618311 0.7245865
[1] "method selected for hclustering: average"
complete average single ward.D2 median centroid mcquitty
0.7497654 0.7857181 0.6514804 0.7363304 0.3459672 0.4561003 0.7516609
[1] "method selected for hclustering: complete"
complete average single ward.D2 median centroid mcquitty
0.9098230 0.8541174 0.7986368 0.8320493 0.8348816 0.8510903 0.8475492
[1] "method selected for hclustering: average"
complete average single ward.D2 median centroid mcquitty
0.8909663 0.8944326 0.7892161 0.8311822 0.8813696 0.8857083 0.8784679
[ FAIL 0 | WARN 132 | SKIP 6 | PASS 60 ]
══ Skipped tests (6) ═══════════════════════════════════════════════════════════
• On CRAN (6): 'test-crosswisePermTest.R:9:3', 'test-crosswisePermTest.R:67:3',
'test-crosswisePermTest.R:99:3', 'test-getMatrix.R:6:3',
'test-getMultiEvaluation.R:2:3', 'test-getParameters.R:7:3'
[ FAIL 0 | WARN 132 | SKIP 6 | PASS 60 ]
>
> proc.time()
user system elapsed
51.541 7.176 37.683
regioneReloaded.Rcheck/regioneReloaded-Ex.timings
| name | user | system | elapsed | |
| chooseHclustMet | 0.003 | 0.000 | 0.003 | |
| createUniverse | 0.159 | 0.002 | 0.163 | |
| crosswisePermTest | 4.918 | 0.032 | 4.992 | |
| genoMatriXeR-class | 0.979 | 0.006 | 0.985 | |
| getHClust | 0.011 | 0.002 | 0.012 | |
| getMatrix | 0.019 | 0.010 | 0.030 | |
| getMultiEvaluation | 0.007 | 0.002 | 0.009 | |
| getParameters | 0.007 | 0.001 | 0.007 | |
| makeCrosswiseMatrix | 0.009 | 0.001 | 0.010 | |
| makeLZMatrix | 0.006 | 0.001 | 0.007 | |
| multiLocalZScore-class | 0.993 | 0.004 | 1.012 | |
| multiLocalZscore | 1.893 | 0.002 | 1.896 | |
| plotCrosswiseDimRed | 0.827 | 0.011 | 0.840 | |
| plotCrosswiseMatrix | 0.130 | 0.004 | 0.134 | |
| plotLocalZScoreMatrix | 0.007 | 0.001 | 0.007 | |
| plotSingleLZ | 0.121 | 0.002 | 0.123 | |
| plotSinglePT | 0.227 | 0.003 | 0.253 | |
| randomizeRegionsPerc | 0.086 | 0.001 | 0.091 | |
| similarRegionSet | 0.337 | 0.004 | 0.354 | |