Back to Multiple platform build/check report for BioC 3.21:   simplified   long
ABCDEFGHIJKL[M]NOPQRSTUVWXYZ

This page was generated on 2025-10-16 11:38 -0400 (Thu, 16 Oct 2025).

HostnameOSArch (*)R versionInstalled pkgs
nebbiolo1Linux (Ubuntu 24.04.3 LTS)x86_644.5.1 (2025-06-13) -- "Great Square Root" 4833
merida1macOS 12.7.6 Montereyx86_644.5.1 RC (2025-06-05 r88288) -- "Great Square Root" 4614
kjohnson1macOS 13.7.5 Venturaarm644.5.1 Patched (2025-06-14 r88325) -- "Great Square Root" 4555
kunpeng2Linux (openEuler 24.03 LTS)aarch64R Under development (unstable) (2025-02-19 r87757) -- "Unsuffered Consequences" 4586
Click on any hostname to see more info about the system (e.g. compilers)      (*) as reported by 'uname -p', except on Windows and Mac OS X

Package 1306/2341HostnameOS / ArchINSTALLBUILDCHECKBUILD BIN
miRSM 2.4.0  (landing page)
Junpeng Zhang
Snapshot Date: 2025-10-13 13:40 -0400 (Mon, 13 Oct 2025)
git_url: https://git.bioconductor.org/packages/miRSM
git_branch: RELEASE_3_21
git_last_commit: bfd7f6e
git_last_commit_date: 2025-04-15 11:36:33 -0400 (Tue, 15 Apr 2025)
nebbiolo1Linux (Ubuntu 24.04.3 LTS) / x86_64  OK    OK    OK  UNNEEDED, same version is already published
merida1macOS 12.7.6 Monterey / x86_64  OK    OK    OK    OK  UNNEEDED, same version is already published
kjohnson1macOS 13.7.5 Ventura / arm64  OK    OK    OK    OK  UNNEEDED, same version is already published
kunpeng2Linux (openEuler 24.03 LTS) / aarch64  OK    OK    OK  


CHECK results for miRSM on nebbiolo1

To the developers/maintainers of the miRSM package:
- Allow up to 24 hours (and sometimes 48 hours) for your latest push to git@git.bioconductor.org:packages/miRSM.git to reflect on this report. See Troubleshooting Build Report for more information.
- Use the following Renviron settings to reproduce errors and warnings.
- If 'R CMD check' started to fail recently on the Linux builder(s) over a missing dependency, add the missing dependency to 'Suggests:' in your DESCRIPTION file. See Renviron.bioc for more information.

raw results


Summary

Package: miRSM
Version: 2.4.0
Command: /home/biocbuild/bbs-3.21-bioc/R/bin/R CMD check --install=check:miRSM.install-out.txt --library=/home/biocbuild/bbs-3.21-bioc/R/site-library --timings miRSM_2.4.0.tar.gz
StartedAt: 2025-10-16 01:08:42 -0400 (Thu, 16 Oct 2025)
EndedAt: 2025-10-16 01:16:02 -0400 (Thu, 16 Oct 2025)
EllapsedTime: 439.5 seconds
RetCode: 0
Status:   OK  
CheckDir: miRSM.Rcheck
Warnings: 0

Command output

##############################################################################
##############################################################################
###
### Running command:
###
###   /home/biocbuild/bbs-3.21-bioc/R/bin/R CMD check --install=check:miRSM.install-out.txt --library=/home/biocbuild/bbs-3.21-bioc/R/site-library --timings miRSM_2.4.0.tar.gz
###
##############################################################################
##############################################################################


* using log directory ‘/home/biocbuild/bbs-3.21-bioc/meat/miRSM.Rcheck’
* using R version 4.5.1 (2025-06-13)
* using platform: x86_64-pc-linux-gnu
* R was compiled by
    gcc (Ubuntu 13.3.0-6ubuntu2~24.04) 13.3.0
    GNU Fortran (Ubuntu 13.3.0-6ubuntu2~24.04) 13.3.0
* running under: Ubuntu 24.04.3 LTS
* using session charset: UTF-8
* checking for file ‘miRSM/DESCRIPTION’ ... OK
* checking extension type ... Package
* this is package ‘miRSM’ version ‘2.4.0’
* package encoding: UTF-8
* checking package namespace information ... OK
* checking package dependencies ... INFO
Imports includes 32 non-default packages.
Importing from so many packages makes the package vulnerable to any of
them becoming unavailable.  Move as many as possible to Suggests and
use conditionally.
* checking if this is a source package ... OK
* checking if there is a namespace ... OK
* checking for hidden files and directories ... OK
* checking for portable file names ... OK
* checking for sufficient/correct file permissions ... OK
* checking whether package ‘miRSM’ can be installed ... OK
* used C compiler: ‘gcc (Ubuntu 13.3.0-6ubuntu2~24.04) 13.3.0’
* checking installed package size ... OK
* checking package directory ... OK
* checking ‘build’ directory ... OK
* checking DESCRIPTION meta-information ... OK
* checking top-level files ... OK
* checking for left-over files ... OK
* checking index information ... OK
* checking package subdirectories ... OK
* checking code files for non-ASCII characters ... OK
* checking R files for syntax errors ... OK
* checking whether the package can be loaded ... OK
* checking whether the package can be loaded with stated dependencies ... OK
* checking whether the package can be unloaded cleanly ... OK
* checking whether the namespace can be loaded with stated dependencies ... OK
* checking whether the namespace can be unloaded cleanly ... OK
* checking loading without being on the library search path ... OK
* checking whether startup messages can be suppressed ... OK
* checking dependencies in R code ... OK
* checking S3 generic/method consistency ... OK
* checking replacement functions ... OK
* checking foreign function calls ... OK
* checking R code for possible problems ... OK
* checking Rd files ... NOTE
checkRd: (-1) module_GFA.Rd:47: Lost braces
    47 | Bunte K, Lepp\'{a}aho E, Saarinen I, Kaski S. 
       |                ^
checkRd: (-1) module_GFA.Rd:50: Lost braces
    50 | Lepp\'{a}aho E, Ammad-ud-din M, Kaski S. GFA: 
       |       ^
checkRd: (-1) module_biclust.Rd:54: Lost braces
    54 | Preli\'{c} A, Bleuler S, Zimmermann P, Wille A, 
       |        ^
checkRd: (-1) module_biclust.Rd:55: Lost braces
    55 | B\'{u}hlmann P, Gruissem W, Hennig L, Thiele L, Zitzler E. 
       |    ^
checkRd: (-1) module_biclust.Rd:80: Lost braces
    80 | Talloen W, Bijnens L, G\'{o}hlmann HW, Shkedy Z, Clevert DA. 
       |                          ^
* checking Rd metadata ... OK
* checking Rd cross-references ... OK
* checking for missing documentation entries ... OK
* checking for code/documentation mismatches ... OK
* checking Rd \usage sections ... OK
* checking Rd contents ... OK
* checking for unstated dependencies in examples ... OK
* checking contents of ‘data’ directory ... OK
* checking data for non-ASCII characters ... OK
* checking data for ASCII and uncompressed saves ... OK
* checking line endings in C/C++/Fortran sources/headers ... OK
* checking compiled code ... NOTE
Note: information on .o files is not available
* checking files in ‘vignettes’ ... OK
* checking examples ... OK
Examples with CPU (user + system) or elapsed time > 5s
             user system elapsed
diff_module 8.387  0.133   8.513
miRSM_SS    6.711  0.021   6.728
* checking for unstated dependencies in ‘tests’ ... OK
* checking tests ...
  Running ‘test_miRSM.R’
 OK
* checking for unstated dependencies in vignettes ... OK
* checking package vignettes ... OK
* checking re-building of vignette outputs ... OK
* checking PDF version of manual ... OK
* DONE

Status: 2 NOTEs
See
  ‘/home/biocbuild/bbs-3.21-bioc/meat/miRSM.Rcheck/00check.log’
for details.


Installation output

miRSM.Rcheck/00install.out

##############################################################################
##############################################################################
###
### Running command:
###
###   /home/biocbuild/bbs-3.21-bioc/R/bin/R CMD INSTALL miRSM
###
##############################################################################
##############################################################################


* installing to library ‘/home/biocbuild/bbs-3.21-bioc/R/site-library’
* installing *source* package ‘miRSM’ ...
** this is package ‘miRSM’ version ‘2.4.0’
** using staged installation
** libs
using C compiler: ‘gcc (Ubuntu 13.3.0-6ubuntu2~24.04) 13.3.0’
gcc -std=gnu2x -I"/home/biocbuild/bbs-3.21-bioc/R/include" -DNDEBUG   -I/usr/local/include    -fpic  -g -O2  -Wall -Werror=format-security -c complex.c -o complex.o
gcc -std=gnu2x -I"/home/biocbuild/bbs-3.21-bioc/R/include" -DNDEBUG   -I/usr/local/include    -fpic  -g -O2  -Wall -Werror=format-security -c registerDynamicSymbol.c -o registerDynamicSymbol.o
gcc -std=gnu2x -shared -L/home/biocbuild/bbs-3.21-bioc/R/lib -L/usr/local/lib -o miRSM.so complex.o registerDynamicSymbol.o -L/home/biocbuild/bbs-3.21-bioc/R/lib -lR
installing to /home/biocbuild/bbs-3.21-bioc/R/site-library/00LOCK-miRSM/00new/miRSM/libs
** R
** data
** inst
** byte-compile and prepare package for lazy loading
** help
*** installing help indices
** building package indices
** installing vignettes
** testing if installed package can be loaded from temporary location
** checking absolute paths in shared objects and dynamic libraries
** testing if installed package can be loaded from final location
** testing if installed package keeps a record of temporary installation path
* DONE (miRSM)

Tests output

miRSM.Rcheck/tests/test_miRSM.Rout


R version 4.5.1 (2025-06-13) -- "Great Square Root"
Copyright (C) 2025 The R Foundation for Statistical Computing
Platform: x86_64-pc-linux-gnu

R is free software and comes with ABSOLUTELY NO WARRANTY.
You are welcome to redistribute it under certain conditions.
Type 'license()' or 'licence()' for distribution details.

R is a collaborative project with many contributors.
Type 'contributors()' for more information and
'citation()' on how to cite R or R packages in publications.

Type 'demo()' for some demos, 'help()' for on-line help, or
'help.start()' for an HTML browser interface to help.
Type 'q()' to quit R.

> suppressPackageStartupMessages(library(testthat))
> suppressPackageStartupMessages(library(GSEABase))
> suppressPackageStartupMessages(library(miRSM))
> 
> # Load datasets
> data(BRCASampleData)
> 
> # Identify gene co-expression modules using igraph method
> modulegenes_igraph <- module_igraph(ceRExp[, seq_len(10)], 
+     mRExp[, seq_len(10)])
> 
> 
> test_that("Test miRSM", {
+     expect_equal(geneIds(module_igraph(ceRExp[, seq_len(10)], 
+         mRExp[, seq_len(10)])), geneIds(modulegenes_igraph))
+ })
Test passed 🥇
> 
> proc.time()
   user  system elapsed 
 15.209   0.900  16.085 

Example timings

miRSM.Rcheck/miRSM-Ex.timings

nameusersystemelapsed
cor_binary0.3320.0080.340
diff_module8.3870.1338.513
miRSM0.2090.0050.214
miRSM_SS6.7110.0216.728
module_CEA2.9700.0343.002
module_Coexpress3.0390.0353.080
module_FA000
module_GFA3.5510.0933.642
module_NMF3.0910.3643.446
module_ProNet0.1490.0120.160
module_Validate2.8630.5323.395
module_WGCNA2.0190.1832.201
module_biclust0.3850.0120.397
module_clust0.1220.0030.125
module_group_sim2.8630.3163.177
module_igraph0.1220.0040.126
module_miRdistribute3.0910.1773.265
module_miRsponge3.0080.1483.153
module_miRtarget2.9480.0823.029
share_miRs2.8350.1332.966