Back to Multiple platform build/check report for BioC 3.21:   simplified   long
ABCDEFG[H]IJKLMNOPQRSTUVWXYZ

This page was generated on 2025-10-09 11:41 -0400 (Thu, 09 Oct 2025).

HostnameOSArch (*)R versionInstalled pkgs
nebbiolo1Linux (Ubuntu 24.04.3 LTS)x86_644.5.1 (2025-06-13) -- "Great Square Root" 4832
merida1macOS 12.7.5 Montereyx86_644.5.1 RC (2025-06-05 r88288) -- "Great Square Root" 4613
kjohnson1macOS 13.6.6 Venturaarm644.5.1 Patched (2025-06-14 r88325) -- "Great Square Root" 4554
kunpeng2Linux (openEuler 24.03 LTS)aarch64R Under development (unstable) (2025-02-19 r87757) -- "Unsuffered Consequences" 4585
Click on any hostname to see more info about the system (e.g. compilers)      (*) as reported by 'uname -p', except on Windows and Mac OS X

Package 985/2341HostnameOS / ArchINSTALLBUILDCHECKBUILD BIN
hipathia 3.8.0  (landing page)
Marta R. Hidalgo
Snapshot Date: 2025-10-06 13:40 -0400 (Mon, 06 Oct 2025)
git_url: https://git.bioconductor.org/packages/hipathia
git_branch: RELEASE_3_21
git_last_commit: 8d6aea7
git_last_commit_date: 2025-04-15 11:32:56 -0400 (Tue, 15 Apr 2025)
nebbiolo1Linux (Ubuntu 24.04.3 LTS) / x86_64  OK    OK    OK  UNNEEDED, same version is already published
merida1macOS 12.7.5 Monterey / x86_64  OK    OK    OK    OK  UNNEEDED, same version is already published
kjohnson1macOS 13.6.6 Ventura / arm64  OK    ERROR  skippedskipped
kunpeng2Linux (openEuler 24.03 LTS) / aarch64  OK    OK    OK  


CHECK results for hipathia on kunpeng2

To the developers/maintainers of the hipathia package:
- Allow up to 24 hours (and sometimes 48 hours) for your latest push to git@git.bioconductor.org:packages/hipathia.git to reflect on this report. See Troubleshooting Build Report for more information.
- Use the following Renviron settings to reproduce errors and warnings.
- If 'R CMD check' started to fail recently on the Linux builder(s) over a missing dependency, add the missing dependency to 'Suggests:' in your DESCRIPTION file. See Renviron.bioc for more information.
- See Martin Grigorov's blog post for how to debug Linux ARM64 related issues on a x86_64 host.

raw results


Summary

Package: hipathia
Version: 3.8.0
Command: /home/biocbuild/R/R/bin/R CMD check --install=check:hipathia.install-out.txt --library=/home/biocbuild/R/R/site-library --no-vignettes --timings hipathia_3.8.0.tar.gz
StartedAt: 2025-10-07 10:27:18 -0000 (Tue, 07 Oct 2025)
EndedAt: 2025-10-07 10:47:31 -0000 (Tue, 07 Oct 2025)
EllapsedTime: 1213.5 seconds
RetCode: 0
Status:   OK  
CheckDir: hipathia.Rcheck
Warnings: 0

Command output

##############################################################################
##############################################################################
###
### Running command:
###
###   /home/biocbuild/R/R/bin/R CMD check --install=check:hipathia.install-out.txt --library=/home/biocbuild/R/R/site-library --no-vignettes --timings hipathia_3.8.0.tar.gz
###
##############################################################################
##############################################################################


* using log directory ‘/home/biocbuild/bbs-3.21-bioc/meat/hipathia.Rcheck’
* using R Under development (unstable) (2025-02-19 r87757)
* using platform: aarch64-unknown-linux-gnu
* R was compiled by
    aarch64-unknown-linux-gnu-gcc (GCC) 14.2.0
    GNU Fortran (GCC) 14.2.0
* running under: openEuler 24.03 (LTS-SP1)
* using session charset: UTF-8
* using option ‘--no-vignettes’
* checking for file ‘hipathia/DESCRIPTION’ ... OK
* this is package ‘hipathia’ version ‘3.8.0’
* package encoding: UTF-8
* checking package namespace information ... OK
* checking package dependencies ... OK
* checking if this is a source package ... OK
* checking if there is a namespace ... OK
* checking for hidden files and directories ... OK
* checking for portable file names ... OK
* checking for sufficient/correct file permissions ... OK
* checking whether package ‘hipathia’ can be installed ... OK
* checking installed package size ... INFO
  installed size is  9.0Mb
  sub-directories of 1Mb or more:
    data      4.1Mb
    extdata   4.5Mb
* checking package directory ... OK
* checking ‘build’ directory ... OK
* checking DESCRIPTION meta-information ... OK
* checking top-level files ... OK
* checking for left-over files ... OK
* checking index information ... OK
* checking package subdirectories ... OK
* checking code files for non-ASCII characters ... OK
* checking R files for syntax errors ... OK
* checking whether the package can be loaded ... OK
* checking whether the package can be loaded with stated dependencies ... OK
* checking whether the package can be unloaded cleanly ... OK
* checking whether the namespace can be loaded with stated dependencies ... OK
* checking whether the namespace can be unloaded cleanly ... OK
* checking loading without being on the library search path ... OK
* checking dependencies in R code ... OK
* checking S3 generic/method consistency ... OK
* checking replacement functions ... OK
* checking foreign function calls ... OK
* checking R code for possible problems ... NOTE
DAreport: no visible binding for global variable ‘ID’
DAreport: no visible binding for global variable ‘FDRp.value’
DAtop : <anonymous>: no visible binding for global variable
  ‘FDRp.value’
DAtop : <anonymous>: no visible binding for global variable ‘statistic’
DAtop : <anonymous>: no visible binding for global variable ‘p.value’
DAtop : <anonymous>: no visible binding for global variable ‘name’
DAtop : <anonymous>: no visible binding for global variable ‘logPV’
DAtop : <anonymous>: no visible binding for global variable ‘feature’
DAtop: no visible binding for global variable ‘name’
DAtop: no visible binding for global variable ‘logPV’
DAtop: no visible binding for global variable ‘direction’
get_edges_df: no visible binding for global variable ‘from’
get_edges_df: no visible binding for global variable ‘to’
nsig_plot: no visible binding for global variable ‘total’
nsig_plot: no visible binding for global variable ‘UPs’
nsig_plot: no visible binding for global variable ‘DOWNs’
nsig_plot: no visible binding for global variable ‘feature’
nsig_plot: no visible binding for global variable ‘UP’
nsig_plot: no visible binding for global variable ‘DOWN’
nsig_plot: no visible binding for global variable ‘Not’
nsig_plot: no visible binding for global variable ‘value’
nsig_plot: no visible binding for global variable ‘variable’
prepare_DAedges: no visible binding for global variable ‘to’
prepare_DAedges: no visible binding for global variable ‘functional’
prepare_DAedges: no visible binding for global variable ‘status’
prepare_DAedges: no visible binding for global variable ‘type’
prepare_DAnodes : <anonymous>: no visible binding for global variable
  ‘ID’
prepare_DAnodes : <anonymous>: no visible binding for global variable
  ‘FDRp.value’
prepare_DAnodes : <anonymous>: no visible binding for global variable
  ‘statistic’
prepare_DAnodes : <anonymous>: no visible binding for global variable
  ‘p.value’
prepare_edges: no visible binding for global variable ‘to’
prepare_edges: no visible binding for global variable ‘functional’
summary_plot: no visible binding for global variable ‘total’
summary_plot: no visible binding for global variable ‘UPs’
summary_plot: no visible binding for global variable ‘DOWNs’
summary_plot: no visible binding for global variable ‘name’
summary_plot: no visible binding for global variable ‘UP’
summary_plot: no visible binding for global variable ‘DOWN’
summary_plot: no visible binding for global variable ‘Not’
summary_plot: no visible binding for global variable ‘value’
summary_plot: no visible binding for global variable ‘variable’
summary_plot: no visible binding for global variable ‘UP.nodes’
summary_plot: no visible binding for global variable ‘DOWN.nodes’
summary_plot: no visible binding for global variable ‘nodes’
summary_plot: no visible binding for global variable ‘ratio.sigs’
summary_plot: no visible binding for global variable ‘ratio.UPs’
summary_plot: no visible binding for global variable ‘ratio.DOWNs’
Undefined global functions or variables:
  DOWN DOWN.nodes DOWNs FDRp.value ID Not UP UP.nodes UPs direction
  feature from functional logPV name nodes p.value ratio.DOWNs
  ratio.UPs ratio.sigs statistic status to total type value variable
* checking Rd files ... OK
* checking Rd metadata ... OK
* checking Rd cross-references ... OK
* checking for missing documentation entries ... OK
* checking for code/documentation mismatches ... OK
* checking Rd \usage sections ... OK
* checking Rd contents ... OK
* checking for unstated dependencies in examples ... OK
* checking contents of ‘data’ directory ... OK
* checking data for non-ASCII characters ... OK
* checking LazyData ... OK
* checking data for ASCII and uncompressed saves ... OK
* checking files in ‘vignettes’ ... OK
* checking examples ... OK
Examples with CPU (user + system) or elapsed time > 5s
                           user system elapsed
quantify_terms           34.817  1.917  47.131
create_report            28.084  1.322  34.388
get_pathways_annotations 28.760  0.562  35.065
normalize_data           28.390  0.926  32.177
translate_data           26.666  0.882  30.533
hipathia                 24.970  1.598  29.487
visualize_report         24.051  2.331  29.655
get_pathways_summary     24.706  0.826  28.483
node_color_per_de        24.281  0.934  28.069
get_path_names           24.079  0.966  28.059
load_pathways            23.714  0.631  27.375
get_node_names           23.307  0.671  26.321
pathway_comparison_plot  22.297  1.341  26.458
save_results             22.742  0.707  25.832
normalize_paths          22.552  0.854  26.739
node_color               21.646  0.793  27.198
get_pathways_list        21.692  0.567  24.755
get_go_names              5.084  0.447   8.413
* checking for unstated dependencies in ‘tests’ ... OK
* checking tests ...
  Running ‘testthat.R’
 OK
* checking for unstated dependencies in vignettes ... OK
* checking package vignettes ... OK
* checking running R code from vignettes ... SKIPPED
* checking re-building of vignette outputs ... SKIPPED
* checking PDF version of manual ... OK
* DONE

Status: 1 NOTE
See
  ‘/home/biocbuild/bbs-3.21-bioc/meat/hipathia.Rcheck/00check.log’
for details.


Installation output

hipathia.Rcheck/00install.out

##############################################################################
##############################################################################
###
### Running command:
###
###   /home/biocbuild/R/R/bin/R CMD INSTALL hipathia
###
##############################################################################
##############################################################################


* installing to library ‘/home/biocbuild/R/R-devel_2025-02-19/site-library’
* installing *source* package ‘hipathia’ ...
** this is package ‘hipathia’ version ‘3.8.0’
** using staged installation
** R
** data
*** moving datasets to lazyload DB
** inst
** byte-compile and prepare package for lazy loading
** help
*** installing help indices
** building package indices
** installing vignettes
** testing if installed package can be loaded from temporary location
** testing if installed package can be loaded from final location
** testing if installed package keeps a record of temporary installation path
* DONE (hipathia)

Tests output

hipathia.Rcheck/tests/testthat.Rout


R Under development (unstable) (2025-02-19 r87757) -- "Unsuffered Consequences"
Copyright (C) 2025 The R Foundation for Statistical Computing
Platform: aarch64-unknown-linux-gnu

R is free software and comes with ABSOLUTELY NO WARRANTY.
You are welcome to redistribute it under certain conditions.
Type 'license()' or 'licence()' for distribution details.

R is a collaborative project with many contributors.
Type 'contributors()' for more information and
'citation()' on how to cite R or R packages in publications.

Type 'demo()' for some demos, 'help()' for on-line help, or
'help.start()' for an HTML browser interface to help.
Type 'q()' to quit R.

> library(testthat)
> library(hipathia)
Loading required package: igraph

Attaching package: 'igraph'

The following object is masked from 'package:testthat':

    compare

The following objects are masked from 'package:stats':

    decompose, spectrum

The following object is masked from 'package:base':

    union

Loading required package: AnnotationHub
Loading required package: BiocGenerics
Loading required package: generics

Attaching package: 'generics'

The following objects are masked from 'package:igraph':

    components, union

The following objects are masked from 'package:base':

    as.difftime, as.factor, as.ordered, intersect, is.element, setdiff,
    setequal, union


Attaching package: 'BiocGenerics'

The following objects are masked from 'package:igraph':

    normalize, path

The following objects are masked from 'package:stats':

    IQR, mad, sd, var, xtabs

The following objects are masked from 'package:base':

    Filter, Find, Map, Position, Reduce, anyDuplicated, aperm, append,
    as.data.frame, basename, cbind, colnames, dirname, do.call,
    duplicated, eval, evalq, get, grep, grepl, is.unsorted, lapply,
    mapply, match, mget, order, paste, pmax, pmax.int, pmin, pmin.int,
    rank, rbind, rownames, sapply, saveRDS, table, tapply, unique,
    unsplit, which.max, which.min

Loading required package: BiocFileCache
Loading required package: dbplyr
Loading required package: MultiAssayExperiment
Loading required package: SummarizedExperiment
Loading required package: MatrixGenerics
Loading required package: matrixStats

Attaching package: 'MatrixGenerics'

The following objects are masked from 'package:matrixStats':

    colAlls, colAnyNAs, colAnys, colAvgsPerRowSet, colCollapse,
    colCounts, colCummaxs, colCummins, colCumprods, colCumsums,
    colDiffs, colIQRDiffs, colIQRs, colLogSumExps, colMadDiffs,
    colMads, colMaxs, colMeans2, colMedians, colMins, colOrderStats,
    colProds, colQuantiles, colRanges, colRanks, colSdDiffs, colSds,
    colSums2, colTabulates, colVarDiffs, colVars, colWeightedMads,
    colWeightedMeans, colWeightedMedians, colWeightedSds,
    colWeightedVars, rowAlls, rowAnyNAs, rowAnys, rowAvgsPerColSet,
    rowCollapse, rowCounts, rowCummaxs, rowCummins, rowCumprods,
    rowCumsums, rowDiffs, rowIQRDiffs, rowIQRs, rowLogSumExps,
    rowMadDiffs, rowMads, rowMaxs, rowMeans2, rowMedians, rowMins,
    rowOrderStats, rowProds, rowQuantiles, rowRanges, rowRanks,
    rowSdDiffs, rowSds, rowSums2, rowTabulates, rowVarDiffs, rowVars,
    rowWeightedMads, rowWeightedMeans, rowWeightedMedians,
    rowWeightedSds, rowWeightedVars

Loading required package: GenomicRanges
Loading required package: stats4
Loading required package: S4Vectors

Attaching package: 'S4Vectors'

The following object is masked from 'package:utils':

    findMatches

The following objects are masked from 'package:base':

    I, expand.grid, unname

Loading required package: IRanges
Loading required package: GenomeInfoDb
Loading required package: Biobase
Welcome to Bioconductor

    Vignettes contain introductory material; view with
    'browseVignettes()'. To cite Bioconductor, see
    'citation("Biobase")', and for packages 'citation("pkgname")'.


Attaching package: 'Biobase'

The following object is masked from 'package:MatrixGenerics':

    rowMedians

The following objects are masked from 'package:matrixStats':

    anyMissing, rowMedians

The following object is masked from 'package:AnnotationHub':

    cache

> 
> test_check("hipathia")
Computing pathway...
hsa03320 - PPAR signaling pathway 
hsa04012 - ErbB signaling pathway 
Computing pathway...
hsa03320 - PPAR signaling pathway 
hsa04012 - ErbB signaling pathway 
translated ids = 3184 (1) 
untranslated ids = 3 (0.00094) 
multihit ids = 0 (0) 
[ FAIL 0 | WARN 1 | SKIP 0 | PASS 119 ]

[ FAIL 0 | WARN 1 | SKIP 0 | PASS 119 ]
> 
> proc.time()
   user  system elapsed 
311.396  11.304 378.920 

Example timings

hipathia.Rcheck/hipathia-Ex.timings

nameusersystemelapsed
DAcomp1.7960.1201.921
DAoverview0.4050.0390.446
DAreport3.2980.0963.456
DAsummary1.3110.0751.391
DAtop0.6730.0200.695
create_report28.084 1.32234.388
define_colors0.0010.0000.001
do_pca0.0450.0000.045
do_wilcoxon0.0920.0000.092
get_go_names5.0840.4478.413
get_node_names23.307 0.67126.321
get_nodes_data0.0010.0040.005
get_path_names24.079 0.96628.059
get_paths_data0.0050.0000.005
get_pathways_annotations28.760 0.56235.065
get_pathways_list21.692 0.56724.755
get_pathways_summary24.706 0.82628.483
heatmap_plot0.2150.0080.223
hhead0.0000.0010.001
hipathia24.970 1.59829.487
load_pathways23.714 0.63127.375
multiple_pca_plot0.0300.0000.031
node_color21.646 0.79327.198
node_color_per_de24.281 0.93428.069
normalize_data28.390 0.92632.177
normalize_paths22.552 0.85426.739
paths_to_go_ancestor0.3140.0080.323
pathway_comparison_plot22.297 1.34126.458
pca_plot0.0190.0030.022
plotVG1.8560.0081.866
quantify_terms34.817 1.91747.131
save_results22.742 0.70725.832
top_pathways0.0120.0000.012
translate_data26.666 0.88230.533
visualize_report24.051 2.33129.655