Back to Multiple platform build/check report for BioC 3.21:   simplified   long
ABCDEFG[H]IJKLMNOPQRSTUVWXYZ

This page was generated on 2025-10-16 11:41 -0400 (Thu, 16 Oct 2025).

HostnameOSArch (*)R versionInstalled pkgs
nebbiolo1Linux (Ubuntu 24.04.3 LTS)x86_644.5.1 (2025-06-13) -- "Great Square Root" 4833
merida1macOS 12.7.6 Montereyx86_644.5.1 RC (2025-06-05 r88288) -- "Great Square Root" 4614
kjohnson1macOS 13.7.5 Venturaarm644.5.1 Patched (2025-06-14 r88325) -- "Great Square Root" 4555
kunpeng2Linux (openEuler 24.03 LTS)aarch64R Under development (unstable) (2025-02-19 r87757) -- "Unsuffered Consequences" 4586
Click on any hostname to see more info about the system (e.g. compilers)      (*) as reported by 'uname -p', except on Windows and Mac OS X

Package 987/2341HostnameOS / ArchINSTALLBUILDCHECKBUILD BIN
hiReadsProcessor 1.44.0  (landing page)
Nirav V Malani
Snapshot Date: 2025-10-13 13:40 -0400 (Mon, 13 Oct 2025)
git_url: https://git.bioconductor.org/packages/hiReadsProcessor
git_branch: RELEASE_3_21
git_last_commit: 2a9fd2b
git_last_commit_date: 2025-04-15 10:33:28 -0400 (Tue, 15 Apr 2025)
nebbiolo1Linux (Ubuntu 24.04.3 LTS) / x86_64  OK    OK    OK  UNNEEDED, same version is already published
merida1macOS 12.7.6 Monterey / x86_64  OK    OK    OK    OK  UNNEEDED, same version is already published
kjohnson1macOS 13.7.5 Ventura / arm64  OK    OK    OK    OK  UNNEEDED, same version is already published
kunpeng2Linux (openEuler 24.03 LTS) / aarch64  OK    OK    OK  


CHECK results for hiReadsProcessor on kunpeng2

To the developers/maintainers of the hiReadsProcessor package:
- Allow up to 24 hours (and sometimes 48 hours) for your latest push to git@git.bioconductor.org:packages/hiReadsProcessor.git to reflect on this report. See Troubleshooting Build Report for more information.
- Use the following Renviron settings to reproduce errors and warnings.
- If 'R CMD check' started to fail recently on the Linux builder(s) over a missing dependency, add the missing dependency to 'Suggests:' in your DESCRIPTION file. See Renviron.bioc for more information.
- See Martin Grigorov's blog post for how to debug Linux ARM64 related issues on a x86_64 host.

raw results


Summary

Package: hiReadsProcessor
Version: 1.44.0
Command: /home/biocbuild/R/R/bin/R CMD check --install=check:hiReadsProcessor.install-out.txt --library=/home/biocbuild/R/R/site-library --no-vignettes --timings hiReadsProcessor_1.44.0.tar.gz
StartedAt: 2025-10-14 10:11:05 -0000 (Tue, 14 Oct 2025)
EndedAt: 2025-10-14 10:17:26 -0000 (Tue, 14 Oct 2025)
EllapsedTime: 381.3 seconds
RetCode: 0
Status:   OK  
CheckDir: hiReadsProcessor.Rcheck
Warnings: 0

Command output

##############################################################################
##############################################################################
###
### Running command:
###
###   /home/biocbuild/R/R/bin/R CMD check --install=check:hiReadsProcessor.install-out.txt --library=/home/biocbuild/R/R/site-library --no-vignettes --timings hiReadsProcessor_1.44.0.tar.gz
###
##############################################################################
##############################################################################


* using log directory ‘/home/biocbuild/bbs-3.21-bioc/meat/hiReadsProcessor.Rcheck’
* using R Under development (unstable) (2025-02-19 r87757)
* using platform: aarch64-unknown-linux-gnu
* R was compiled by
    aarch64-unknown-linux-gnu-gcc (GCC) 14.2.0
    GNU Fortran (GCC) 14.2.0
* running under: openEuler 24.03 (LTS-SP1)
* using session charset: UTF-8
* using option ‘--no-vignettes’
* checking for file ‘hiReadsProcessor/DESCRIPTION’ ... OK
* this is package ‘hiReadsProcessor’ version ‘1.44.0’
* checking package namespace information ... OK
* checking package dependencies ... OK
* checking if this is a source package ... OK
* checking if there is a namespace ... OK
* checking for hidden files and directories ... NOTE
Found the following hidden files and directories:
  .BBSoptions
These were most likely included in error. See section ‘Package
structure’ in the ‘Writing R Extensions’ manual.
* checking for portable file names ... OK
* checking for sufficient/correct file permissions ... OK
* checking whether package ‘hiReadsProcessor’ can be installed ... OK
* checking installed package size ... OK
* checking package directory ... OK
* checking ‘build’ directory ... OK
* checking DESCRIPTION meta-information ... OK
* checking top-level files ... OK
* checking for left-over files ... OK
* checking index information ... OK
* checking package subdirectories ... OK
* checking code files for non-ASCII characters ... OK
* checking R files for syntax errors ... OK
* checking whether the package can be loaded ... OK
* checking whether the package can be loaded with stated dependencies ... OK
* checking whether the package can be unloaded cleanly ... OK
* checking whether the namespace can be loaded with stated dependencies ... OK
* checking whether the namespace can be unloaded cleanly ... OK
* checking loading without being on the library search path ... OK
* checking dependencies in R code ... OK
* checking S3 generic/method consistency ... OK
* checking replacement functions ... OK
* checking foreign function calls ... OK
* checking R code for possible problems ... NOTE
chunkize: no visible global function definition for ‘breakInChunks’
chunkize: no visible global function definition for ‘detectCores’
clusterSites : <anonymous>: no visible binding for global variable
  ‘queryHits’
clusterSites: no visible binding for global variable ‘clusteredValue’
clusterSites: no visible binding for global variable
  ‘clusteredValue.freq’
crossOverCheck: no visible binding for global variable ‘queryHits’
decodeByBarcode: no visible global function definition for ‘metadata<-’
decodeByBarcode: no visible global function definition for ‘metadata’
extractSeqs : <anonymous>: no visible global function definition for
  ‘metadata’
extractSeqs : <anonymous> : <anonymous> : <anonymous>: no visible
  global function definition for ‘IRanges’
extractSeqs : <anonymous> : <anonymous>: no visible global function
  definition for ‘IRanges’
findBarcodes: no visible global function definition for ‘metadata<-’
findBarcodes: no visible global function definition for ‘metadata’
findIntegrations: no visible global function definition for
  ‘fasta.info’
findIntegrations : <anonymous>: no visible global function definition
  for ‘IRanges’
findVector : <anonymous>: no visible global function definition for
  ‘IRanges’
pairUpAlignments : <anonymous>: no visible binding for global variable
  ‘queryHits’
pairwiseAlignSeqs: no visible global function definition for
  ‘IRangesList’
pairwiseAlignSeqs: no visible global function definition for ‘IRanges’
primerIDAlignSeqs: no visible global function definition for ‘IRanges’
primerIDAlignSeqs: no visible global function definition for
  ‘IRangesList’
pslToRangedObject: no visible global function definition for ‘IRanges’
read.BAMasPSL: no visible global function definition for ‘ScanBamParam’
read.BAMasPSL: no visible global function definition for ‘scanBamFlag’
read.BAMasPSL: no visible global function definition for ‘DataFrame’
read.SeqFolder: no visible global function definition for ‘SimpleList’
read.psl: no visible global function definition for ‘mclapply’
read.psl : <anonymous>: no visible binding for global variable
  ‘matches’
read.psl : <anonymous>: no visible binding for global variable
  ‘misMatches’
read.psl : <anonymous>: no visible binding for global variable
  ‘qBaseInsert’
read.psl : <anonymous>: no visible binding for global variable
  ‘tBaseInsert’
read.psl: no visible binding for global variable ‘matches’
read.psl: no visible binding for global variable ‘misMatches’
read.psl: no visible binding for global variable ‘qBaseInsert’
read.psl: no visible binding for global variable ‘tBaseInsert’
read.sampleInfo: no visible global function definition for ‘SimpleList’
splitSeqsToFiles: no visible global function definition for
  ‘fasta.info’
vpairwiseAlignSeqs: no visible global function definition for ‘Rle’
vpairwiseAlignSeqs: no visible global function definition for
  ‘runLength’
vpairwiseAlignSeqs: no visible global function definition for ‘IRanges’
vpairwiseAlignSeqs: no visible global function definition for
  ‘runValue’
Undefined global functions or variables:
  DataFrame IRanges IRangesList Rle ScanBamParam SimpleList
  breakInChunks clusteredValue clusteredValue.freq detectCores
  fasta.info matches mclapply metadata metadata<- misMatches
  qBaseInsert queryHits runLength runValue scanBamFlag tBaseInsert
* checking Rd files ... OK
* checking Rd metadata ... OK
* checking Rd cross-references ... NOTE
Found the following Rd file(s) with Rd \link{} targets missing package
anchors:
  annotateSites.Rd: SerialParam, doAnnotation
  blatSeqs.Rd: BiocParallel, SerialParam
  clusterSites.Rd: BiocParallel, SerialParam
  doRCtest.Rd: vcountPattern, BiocParallel, SerialParam
  findAndRemoveVector.Rd: BiocParallel, SerialParam, MulticoreParam,
    SnowParam
  findAndTrimSeq.Rd: vmatchPattern, pairwiseAlignment, MulticoreParam,
    SnowParam
  findIntegrations.Rd: BiocParallel, SerialParam, MulticoreParam,
    SnowParam
  findLTRs.Rd: BiocParallel, SerialParam, pairwiseAlignment,
    MulticoreParam, SnowParam
  findLinkers.Rd: BiocParallel, SerialParam, pairwiseAlignment,
    MulticoreParam, SnowParam
  findPrimers.Rd: vmatchPattern, pairwiseAlignment, SerialParam,
    MulticoreParam, SnowParam
  findVector.Rd: BiocParallel, SerialParam, MulticoreParam, SnowParam
  getSonicAbund.Rd: sonicLength, BiocParallel, SerialParam
  isuSites.Rd: BiocParallel, SerialParam
  otuSites.Rd: BiocParallel, SerialParam
  pairUpAlignments.Rd: BiocParallel, SerialParam
  pairwiseAlignSeqs.Rd: pairwiseAlignment, BiocParallel, SerialParam,
    MulticoreParam, SnowParam
  primerIDAlignSeqs.Rd: pairwiseAlignment
  read.blast8.Rd: BiocParallel, SerialParam, MulticoreParam, SnowParam
  read.psl.Rd: BiocParallel, SerialParam, MulticoreParam, SnowParam
  troubleshootLinkers.Rd: BiocParallel, SerialParam, pairwiseAlignment,
    MulticoreParam, SnowParam
  vpairwiseAlignSeqs.Rd: vmatchPattern, BiocParallel, SerialParam,
    MulticoreParam, SnowParam
  write.listedDNAStringSet.Rd: BiocParallel, SerialParam,
    writeXStringSet, MulticoreParam, SnowParam
Please provide package anchors for all Rd \link{} targets not in the
package itself and the base packages.
* checking for missing documentation entries ... OK
* checking for code/documentation mismatches ... OK
* checking Rd \usage sections ... OK
* checking Rd contents ... OK
* checking for unstated dependencies in examples ... OK
* checking contents of ‘data’ directory ... OK
* checking data for non-ASCII characters ... OK
* checking data for ASCII and uncompressed saves ... OK
* checking files in ‘vignettes’ ... OK
* checking examples ... OK
Examples with CPU (user + system) or elapsed time > 5s
          user system elapsed
otuSites 5.436  0.139   5.586
doRCtest 4.282  1.101   5.416
isuSites 4.789  0.519   5.319
* checking for unstated dependencies in vignettes ... OK
* checking package vignettes ... OK
* checking running R code from vignettes ... SKIPPED
* checking re-building of vignette outputs ... SKIPPED
* checking PDF version of manual ... OK
* DONE

Status: 3 NOTEs
See
  ‘/home/biocbuild/bbs-3.21-bioc/meat/hiReadsProcessor.Rcheck/00check.log’
for details.


Installation output

hiReadsProcessor.Rcheck/00install.out

##############################################################################
##############################################################################
###
### Running command:
###
###   /home/biocbuild/R/R/bin/R CMD INSTALL hiReadsProcessor
###
##############################################################################
##############################################################################


* installing to library ‘/home/biocbuild/R/R-devel_2025-02-19/site-library’
* installing *source* package ‘hiReadsProcessor’ ...
** this is package ‘hiReadsProcessor’ version ‘1.44.0’
** using staged installation
** R
** data
** inst
** byte-compile and prepare package for lazy loading
** help
*** installing help indices
** building package indices
** installing vignettes
** testing if installed package can be loaded from temporary location
** testing if installed package can be loaded from final location
** testing if installed package keeps a record of temporary installation path
* DONE (hiReadsProcessor)

Tests output


Example timings

hiReadsProcessor.Rcheck/hiReadsProcessor-Ex.timings

nameusersystemelapsed
addFeature0.2240.0600.285
addListNameToReads0.3690.0400.410
annotateSites000
blatSeqs000
chunkize0.0460.0000.046
clusterSites0.4190.1190.539
crossOverCheck0.1330.0080.141
dereplicateReads0.0550.0040.059
doRCtest4.2821.1015.416
extractFeature0.1520.1260.147
extractSeqs0.5070.1200.628
findAndTrimSeq1.3171.3432.666
findBarcodes1.1550.2511.412
findIntegrations000
findLTRs000
findLinkers0.0000.0000.001
findPrimers000
findVector000
getIntegrationSites2.4700.6863.165
getSectorsForSamples0.0880.0000.088
getSonicAbund0.6090.2080.766
isuSites4.7890.5195.319
otuSites5.4360.1395.586
pairUpAlignments0.0000.0010.000
pairwiseAlignSeqs2.6281.0203.427
primerIDAlignSeqs3.6690.5714.142
pslCols000
pslToRangedObject0.2470.0040.253
read.BAMasPSL000
read.SeqFolder1.4110.0181.440
read.blast80.0010.0000.000
read.psl0.0000.0000.001
read.sampleInfo1.4000.0041.412
read.seqsFromSector000
removeReadsWithNs0.0240.0040.029
replicateReads0.0650.0000.066
sampleSummary0.8890.0080.899
splitByBarcode0.0380.0000.038
splitSeqsToFiles0.1770.0040.181
startgfServer000
trimSeqs0.0360.0000.036
vpairwiseAlignSeqs2.3411.0993.231
write.listedDNAStringSet000
write.psl0.0210.0010.022