Back to Multiple platform build/check report for BioC 3.21: simplified long |
|
This page was generated on 2025-10-16 11:41 -0400 (Thu, 16 Oct 2025).
Hostname | OS | Arch (*) | R version | Installed pkgs |
---|---|---|---|---|
nebbiolo1 | Linux (Ubuntu 24.04.3 LTS) | x86_64 | 4.5.1 (2025-06-13) -- "Great Square Root" | 4833 |
merida1 | macOS 12.7.6 Monterey | x86_64 | 4.5.1 RC (2025-06-05 r88288) -- "Great Square Root" | 4614 |
kjohnson1 | macOS 13.7.5 Ventura | arm64 | 4.5.1 Patched (2025-06-14 r88325) -- "Great Square Root" | 4555 |
kunpeng2 | Linux (openEuler 24.03 LTS) | aarch64 | R Under development (unstable) (2025-02-19 r87757) -- "Unsuffered Consequences" | 4586 |
Click on any hostname to see more info about the system (e.g. compilers) (*) as reported by 'uname -p', except on Windows and Mac OS X |
Package 875/2341 | Hostname | OS / Arch | INSTALL | BUILD | CHECK | BUILD BIN | ||||||||
ggtree 3.16.3 (landing page) Guangchuang Yu
| nebbiolo1 | Linux (Ubuntu 24.04.3 LTS) / x86_64 | OK | OK | OK | ![]() | ||||||||
merida1 | macOS 12.7.6 Monterey / x86_64 | OK | OK | OK | OK | ![]() | ||||||||
kjohnson1 | macOS 13.7.5 Ventura / arm64 | OK | OK | OK | OK | ![]() | ||||||||
kunpeng2 | Linux (openEuler 24.03 LTS) / aarch64 | OK | OK | OK | ||||||||||
To the developers/maintainers of the ggtree package: - Allow up to 24 hours (and sometimes 48 hours) for your latest push to git@git.bioconductor.org:packages/ggtree.git to reflect on this report. See Troubleshooting Build Report for more information. - Use the following Renviron settings to reproduce errors and warnings. - If 'R CMD check' started to fail recently on the Linux builder(s) over a missing dependency, add the missing dependency to 'Suggests:' in your DESCRIPTION file. See Renviron.bioc for more information. - See Martin Grigorov's blog post for how to debug Linux ARM64 related issues on a x86_64 host. |
Package: ggtree |
Version: 3.16.3 |
Command: /home/biocbuild/R/R/bin/R CMD check --install=check:ggtree.install-out.txt --library=/home/biocbuild/R/R/site-library --no-vignettes --timings ggtree_3.16.3.tar.gz |
StartedAt: 2025-10-14 09:42:34 -0000 (Tue, 14 Oct 2025) |
EndedAt: 2025-10-14 09:44:28 -0000 (Tue, 14 Oct 2025) |
EllapsedTime: 114.1 seconds |
RetCode: 0 |
Status: OK |
CheckDir: ggtree.Rcheck |
Warnings: 0 |
############################################################################## ############################################################################## ### ### Running command: ### ### /home/biocbuild/R/R/bin/R CMD check --install=check:ggtree.install-out.txt --library=/home/biocbuild/R/R/site-library --no-vignettes --timings ggtree_3.16.3.tar.gz ### ############################################################################## ############################################################################## * using log directory ‘/home/biocbuild/bbs-3.21-bioc/meat/ggtree.Rcheck’ * using R Under development (unstable) (2025-02-19 r87757) * using platform: aarch64-unknown-linux-gnu * R was compiled by aarch64-unknown-linux-gnu-gcc (GCC) 14.2.0 GNU Fortran (GCC) 14.2.0 * running under: openEuler 24.03 (LTS-SP1) * using session charset: UTF-8 * using option ‘--no-vignettes’ * checking for file ‘ggtree/DESCRIPTION’ ... OK * checking extension type ... Package * this is package ‘ggtree’ version ‘3.16.3’ * package encoding: UTF-8 * checking package namespace information ... OK * checking package dependencies ... OK * checking if this is a source package ... OK * checking if there is a namespace ... OK * checking for hidden files and directories ... OK * checking for portable file names ... OK * checking for sufficient/correct file permissions ... OK * checking whether package ‘ggtree’ can be installed ... OK * checking installed package size ... OK * checking package directory ... OK * checking ‘build’ directory ... OK * checking DESCRIPTION meta-information ... OK * checking top-level files ... OK * checking for left-over files ... OK * checking index information ... OK * checking package subdirectories ... OK * checking code files for non-ASCII characters ... OK * checking R files for syntax errors ... OK * checking whether the package can be loaded ... OK * checking whether the package can be loaded with stated dependencies ... OK * checking whether the package can be unloaded cleanly ... OK * checking whether the namespace can be loaded with stated dependencies ... OK * checking whether the namespace can be unloaded cleanly ... OK * checking loading without being on the library search path ... OK * checking whether startup messages can be suppressed ... OK * checking dependencies in R code ... OK * checking S3 generic/method consistency ... OK * checking replacement functions ... OK * checking foreign function calls ... OK * checking R code for possible problems ... OK * checking Rd files ... OK * checking Rd metadata ... OK * checking Rd cross-references ... NOTE Non-topic package-anchored link(s) in Rd file 'reexports.Rd': ‘[ggfun:attacher]{%<+%}’ ‘[ggplot2:scale_manual]{scale_color_manual}’ ‘[ggplot2:scale_manual]{scale_colour_manual}’ ‘[ggplot2:scale_manual]{scale_fill_manual}’ ‘[ggplot2:scale_continuous]{scale_x_continuous}’ ‘[magrittr:pipe]{%>%}’ See section 'Cross-references' in the 'Writing R Extensions' manual. * checking for missing documentation entries ... OK * checking for code/documentation mismatches ... OK * checking Rd \usage sections ... OK * checking Rd contents ... OK * checking for unstated dependencies in examples ... OK * checking files in ‘vignettes’ ... OK * checking examples ... OK Examples with CPU (user + system) or elapsed time > 5s user system elapsed ggdensitree 5.157 0.036 5.208 * checking for unstated dependencies in ‘tests’ ... OK * checking tests ... Running ‘testthat.R’ OK * checking for unstated dependencies in vignettes ... OK * checking package vignettes ... OK * checking running R code from vignettes ... SKIPPED * checking re-building of vignette outputs ... SKIPPED * checking PDF version of manual ... OK * DONE Status: 1 NOTE See ‘/home/biocbuild/bbs-3.21-bioc/meat/ggtree.Rcheck/00check.log’ for details.
ggtree.Rcheck/00install.out
############################################################################## ############################################################################## ### ### Running command: ### ### /home/biocbuild/R/R/bin/R CMD INSTALL ggtree ### ############################################################################## ############################################################################## * installing to library ‘/home/biocbuild/R/R-devel_2025-02-19/site-library’ * installing *source* package ‘ggtree’ ... ** this is package ‘ggtree’ version ‘3.16.3’ ** using staged installation ** R ** inst ** byte-compile and prepare package for lazy loading ** help *** installing help indices ** building package indices ** installing vignettes ** testing if installed package can be loaded from temporary location ** testing if installed package can be loaded from final location ** testing if installed package keeps a record of temporary installation path * DONE (ggtree)
ggtree.Rcheck/tests/testthat.Rout
R Under development (unstable) (2025-02-19 r87757) -- "Unsuffered Consequences" Copyright (C) 2025 The R Foundation for Statistical Computing Platform: aarch64-unknown-linux-gnu R is free software and comes with ABSOLUTELY NO WARRANTY. You are welcome to redistribute it under certain conditions. Type 'license()' or 'licence()' for distribution details. R is a collaborative project with many contributors. Type 'contributors()' for more information and 'citation()' on how to cite R or R packages in publications. Type 'demo()' for some demos, 'help()' for on-line help, or 'help.start()' for an HTML browser interface to help. Type 'q()' to quit R. > library(testthat) > library(ggtree) ggtree v3.16.3 Learn more at https://yulab-smu.top/contribution-tree-data/ Please cite: Guangchuang Yu. Using ggtree to visualize data on tree-like structures. Current Protocols in Bioinformatics. 2020, 69:e96. doi:10.1002/cpbi.96 > > test_check("ggtree") [ FAIL 0 | WARN 10 | SKIP 0 | PASS 14 ] [ FAIL 0 | WARN 10 | SKIP 0 | PASS 14 ] > > proc.time() user system elapsed 4.868 0.290 5.162
ggtree.Rcheck/ggtree-Ex.timings
name | user | system | elapsed | |
collapse | 1.146 | 0.063 | 1.211 | |
expand | 0.467 | 0.000 | 0.469 | |
facet-plot | 0.546 | 0.000 | 0.547 | |
flip | 0.501 | 0.000 | 0.502 | |
geom-hilight | 3.455 | 0.020 | 3.483 | |
geom_balance | 0.535 | 0.032 | 0.569 | |
geom_cladelab | 0.984 | 0.004 | 0.990 | |
geom_label2 | 0.563 | 0.000 | 0.564 | |
geom_point2 | 2.496 | 0.048 | 2.551 | |
geom_rootedge | 1.899 | 0.000 | 1.904 | |
geom_rootpoint | 0.897 | 0.000 | 0.899 | |
geom_strip | 0.474 | 0.000 | 0.476 | |
geom_striplab | 0.558 | 0.032 | 0.591 | |
geom_tiplab | 0.493 | 0.000 | 0.494 | |
geom_tiplab2 | 0.579 | 0.004 | 0.584 | |
geom_tippoint | 0.458 | 0.000 | 0.459 | |
geom_tree | 0.293 | 0.000 | 0.294 | |
get_taxa_name | 0.211 | 0.000 | 0.212 | |
ggdensitree | 5.157 | 0.036 | 5.208 | |
ggexpand | 0.597 | 0.000 | 0.599 | |
ggtree-format-painter | 0.487 | 0.000 | 0.490 | |
ggtree | 0.416 | 0.000 | 0.418 | |
label_pad | 0.001 | 0.000 | 0.001 | |
open_tree | 0.544 | 0.008 | 0.553 | |
reexports | 0.615 | 0.000 | 0.617 | |
revts | 0.535 | 0.000 | 0.536 | |
rotate | 0.460 | 0.000 | 0.462 | |
rotate_tree | 0.580 | 0.004 | 0.587 | |
scaleClade | 0.530 | 0.000 | 0.532 | |
theme_tree | 0.538 | 0.000 | 0.540 | |
theme_tree2 | 0.695 | 0.047 | 0.745 | |
tree-layout | 2.300 | 0.040 | 2.346 | |
viewClade | 0.529 | 0.004 | 0.535 | |
xlim_expand | 0.598 | 0.000 | 0.600 | |
xlim_tree | 0.606 | 0.000 | 0.608 | |
zoomClade | 0 | 0 | 0 | |