Back to Multiple platform build/check report for BioC 3.21:   simplified   long
ABCDEF[G]HIJKLMNOPQRSTUVWXYZ

This page was generated on 2025-10-16 11:41 -0400 (Thu, 16 Oct 2025).

HostnameOSArch (*)R versionInstalled pkgs
nebbiolo1Linux (Ubuntu 24.04.3 LTS)x86_644.5.1 (2025-06-13) -- "Great Square Root" 4833
merida1macOS 12.7.6 Montereyx86_644.5.1 RC (2025-06-05 r88288) -- "Great Square Root" 4614
kjohnson1macOS 13.7.5 Venturaarm644.5.1 Patched (2025-06-14 r88325) -- "Great Square Root" 4555
kunpeng2Linux (openEuler 24.03 LTS)aarch64R Under development (unstable) (2025-02-19 r87757) -- "Unsuffered Consequences" 4586
Click on any hostname to see more info about the system (e.g. compilers)      (*) as reported by 'uname -p', except on Windows and Mac OS X

Package 788/2341HostnameOS / ArchINSTALLBUILDCHECKBUILD BIN
gCrisprTools 2.14.0  (landing page)
Russell Bainer
Snapshot Date: 2025-10-13 13:40 -0400 (Mon, 13 Oct 2025)
git_url: https://git.bioconductor.org/packages/gCrisprTools
git_branch: RELEASE_3_21
git_last_commit: d9fd3ad
git_last_commit_date: 2025-04-15 11:04:56 -0400 (Tue, 15 Apr 2025)
nebbiolo1Linux (Ubuntu 24.04.3 LTS) / x86_64  OK    OK    OK  UNNEEDED, same version is already published
merida1macOS 12.7.6 Monterey / x86_64  OK    OK    OK    OK  UNNEEDED, same version is already published
kjohnson1macOS 13.7.5 Ventura / arm64  OK    OK    OK    OK  UNNEEDED, same version is already published
kunpeng2Linux (openEuler 24.03 LTS) / aarch64  OK    OK    OK  


CHECK results for gCrisprTools on kunpeng2

To the developers/maintainers of the gCrisprTools package:
- Allow up to 24 hours (and sometimes 48 hours) for your latest push to git@git.bioconductor.org:packages/gCrisprTools.git to reflect on this report. See Troubleshooting Build Report for more information.
- Use the following Renviron settings to reproduce errors and warnings.
- If 'R CMD check' started to fail recently on the Linux builder(s) over a missing dependency, add the missing dependency to 'Suggests:' in your DESCRIPTION file. See Renviron.bioc for more information.
- See Martin Grigorov's blog post for how to debug Linux ARM64 related issues on a x86_64 host.

raw results


Summary

Package: gCrisprTools
Version: 2.14.0
Command: /home/biocbuild/R/R/bin/R CMD check --install=check:gCrisprTools.install-out.txt --library=/home/biocbuild/R/R/site-library --no-vignettes --timings gCrisprTools_2.14.0.tar.gz
StartedAt: 2025-10-14 09:19:10 -0000 (Tue, 14 Oct 2025)
EndedAt: 2025-10-14 09:27:00 -0000 (Tue, 14 Oct 2025)
EllapsedTime: 469.3 seconds
RetCode: 0
Status:   OK  
CheckDir: gCrisprTools.Rcheck
Warnings: 0

Command output

##############################################################################
##############################################################################
###
### Running command:
###
###   /home/biocbuild/R/R/bin/R CMD check --install=check:gCrisprTools.install-out.txt --library=/home/biocbuild/R/R/site-library --no-vignettes --timings gCrisprTools_2.14.0.tar.gz
###
##############################################################################
##############################################################################


* using log directory ‘/home/biocbuild/bbs-3.21-bioc/meat/gCrisprTools.Rcheck’
* using R Under development (unstable) (2025-02-19 r87757)
* using platform: aarch64-unknown-linux-gnu
* R was compiled by
    aarch64-unknown-linux-gnu-gcc (GCC) 14.2.0
    GNU Fortran (GCC) 14.2.0
* running under: openEuler 24.03 (LTS-SP1)
* using session charset: UTF-8
* using option ‘--no-vignettes’
* checking for file ‘gCrisprTools/DESCRIPTION’ ... OK
* checking extension type ... Package
* this is package ‘gCrisprTools’ version ‘2.14.0’
* package encoding: UTF-8
* checking package namespace information ... OK
* checking package dependencies ... OK
* checking if this is a source package ... OK
* checking if there is a namespace ... OK
* checking for hidden files and directories ... OK
* checking for portable file names ... OK
* checking for sufficient/correct file permissions ... OK
* checking whether package ‘gCrisprTools’ can be installed ... OK
* checking installed package size ... OK
* checking package directory ... OK
* checking ‘build’ directory ... OK
* checking DESCRIPTION meta-information ... OK
* checking top-level files ... OK
* checking for left-over files ... OK
* checking index information ... OK
* checking package subdirectories ... OK
* checking code files for non-ASCII characters ... OK
* checking R files for syntax errors ... OK
* checking whether the package can be loaded ... OK
* checking whether the package can be loaded with stated dependencies ... OK
* checking whether the package can be unloaded cleanly ... OK
* checking whether the namespace can be loaded with stated dependencies ... OK
* checking whether the namespace can be unloaded cleanly ... OK
* checking loading without being on the library search path ... OK
* checking dependencies in R code ... NOTE
Namespace in Imports field not imported from: ‘RobustRankAggreg’
  All declared Imports should be used.
* checking S3 generic/method consistency ... OK
* checking replacement functions ... OK
* checking foreign function calls ... OK
* checking R code for possible problems ... OK
* checking Rd files ... OK
* checking Rd metadata ... OK
* checking Rd cross-references ... OK
* checking for missing documentation entries ... OK
* checking for code/documentation mismatches ... OK
* checking Rd \usage sections ... NOTE
Documented arguments not in \usage in Rd file 'ct.targetSetEnrichment.Rd':
  ‘pvalue.cutoff’ ‘organism’ ‘db.cut’ ‘species’

Functions with \usage entries need to have the appropriate \alias
entries, and all their arguments documented.
The \usage entries must correspond to syntactically valid R code.
See chapter ‘Writing R documentation files’ in the ‘Writing R
Extensions’ manual.
* checking Rd contents ... OK
* checking for unstated dependencies in examples ... OK
* checking contents of ‘data’ directory ... OK
* checking data for non-ASCII characters ... OK
* checking data for ASCII and uncompressed saves ... OK
* checking files in ‘vignettes’ ... OK
* checking examples ... OK
Examples with CPU (user + system) or elapsed time > 5s
                        user system elapsed
ct.guideCDF           45.105  0.332  45.539
ct.makeReport         25.158  0.369  25.604
ct.compareContrasts   14.314  0.096  14.445
ct.upSet              13.744  0.315  14.098
ct.makeContrastReport 13.149  0.458  13.700
ct.seas               10.189  0.702  10.530
ct.contrastBarchart   10.067  0.059  10.154
ct.GREATdb             8.749  0.112   8.861
ct.makeQCReport        7.933  0.258   8.225
ct.stackGuides         6.977  0.076   7.072
ct.GCbias              5.965  0.143   6.119
ct.rankSimple          6.028  0.032   6.074
* checking for unstated dependencies in ‘tests’ ... OK
* checking tests ...
  Running ‘unit.tests.R’
 OK
* checking for unstated dependencies in vignettes ... OK
* checking package vignettes ... OK
* checking running R code from vignettes ... SKIPPED
* checking re-building of vignette outputs ... SKIPPED
* checking PDF version of manual ... OK
* DONE

Status: 2 NOTEs
See
  ‘/home/biocbuild/bbs-3.21-bioc/meat/gCrisprTools.Rcheck/00check.log’
for details.


Installation output

gCrisprTools.Rcheck/00install.out

##############################################################################
##############################################################################
###
### Running command:
###
###   /home/biocbuild/R/R/bin/R CMD INSTALL gCrisprTools
###
##############################################################################
##############################################################################


* installing to library ‘/home/biocbuild/R/R-devel_2025-02-19/site-library’
* installing *source* package ‘gCrisprTools’ ...
** this is package ‘gCrisprTools’ version ‘2.14.0’
** using staged installation
** R
** data
** inst
** byte-compile and prepare package for lazy loading
** help
*** installing help indices
** building package indices
** installing vignettes
** testing if installed package can be loaded from temporary location
** testing if installed package can be loaded from final location
** testing if installed package keeps a record of temporary installation path
* DONE (gCrisprTools)

Tests output

gCrisprTools.Rcheck/tests/unit.tests.Rout


R Under development (unstable) (2025-02-19 r87757) -- "Unsuffered Consequences"
Copyright (C) 2025 The R Foundation for Statistical Computing
Platform: aarch64-unknown-linux-gnu

R is free software and comes with ABSOLUTELY NO WARRANTY.
You are welcome to redistribute it under certain conditions.
Type 'license()' or 'licence()' for distribution details.

R is a collaborative project with many contributors.
Type 'contributors()' for more information and
'citation()' on how to cite R or R packages in publications.

Type 'demo()' for some demos, 'help()' for on-line help, or
'help.start()' for an HTML browser interface to help.
Type 'q()' to quit R.

> #require("BiocGenerics", quietly = TRUE)
> BiocGenerics:::testPackage("gCrisprTools")


RUNIT TEST PROTOCOL -- Tue Oct 14 09:26:54 2025 
*********************************************** 
Number of test functions: 0 
Number of errors: 0 
Number of failures: 0 

 
1 Test Suite : 
gCrisprTools RUnit Tests - 0 test functions, 0 errors, 0 failures
Number of test functions: 0 
Number of errors: 0 
Number of failures: 0 
> 
> proc.time()
   user  system elapsed 
 11.156   0.644  11.809 

Example timings

gCrisprTools.Rcheck/gCrisprTools-Ex.timings

nameusersystemelapsed
aln0.0030.0000.003
ann0.0570.0000.057
ct.CAT2.3740.0922.470
ct.DirectionalTests0.2250.0640.289
ct.GCbias5.9650.1436.119
ct.GREATdb8.7490.1128.861
ct.PRC2.9060.1203.031
ct.ROC2.1410.0042.149
ct.RRAaPvals0.4000.0080.409
ct.RRAalpha0.2360.0080.245
ct.alignmentChart0.0060.0000.006
ct.alphaBeta000
ct.applyAlpha0.0020.0000.002
ct.buildSE0.4150.0120.428
ct.compareContrasts14.314 0.09614.445
ct.contrastBarchart10.067 0.05910.154
ct.expandAnnotation0.0690.0010.069
ct.filterReads0.4450.0040.451
ct.gRNARankByReplicate0.4590.0110.472
ct.generateResults0.5930.0120.606
ct.guideCDF45.105 0.33245.539
ct.keyCheck0.1330.0040.138
ct.makeContrastReport13.149 0.45813.700
ct.makeQCReport7.9330.2588.225
ct.makeReport25.158 0.36925.604
ct.makeRhoNull0.0010.0000.001
ct.normalizeBySlope1.3990.0201.421
ct.normalizeFQ2.0300.1512.186
ct.normalizeGuides3.5410.0603.607
ct.normalizeMedians0.7710.0160.788
ct.normalizeNTC0.8970.0120.911
ct.normalizeSpline1.1160.0281.152
ct.parseGeneSymbol0.0020.0000.002
ct.prepareAnnotation0.7100.0040.715
ct.preprocessFit2.5930.0882.687
ct.rankSimple6.0280.0326.074
ct.rawCountDensities0.1900.0120.202
ct.regularizeContrasts0.1190.0000.119
ct.resultCheck0.0530.0040.057
ct.scatter0.5510.0040.557
ct.seas10.189 0.70210.530
ct.seasPrep3.2840.1673.460
ct.signalSummary2.2180.0282.252
ct.simpleResult2.0600.0322.098
ct.softLog000
ct.stackGuides6.9770.0767.072
ct.targetSetEnrichment2.0220.0042.032
ct.topTargets0.3020.0120.314
ct.upSet13.744 0.31514.098
ct.viewControls0.3130.0040.318
ct.viewGuides0.3420.0000.343
es0.0470.0040.050
essential.genes0.0020.0000.001
fit0.160.000.16
resultsDF0.0540.0040.058