Back to Multiple platform build/check report for BioC 3.21:   simplified   long
AB[C]DEFGHIJKLMNOPQRSTUVWXYZ

This page was generated on 2025-10-16 11:38 -0400 (Thu, 16 Oct 2025).

HostnameOSArch (*)R versionInstalled pkgs
nebbiolo1Linux (Ubuntu 24.04.3 LTS)x86_644.5.1 (2025-06-13) -- "Great Square Root" 4833
merida1macOS 12.7.6 Montereyx86_644.5.1 RC (2025-06-05 r88288) -- "Great Square Root" 4614
kjohnson1macOS 13.7.5 Venturaarm644.5.1 Patched (2025-06-14 r88325) -- "Great Square Root" 4555
kunpeng2Linux (openEuler 24.03 LTS)aarch64R Under development (unstable) (2025-02-19 r87757) -- "Unsuffered Consequences" 4586
Click on any hostname to see more info about the system (e.g. compilers)      (*) as reported by 'uname -p', except on Windows and Mac OS X

Package 417/2341HostnameOS / ArchINSTALLBUILDCHECKBUILD BIN
cola 2.14.0  (landing page)
Zuguang Gu
Snapshot Date: 2025-10-13 13:40 -0400 (Mon, 13 Oct 2025)
git_url: https://git.bioconductor.org/packages/cola
git_branch: RELEASE_3_21
git_last_commit: 545c0fe
git_last_commit_date: 2025-04-15 11:40:31 -0400 (Tue, 15 Apr 2025)
nebbiolo1Linux (Ubuntu 24.04.3 LTS) / x86_64  OK    OK    OK  UNNEEDED, same version is already published
merida1macOS 12.7.6 Monterey / x86_64  OK    OK    OK    OK  UNNEEDED, same version is already published
kjohnson1macOS 13.7.5 Ventura / arm64  OK    OK    OK    OK  UNNEEDED, same version is already published
kunpeng2Linux (openEuler 24.03 LTS) / aarch64  OK    OK    OK  


CHECK results for cola on merida1

To the developers/maintainers of the cola package:
- Allow up to 24 hours (and sometimes 48 hours) for your latest push to git@git.bioconductor.org:packages/cola.git to reflect on this report. See Troubleshooting Build Report for more information.
- Use the following Renviron settings to reproduce errors and warnings.
- If 'R CMD check' started to fail recently on the Linux builder(s) over a missing dependency, add the missing dependency to 'Suggests:' in your DESCRIPTION file. See Renviron.bioc for more information.

raw results


Summary

Package: cola
Version: 2.14.0
Command: /Library/Frameworks/R.framework/Resources/bin/R CMD check --install=check:cola.install-out.txt --library=/Library/Frameworks/R.framework/Resources/library --no-vignettes --timings cola_2.14.0.tar.gz
StartedAt: 2025-10-14 01:47:48 -0400 (Tue, 14 Oct 2025)
EndedAt: 2025-10-14 01:54:48 -0400 (Tue, 14 Oct 2025)
EllapsedTime: 420.0 seconds
RetCode: 0
Status:   OK  
CheckDir: cola.Rcheck
Warnings: 0

Command output

##############################################################################
##############################################################################
###
### Running command:
###
###   /Library/Frameworks/R.framework/Resources/bin/R CMD check --install=check:cola.install-out.txt --library=/Library/Frameworks/R.framework/Resources/library --no-vignettes --timings cola_2.14.0.tar.gz
###
##############################################################################
##############################################################################


* using log directory ‘/Users/biocbuild/bbs-3.21-bioc/meat/cola.Rcheck’
* using R version 4.5.1 RC (2025-06-05 r88288)
* using platform: x86_64-apple-darwin20
* R was compiled by
    Apple clang version 14.0.0 (clang-1400.0.29.202)
    GNU Fortran (GCC) 14.2.0
* running under: macOS Monterey 12.7.6
* using session charset: UTF-8
* using option ‘--no-vignettes’
* checking for file ‘cola/DESCRIPTION’ ... OK
* checking extension type ... Package
* this is package ‘cola’ version ‘2.14.0’
* checking package namespace information ... OK
* checking package dependencies ... INFO
Imports includes 27 non-default packages.
Importing from so many packages makes the package vulnerable to any of
them becoming unavailable.  Move as many as possible to Suggests and
use conditionally.
* checking if this is a source package ... OK
* checking if there is a namespace ... OK
* checking for hidden files and directories ... OK
* checking for portable file names ... OK
* checking for sufficient/correct file permissions ... OK
* checking whether package ‘cola’ can be installed ... OK
* used C++ compiler: ‘Apple clang version 14.0.0 (clang-1400.0.29.202)’
* used SDK: ‘MacOSX11.3.sdk’
* checking installed package size ... INFO
  installed size is  5.8Mb
  sub-directories of 1Mb or more:
    data      3.2Mb
    extdata   1.0Mb
* checking package directory ... OK
* checking ‘build’ directory ... OK
* checking DESCRIPTION meta-information ... NOTE
License stub is invalid DCF.
* checking top-level files ... OK
* checking for left-over files ... OK
* checking index information ... OK
* checking package subdirectories ... OK
* checking code files for non-ASCII characters ... OK
* checking R files for syntax errors ... OK
* checking whether the package can be loaded ... OK
* checking whether the package can be loaded with stated dependencies ... OK
* checking whether the package can be unloaded cleanly ... OK
* checking whether the namespace can be loaded with stated dependencies ... OK
* checking whether the namespace can be unloaded cleanly ... OK
* checking whether startup messages can be suppressed ... OK
* checking dependencies in R code ... OK
* checking S3 generic/method consistency ... OK
* checking replacement functions ... OK
* checking foreign function calls ... OK
* checking R code for possible problems ... OK
* checking Rd files ... OK
* checking Rd metadata ... OK
* checking Rd cross-references ... NOTE
Non-topic package-anchored link(s) in Rd file 'collect_classes-ConsensusPartitionList-method.Rd':
  ‘[ComplexHeatmap:draw-HeatmapList-method]{draw,HeatmapList-method}’

See section 'Cross-references' in the 'Writing R Extensions' manual.

Found the following Rd file(s) with Rd \link{} targets missing package
anchors:
  predict_classes-ConsensusPartition-method.Rd: colorRamp2
  predict_classes-matrix-method.Rd: colorRamp2
Please provide package anchors for all Rd \link{} targets not in the
package itself and the base packages.
* checking for missing documentation entries ... OK
* checking for code/documentation mismatches ... OK
* checking Rd \usage sections ... OK
* checking Rd contents ... OK
* checking for unstated dependencies in examples ... OK
* checking contents of ‘data’ directory ... OK
* checking data for non-ASCII characters ... OK
* checking data for ASCII and uncompressed saves ... OK
* checking line endings in C/C++/Fortran sources/headers ... OK
* checking compiled code ... NOTE
Note: information on .o files is not available
* checking files in ‘vignettes’ ... OK
* checking examples ... OK
Examples with CPU (user + system) or elapsed time > 5s
                                                  user system elapsed
consensus_partition                             46.307  0.428  52.464
get_signatures-ConsensusPartition-method        10.692  0.237  11.646
compare_signatures-HierarchicalPartition-method  7.496  0.300   8.790
collect_classes-ConsensusPartitionList-method    7.463  0.070   8.309
top_rows_heatmap-matrix-method                   6.278  0.291   7.026
* checking for unstated dependencies in ‘tests’ ... OK
* checking tests ...
  Running ‘test-all.R’
 OK
* checking for unstated dependencies in vignettes ... OK
* checking package vignettes ... OK
* checking running R code from vignettes ... SKIPPED
* checking re-building of vignette outputs ... SKIPPED
* checking PDF version of manual ... OK
* DONE

Status: 3 NOTEs
See
  ‘/Users/biocbuild/bbs-3.21-bioc/meat/cola.Rcheck/00check.log’
for details.


Installation output

cola.Rcheck/00install.out

##############################################################################
##############################################################################
###
### Running command:
###
###   /Library/Frameworks/R.framework/Resources/bin/R CMD INSTALL cola
###
##############################################################################
##############################################################################


* installing to library ‘/Library/Frameworks/R.framework/Versions/4.5-x86_64/Resources/library’
* installing *source* package ‘cola’ ...
** this is package ‘cola’ version ‘2.14.0’
** using staged installation
** libs
using C++ compiler: ‘Apple clang version 14.0.0 (clang-1400.0.29.202)’
using SDK: ‘MacOSX11.3.sdk’
clang++ -arch x86_64 -std=gnu++17 -I"/Library/Frameworks/R.framework/Resources/include" -DNDEBUG  -I'/Library/Frameworks/R.framework/Versions/4.5-x86_64/Resources/library/Rcpp/include' -I/opt/R/x86_64/include    -fPIC  -falign-functions=64 -Wall -g -O2   -c RcppExports.cpp -o RcppExports.o
clang++ -arch x86_64 -std=gnu++17 -I"/Library/Frameworks/R.framework/Resources/include" -DNDEBUG  -I'/Library/Frameworks/R.framework/Versions/4.5-x86_64/Resources/library/Rcpp/include' -I/opt/R/x86_64/include    -fPIC  -falign-functions=64 -Wall -g -O2   -c atc.cpp -o atc.o
clang++ -arch x86_64 -std=gnu++17 -I"/Library/Frameworks/R.framework/Resources/include" -DNDEBUG  -I'/Library/Frameworks/R.framework/Versions/4.5-x86_64/Resources/library/Rcpp/include' -I/opt/R/x86_64/include    -fPIC  -falign-functions=64 -Wall -g -O2   -c cal_consensus_mat.cpp -o cal_consensus_mat.o
clang++ -arch x86_64 -std=gnu++17 -I"/Library/Frameworks/R.framework/Resources/include" -DNDEBUG  -I'/Library/Frameworks/R.framework/Versions/4.5-x86_64/Resources/library/Rcpp/include' -I/opt/R/x86_64/include    -fPIC  -falign-functions=64 -Wall -g -O2   -c pdist.cpp -o pdist.o
clang++ -arch x86_64 -std=gnu++17 -dynamiclib -Wl,-headerpad_max_install_names -undefined dynamic_lookup -L/Library/Frameworks/R.framework/Resources/lib -L/opt/R/x86_64/lib -o cola.so RcppExports.o atc.o cal_consensus_mat.o pdist.o -F/Library/Frameworks/R.framework/.. -framework R
installing to /Library/Frameworks/R.framework/Versions/4.5-x86_64/Resources/library/00LOCK-cola/00new/cola/libs
** R
** data
** inst
** byte-compile and prepare package for lazy loading
** help
*** installing help indices
** building package indices
** installing vignettes
** testing if installed package can be loaded from temporary location
** checking absolute paths in shared objects and dynamic libraries
** testing if installed package can be loaded from final location
** testing if installed package keeps a record of temporary installation path
* DONE (cola)

Tests output

cola.Rcheck/tests/test-all.Rout


R version 4.5.1 RC (2025-06-05 r88288) -- "Great Square Root"
Copyright (C) 2025 The R Foundation for Statistical Computing
Platform: x86_64-apple-darwin20

R is free software and comes with ABSOLUTELY NO WARRANTY.
You are welcome to redistribute it under certain conditions.
Type 'license()' or 'licence()' for distribution details.

R is a collaborative project with many contributors.
Type 'contributors()' for more information and
'citation()' on how to cite R or R packages in publications.

Type 'demo()' for some demos, 'help()' for on-line help, or
'help.start()' for an HTML browser interface to help.
Type 'q()' to quit R.

> library(testthat)
> suppressWarnings(suppressPackageStartupMessages(library(cola)))
> 
> test_check("cola")
[ FAIL 0 | WARN 0 | SKIP 0 | PASS 18 ]
> 
> 
> proc.time()
   user  system elapsed 
  8.813   0.622  10.725 

Example timings

cola.Rcheck/cola-Ex.timings

nameusersystemelapsed
ATC0.0470.0060.057
ATC_approx0.0000.0010.001
ConsensusPartition-class0.0000.0000.001
ConsensusPartitionList-class0.0000.0010.001
DownSamplingConsensusPartition-class0.0000.0010.001
Extract.ConsensusPartitionList1.0440.0501.207
Extract.HierarchicalPartition0.2290.0140.272
ExtractExtract.ConsensusPartitionList0.6220.0180.686
ExtractExtract.HierarchicalPartition0.0000.0010.000
FCC0.2380.0120.262
HierarchicalPartition-class000
PAC0.2470.0150.292
aPAC0.2420.0160.295
adjust_matrix0.0130.0050.020
adjust_outlier0.0010.0010.003
all_leaves-HierarchicalPartition-method0.1710.0110.195
all_nodes-HierarchicalPartition-method0.1700.0090.193
all_partition_methods0.0010.0010.001
all_top_value_methods0.0000.0010.001
cola0.1450.0030.159
cola_opt0.0450.0030.051
cola_report-ConsensusPartition-method0.0010.0010.000
cola_report-ConsensusPartitionList-method0.0000.0010.001
cola_report-HierarchicalPartition-method0.0000.0000.001
cola_report-dispatch0.0010.0010.003
cola_rl0.1450.0120.174
collect_classes-ConsensusPartition-method4.3560.1374.896
collect_classes-ConsensusPartitionList-method7.4630.0708.309
collect_classes-HierarchicalPartition-method4.1490.0824.746
collect_classes-dispatch0.0000.0010.000
collect_plots-ConsensusPartition-method0.0000.0010.000
collect_plots-ConsensusPartitionList-method0.0000.0010.000
collect_plots-dispatch0.0000.0010.001
collect_stats-ConsensusPartition-method0.0010.0000.001
collect_stats-ConsensusPartitionList-method0.8730.0171.033
collect_stats-dispatch0.0000.0000.001
colnames-ConsensusPartition-method0.0000.0010.001
colnames-ConsensusPartitionList-method0.0000.0010.001
colnames-DownSamplingConsensusPartition-method0.0000.0000.001
colnames-HierarchicalPartition-method0.0000.0000.001
colnames-dispatch000
compare_partitions-ConsensusPartition-method0.0000.0000.004
compare_signatures-ConsensusPartition-method0.0000.0010.001
compare_signatures-HierarchicalPartition-method7.4960.3008.790
compare_signatures-dispatch0.0000.0000.001
concordance0.2240.0130.265
config_ATC0.0010.0000.002
consensus_heatmap-ConsensusPartition-method1.1650.0231.336
consensus_partition46.307 0.42852.464
consensus_partition_by_down_sampling0.0000.0010.001
correspond_between_rankings0.1160.0050.131
correspond_between_two_rankings0.0510.0020.060
david_enrichment0.0000.0000.001
dim.ConsensusPartition0.0000.0010.001
dim.ConsensusPartitionList0.0000.0000.001
dim.DownSamplingConsensusPartition000
dim.HierarchicalPartition000
dimension_reduction-ConsensusPartition-method1.3870.0641.583
dimension_reduction-DownSamplingConsensusPartition-method3.1630.0793.464
dimension_reduction-HierarchicalPartition-method1.1580.0541.234
dimension_reduction-dispatch0.0000.0000.001
dimension_reduction-matrix-method0.0010.0010.001
find_best_km0.0000.0000.001
functional_enrichment-ANY-method0.0000.0010.001
functional_enrichment-ConsensusPartition-method0.0010.0000.000
functional_enrichment-ConsensusPartitionList-method0.0000.0010.001
functional_enrichment-HierarchicalPartition-method0.0000.0010.001
functional_enrichment-dispatch0.0000.0000.001
get_anno-ConsensusPartition-method0.0000.0010.001
get_anno-ConsensusPartitionList-method0.0010.0000.000
get_anno-DownSamplingConsensusPartition-method0.1060.0100.118
get_anno-HierarchicalPartition-method0.0010.0010.001
get_anno-dispatch000
get_anno_col-ConsensusPartition-method0.0000.0010.001
get_anno_col-ConsensusPartitionList-method0.0000.0000.001
get_anno_col-HierarchicalPartition-method0.0010.0010.001
get_anno_col-dispatch0.0000.0000.001
get_children_nodes-HierarchicalPartition-method0.0000.0010.001
get_classes-ConsensusPartition-method0.2250.0220.251
get_classes-ConsensusPartitionList-method0.2350.0180.255
get_classes-DownSamplingConsensusPartition-method0.1080.0220.137
get_classes-HierarchicalPartition-method0.1980.0110.210
get_classes-dispatch0.0000.0010.002
get_consensus-ConsensusPartition-method0.2300.0910.323
get_matrix-ConsensusPartition-method0.7971.4972.319
get_matrix-ConsensusPartitionList-method0.8211.5242.464
get_matrix-DownSamplingConsensusPartition-method0.0000.0010.001
get_matrix-HierarchicalPartition-method0.0010.0010.001
get_matrix-dispatch0.0000.0010.000
get_membership-ConsensusPartition-method0.2300.0580.305
get_membership-ConsensusPartitionList-method0.2200.0110.240
get_membership-dispatch0.0000.0010.000
get_param-ConsensusPartition-method0.2500.0320.298
get_signatures-ConsensusPartition-method10.692 0.23711.646
get_signatures-DownSamplingConsensusPartition-method000
get_signatures-HierarchicalPartition-method0.0010.0000.001
get_signatures-dispatch000
get_stats-ConsensusPartition-method0.2210.0120.240
get_stats-ConsensusPartitionList-method0.2450.0140.279
get_stats-dispatch0.0000.0000.001
golub_cola0.2790.0110.306
golub_cola_ds0.1620.0090.177
golub_cola_rh0.2700.0110.296
hierarchical_partition0.0000.0010.001
is_best_k-ConsensusPartition-method0.2660.0170.298
is_best_k-ConsensusPartitionList-method0.2340.0100.259
is_best_k-dispatch0.0010.0000.001
is_leaf_node-HierarchicalPartition-method0.1740.0100.190
is_stable_k-ConsensusPartition-method0.8670.0230.957
is_stable_k-ConsensusPartitionList-method0.2350.0110.262
is_stable_k-dispatch0.0010.0000.002
knee_finder20.0370.0080.048
knitr_add_tab_item000
knitr_insert_tabs000
map_to_entrez_id0.0010.0000.000
max_depth-HierarchicalPartition-method0.1710.0080.187
membership_heatmap-ConsensusPartition-method0.9770.0171.121
merge_node-HierarchicalPartition-method000
merge_node_param000
ncol-ConsensusPartition-method000
ncol-ConsensusPartitionList-method0.0000.0010.002
ncol-DownSamplingConsensusPartition-method0.0010.0010.001
ncol-HierarchicalPartition-method0.0010.0010.001
ncol-dispatch0.0000.0000.001
node_info-HierarchicalPartition-method0.0000.0000.001
node_level-HierarchicalPartition-method0.0000.0010.001
nrow-ConsensusPartition-method0.0000.0010.000
nrow-ConsensusPartitionList-method0.0010.0010.001
nrow-HierarchicalPartition-method0.0010.0010.001
nrow-dispatch000
plot_ecdf-ConsensusPartition-method0.2350.0100.257
predict_classes-ConsensusPartition-method0.0010.0000.000
predict_classes-dispatch0.0000.0000.001
predict_classes-matrix-method000
print.hc_table_suggest_best_k000
recalc_stats000
register_NMF0.0000.0000.001
register_SOM0.0000.0010.001
register_partition_methods0.6570.0150.765
register_top_value_methods0.0030.0010.004
relabel_class0.0200.0040.026
remove_partition_methods0.0000.0000.001
remove_top_value_methods000
rownames-ConsensusPartition-method000
rownames-ConsensusPartitionList-method0.0010.0000.001
rownames-HierarchicalPartition-method0.0000.0010.001
rownames-dispatch0.0000.0010.000
run_all_consensus_partition_methods0.0000.0010.001
select_partition_number-ConsensusPartition-method0.2460.0110.296
show-ConsensusPartition-method0.0000.0010.001
show-ConsensusPartitionList-method0.0000.0000.001
show-DownSamplingConsensusPartition-method0.1620.0090.178
show-HierarchicalPartition-method0.2670.0110.293
show-dispatch0.0000.0010.001
split_node-HierarchicalPartition-method000
suggest_best_k-ConsensusPartition-method0.2170.0090.234
suggest_best_k-ConsensusPartitionList-method0.2390.0120.271
suggest_best_k-HierarchicalPartition-method0.1850.0110.207
suggest_best_k-dispatch0.0000.0000.001
test_between_factors0.0170.0010.019
test_to_known_factors-ConsensusPartition-method0.2650.0110.290
test_to_known_factors-ConsensusPartitionList-method0.5270.0160.639
test_to_known_factors-DownSamplingConsensusPartition-method0.1600.0090.180
test_to_known_factors-HierarchicalPartition-method0.2210.0180.289
test_to_known_factors-dispatch0.0000.0010.004
top_elements_overlap0.4420.0180.494
top_rows_heatmap-ConsensusPartition-method0.0000.0000.001
top_rows_heatmap-ConsensusPartitionList-method0.0000.0000.001
top_rows_heatmap-HierarchicalPartition-method0.0000.0000.001
top_rows_heatmap-dispatch0.0010.0000.001
top_rows_heatmap-matrix-method6.2780.2917.026
top_rows_overlap-ConsensusPartitionList-method1.4950.0831.787
top_rows_overlap-HierarchicalPartition-method0.9290.0231.064
top_rows_overlap-dispatch0.0000.0010.001
top_rows_overlap-matrix-method0.3230.0050.389