Back to Multiple platform build/check report for BioC 3.21: simplified long |
|
This page was generated on 2025-10-16 11:38 -0400 (Thu, 16 Oct 2025).
Hostname | OS | Arch (*) | R version | Installed pkgs |
---|---|---|---|---|
nebbiolo1 | Linux (Ubuntu 24.04.3 LTS) | x86_64 | 4.5.1 (2025-06-13) -- "Great Square Root" | 4833 |
merida1 | macOS 12.7.6 Monterey | x86_64 | 4.5.1 RC (2025-06-05 r88288) -- "Great Square Root" | 4614 |
kjohnson1 | macOS 13.7.5 Ventura | arm64 | 4.5.1 Patched (2025-06-14 r88325) -- "Great Square Root" | 4555 |
kunpeng2 | Linux (openEuler 24.03 LTS) | aarch64 | R Under development (unstable) (2025-02-19 r87757) -- "Unsuffered Consequences" | 4586 |
Click on any hostname to see more info about the system (e.g. compilers) (*) as reported by 'uname -p', except on Windows and Mac OS X |
Package 320/2341 | Hostname | OS / Arch | INSTALL | BUILD | CHECK | BUILD BIN | ||||||||
cfdnakit 1.6.0 (landing page) Pitithat Puranachot
| nebbiolo1 | Linux (Ubuntu 24.04.3 LTS) / x86_64 | OK | OK | OK | ![]() | ||||||||
merida1 | macOS 12.7.6 Monterey / x86_64 | OK | OK | OK | OK | ![]() | ||||||||
kjohnson1 | macOS 13.7.5 Ventura / arm64 | OK | OK | OK | OK | ![]() | ||||||||
kunpeng2 | Linux (openEuler 24.03 LTS) / aarch64 | OK | ERROR | skipped | ||||||||||
To the developers/maintainers of the cfdnakit package: - Allow up to 24 hours (and sometimes 48 hours) for your latest push to git@git.bioconductor.org:packages/cfdnakit.git to reflect on this report. See Troubleshooting Build Report for more information. - Use the following Renviron settings to reproduce errors and warnings. - If 'R CMD check' started to fail recently on the Linux builder(s) over a missing dependency, add the missing dependency to 'Suggests:' in your DESCRIPTION file. See Renviron.bioc for more information. |
Package: cfdnakit |
Version: 1.6.0 |
Command: /Library/Frameworks/R.framework/Resources/bin/R CMD check --install=check:cfdnakit.install-out.txt --library=/Library/Frameworks/R.framework/Resources/library --no-vignettes --timings cfdnakit_1.6.0.tar.gz |
StartedAt: 2025-10-14 01:17:38 -0400 (Tue, 14 Oct 2025) |
EndedAt: 2025-10-14 01:26:57 -0400 (Tue, 14 Oct 2025) |
EllapsedTime: 559.1 seconds |
RetCode: 0 |
Status: OK |
CheckDir: cfdnakit.Rcheck |
Warnings: 0 |
############################################################################## ############################################################################## ### ### Running command: ### ### /Library/Frameworks/R.framework/Resources/bin/R CMD check --install=check:cfdnakit.install-out.txt --library=/Library/Frameworks/R.framework/Resources/library --no-vignettes --timings cfdnakit_1.6.0.tar.gz ### ############################################################################## ############################################################################## * using log directory ‘/Users/biocbuild/bbs-3.21-bioc/meat/cfdnakit.Rcheck’ * using R version 4.5.1 RC (2025-06-05 r88288) * using platform: x86_64-apple-darwin20 * R was compiled by Apple clang version 14.0.0 (clang-1400.0.29.202) GNU Fortran (GCC) 14.2.0 * running under: macOS Monterey 12.7.6 * using session charset: UTF-8 * using option ‘--no-vignettes’ * checking for file ‘cfdnakit/DESCRIPTION’ ... OK * this is package ‘cfdnakit’ version ‘1.6.0’ * package encoding: UTF-8 * checking package namespace information ... OK * checking package dependencies ... OK * checking if this is a source package ... OK * checking if there is a namespace ... OK * checking for hidden files and directories ... OK * checking for portable file names ... OK * checking for sufficient/correct file permissions ... OK * checking whether package ‘cfdnakit’ can be installed ... OK * checking installed package size ... OK * checking package directory ... OK * checking ‘build’ directory ... OK * checking DESCRIPTION meta-information ... OK * checking top-level files ... OK * checking for left-over files ... OK * checking index information ... OK * checking package subdirectories ... OK * checking code files for non-ASCII characters ... OK * checking R files for syntax errors ... OK * checking whether the package can be loaded ... OK * checking whether the package can be loaded with stated dependencies ... OK * checking whether the package can be unloaded cleanly ... OK * checking whether the namespace can be loaded with stated dependencies ... OK * checking whether the namespace can be unloaded cleanly ... OK * checking dependencies in R code ... OK * checking S3 generic/method consistency ... OK * checking replacement functions ... OK * checking foreign function calls ... OK * checking R code for possible problems ... OK * checking Rd files ... OK * checking Rd metadata ... OK * checking Rd cross-references ... NOTE Non-topic package-anchored link(s) in Rd file 'pipe.Rd': ‘[magrittr:pipe]{%>%}’ See section 'Cross-references' in the 'Writing R Extensions' manual. * checking for missing documentation entries ... OK * checking for code/documentation mismatches ... OK * checking Rd \usage sections ... OK * checking Rd contents ... OK * checking for unstated dependencies in examples ... OK * checking files in ‘vignettes’ ... OK * checking examples ... OK Examples with CPU (user + system) or elapsed time > 5s user system elapsed cfdnakit-package 57.216 1.616 59.572 call_cnv 34.870 0.423 35.477 plot_cnv_solution 34.189 0.422 35.160 plot_distance_matrix 33.981 0.554 35.032 plot_transformed_sl 33.029 0.519 33.794 get_solution_table 33.054 0.362 33.792 calculate_CES_score 32.039 0.602 33.242 get_zscore_profile 31.236 0.522 32.609 segmentByPSCB 31.182 0.576 32.019 plot_sl_ratio 14.859 0.066 14.984 create_PoN 11.696 0.606 12.422 read_bamfile 6.582 1.528 8.295 * checking for unstated dependencies in vignettes ... OK * checking package vignettes ... OK * checking running R code from vignettes ... SKIPPED * checking re-building of vignette outputs ... SKIPPED * checking PDF version of manual ... OK * DONE Status: 1 NOTE See ‘/Users/biocbuild/bbs-3.21-bioc/meat/cfdnakit.Rcheck/00check.log’ for details.
cfdnakit.Rcheck/00install.out
############################################################################## ############################################################################## ### ### Running command: ### ### /Library/Frameworks/R.framework/Resources/bin/R CMD INSTALL cfdnakit ### ############################################################################## ############################################################################## * installing to library ‘/Library/Frameworks/R.framework/Versions/4.5-x86_64/Resources/library’ * installing *source* package ‘cfdnakit’ ... ** this is package ‘cfdnakit’ version ‘1.6.0’ ** using staged installation ** R ** inst ** byte-compile and prepare package for lazy loading ** help *** installing help indices ** building package indices ** installing vignettes ** testing if installed package can be loaded from temporary location ** testing if installed package can be loaded from final location ** testing if installed package keeps a record of temporary installation path * DONE (cfdnakit)
cfdnakit.Rcheck/cfdnakit-Ex.timings
name | user | system | elapsed | |
calculate_CES_score | 32.039 | 0.602 | 33.242 | |
call_cnv | 34.870 | 0.423 | 35.477 | |
cfdnakit-package | 57.216 | 1.616 | 59.572 | |
create_PoN | 11.696 | 0.606 | 12.422 | |
extract_insert_size | 0.313 | 0.004 | 0.339 | |
get_fragment_profile | 4.545 | 0.018 | 4.626 | |
get_solution_table | 33.054 | 0.362 | 33.792 | |
get_zscore_profile | 31.236 | 0.522 | 32.609 | |
plot_cnv_solution | 34.189 | 0.422 | 35.160 | |
plot_distance_matrix | 33.981 | 0.554 | 35.032 | |
plot_fragment_dist | 1.297 | 0.013 | 1.329 | |
plot_sl_ratio | 14.859 | 0.066 | 14.984 | |
plot_transformed_sl | 33.029 | 0.519 | 33.794 | |
read_bamfile | 6.582 | 1.528 | 8.295 | |
segmentByPSCB | 31.182 | 0.576 | 32.019 | |
test_isize_KolmogorovSmirnov | 0.527 | 0.009 | 0.539 | |