Back to Multiple platform build/check report for BioC 3.21:   simplified   long
AB[C]DEFGHIJKLMNOPQRSTUVWXYZ

This page was generated on 2025-10-16 11:37 -0400 (Thu, 16 Oct 2025).

HostnameOSArch (*)R versionInstalled pkgs
nebbiolo1Linux (Ubuntu 24.04.3 LTS)x86_644.5.1 (2025-06-13) -- "Great Square Root" 4833
merida1macOS 12.7.6 Montereyx86_644.5.1 RC (2025-06-05 r88288) -- "Great Square Root" 4614
kjohnson1macOS 13.7.5 Venturaarm644.5.1 Patched (2025-06-14 r88325) -- "Great Square Root" 4555
kunpeng2Linux (openEuler 24.03 LTS)aarch64R Under development (unstable) (2025-02-19 r87757) -- "Unsuffered Consequences" 4586
Click on any hostname to see more info about the system (e.g. compilers)      (*) as reported by 'uname -p', except on Windows and Mac OS X

Package 306/2341HostnameOS / ArchINSTALLBUILDCHECKBUILD BIN
cellmigRation 1.16.0  (landing page)
Waldir Leoncio
Snapshot Date: 2025-10-13 13:40 -0400 (Mon, 13 Oct 2025)
git_url: https://git.bioconductor.org/packages/cellmigRation
git_branch: RELEASE_3_21
git_last_commit: 526a2a8
git_last_commit_date: 2025-04-15 12:26:19 -0400 (Tue, 15 Apr 2025)
nebbiolo1Linux (Ubuntu 24.04.3 LTS) / x86_64  OK    OK    OK  UNNEEDED, same version is already published
merida1macOS 12.7.6 Monterey / x86_64  OK    OK    OK    OK  UNNEEDED, same version is already published
kjohnson1macOS 13.7.5 Ventura / arm64  OK    OK    OK    OK  UNNEEDED, same version is already published
kunpeng2Linux (openEuler 24.03 LTS) / aarch64  OK    OK    OK  


CHECK results for cellmigRation on nebbiolo1

To the developers/maintainers of the cellmigRation package:
- Allow up to 24 hours (and sometimes 48 hours) for your latest push to git@git.bioconductor.org:packages/cellmigRation.git to reflect on this report. See Troubleshooting Build Report for more information.
- Use the following Renviron settings to reproduce errors and warnings.
- If 'R CMD check' started to fail recently on the Linux builder(s) over a missing dependency, add the missing dependency to 'Suggests:' in your DESCRIPTION file. See Renviron.bioc for more information.

raw results


Summary

Package: cellmigRation
Version: 1.16.0
Command: /home/biocbuild/bbs-3.21-bioc/R/bin/R CMD check --install=check:cellmigRation.install-out.txt --library=/home/biocbuild/bbs-3.21-bioc/R/site-library --timings cellmigRation_1.16.0.tar.gz
StartedAt: 2025-10-15 21:34:00 -0400 (Wed, 15 Oct 2025)
EndedAt: 2025-10-15 21:37:58 -0400 (Wed, 15 Oct 2025)
EllapsedTime: 237.3 seconds
RetCode: 0
Status:   OK  
CheckDir: cellmigRation.Rcheck
Warnings: 0

Command output

##############################################################################
##############################################################################
###
### Running command:
###
###   /home/biocbuild/bbs-3.21-bioc/R/bin/R CMD check --install=check:cellmigRation.install-out.txt --library=/home/biocbuild/bbs-3.21-bioc/R/site-library --timings cellmigRation_1.16.0.tar.gz
###
##############################################################################
##############################################################################


* using log directory ‘/home/biocbuild/bbs-3.21-bioc/meat/cellmigRation.Rcheck’
* using R version 4.5.1 (2025-06-13)
* using platform: x86_64-pc-linux-gnu
* R was compiled by
    gcc (Ubuntu 13.3.0-6ubuntu2~24.04) 13.3.0
    GNU Fortran (Ubuntu 13.3.0-6ubuntu2~24.04) 13.3.0
* running under: Ubuntu 24.04.3 LTS
* using session charset: UTF-8
* checking for file ‘cellmigRation/DESCRIPTION’ ... OK
* checking extension type ... Package
* this is package ‘cellmigRation’ version ‘1.16.0’
* package encoding: UTF-8
* checking package namespace information ... OK
* checking package dependencies ... OK
* checking if this is a source package ... OK
* checking if there is a namespace ... OK
* checking for hidden files and directories ... OK
* checking for portable file names ... OK
* checking for sufficient/correct file permissions ... OK
* checking whether package ‘cellmigRation’ can be installed ... OK
* checking installed package size ... OK
* checking package directory ... OK
* checking ‘build’ directory ... OK
* checking DESCRIPTION meta-information ... OK
* checking top-level files ... OK
* checking for left-over files ... OK
* checking index information ... OK
* checking package subdirectories ... OK
* checking code files for non-ASCII characters ... OK
* checking R files for syntax errors ... OK
* checking whether the package can be loaded ... OK
* checking whether the package can be loaded with stated dependencies ... OK
* checking whether the package can be unloaded cleanly ... OK
* checking whether the namespace can be loaded with stated dependencies ... OK
* checking whether the namespace can be unloaded cleanly ... OK
* checking loading without being on the library search path ... OK
* checking dependencies in R code ... OK
* checking S3 generic/method consistency ... OK
* checking replacement functions ... OK
* checking foreign function calls ... OK
* checking R code for possible problems ... OK
* checking Rd files ... OK
* checking Rd metadata ... OK
* checking Rd cross-references ... OK
* checking for missing documentation entries ... OK
* checking for code/documentation mismatches ... OK
* checking Rd \usage sections ... NOTE
Documented arguments not in \usage in Rd file 'fixDA.Rd':
  ‘object’

Documented arguments not in \usage in Rd file 'fixFM1.Rd':
  ‘object’

Documented arguments not in \usage in Rd file 'fixFM2.Rd':
  ‘object’

Documented arguments not in \usage in Rd file 'fixFM3.Rd':
  ‘object’

Documented arguments not in \usage in Rd file 'fixFM4.Rd':
  ‘object’

Documented arguments not in \usage in Rd file 'fixFM5.Rd':
  ‘object’

Documented arguments not in \usage in Rd file 'fixFM6.Rd':
  ‘object’

Documented arguments not in \usage in Rd file 'fixID2.Rd':
  ‘TimeInterval’

Documented arguments not in \usage in Rd file 'fixID3.Rd':
  ‘TimeInterval’

Documented arguments not in \usage in Rd file 'fixID4.Rd':
  ‘TimeInterval’

Documented arguments not in \usage in Rd file 'fixMSD.Rd':
  ‘object’

Documented arguments not in \usage in Rd file 'fixPER1.Rd':
  ‘x’

Documented arguments not in \usage in Rd file 'fixPER2.Rd':
  ‘x’

Documented arguments not in \usage in Rd file 'innerBondRaster.Rd':
  ‘i’

Functions with \usage entries need to have the appropriate \alias
entries, and all their arguments documented.
The \usage entries must correspond to syntactically valid R code.
See chapter ‘Writing R documentation files’ in the ‘Writing R
Extensions’ manual.
* checking Rd contents ... OK
* checking for unstated dependencies in examples ... OK
* checking contents of ‘data’ directory ... OK
* checking data for non-ASCII characters ... OK
* checking data for ASCII and uncompressed saves ... OK
* checking files in ‘vignettes’ ... OK
* checking examples ... OK
* checking for unstated dependencies in ‘tests’ ... OK
* checking tests ...
  Running ‘runTests.R’
 OK
* checking for unstated dependencies in vignettes ... OK
* checking package vignettes ... OK
* checking re-building of vignette outputs ... OK
* checking PDF version of manual ... OK
* DONE

Status: 1 NOTE
See
  ‘/home/biocbuild/bbs-3.21-bioc/meat/cellmigRation.Rcheck/00check.log’
for details.


Installation output

cellmigRation.Rcheck/00install.out

##############################################################################
##############################################################################
###
### Running command:
###
###   /home/biocbuild/bbs-3.21-bioc/R/bin/R CMD INSTALL cellmigRation
###
##############################################################################
##############################################################################


* installing to library ‘/home/biocbuild/bbs-3.21-bioc/R/site-library’
* installing *source* package ‘cellmigRation’ ...
** this is package ‘cellmigRation’ version ‘1.16.0’
** using staged installation
** R
** data
** inst
** byte-compile and prepare package for lazy loading
** help
*** installing help indices
** building package indices
** installing vignettes
** testing if installed package can be loaded from temporary location
** testing if installed package can be loaded from final location
** testing if installed package keeps a record of temporary installation path
* DONE (cellmigRation)

Tests output

cellmigRation.Rcheck/tests/runTests.Rout


R version 4.5.1 (2025-06-13) -- "Great Square Root"
Copyright (C) 2025 The R Foundation for Statistical Computing
Platform: x86_64-pc-linux-gnu

R is free software and comes with ABSOLUTELY NO WARRANTY.
You are welcome to redistribute it under certain conditions.
Type 'license()' or 'licence()' for distribution details.

R is a collaborative project with many contributors.
Type 'contributors()' for more information and
'citation()' on how to cite R or R packages in publications.

Type 'demo()' for some demos, 'help()' for on-line help, or
'help.start()' for an HTML browser interface to help.
Type 'q()' to quit R.

> BiocGenerics:::testPackage("cellmigRation")


RUNIT TEST PROTOCOL -- Wed Oct 15 21:35:54 2025 
*********************************************** 
Number of test functions: 7 
Number of errors: 0 
Number of failures: 0 

 
1 Test Suite : 
cellmigRation RUnit Tests - 7 test functions, 0 errors, 0 failures
Number of test functions: 7 
Number of errors: 0 
Number of failures: 0 
> 
> proc.time()
   user  system elapsed 
  2.958   0.259   3.207 

Example timings

cellmigRation.Rcheck/cellmigRation-Ex.timings

nameusersystemelapsed
AddDimension0.0000.0010.002
CellMig-class0.0270.0010.027
CellMigPCA1.8860.0051.891
CellMigPCAclust0.0070.0010.008
CellMigPCAclustALL0.6110.0500.661
CellTracker0.0190.0010.020
CellTrackerMainLoop0.0030.0070.008
CentroidArray0.0190.0020.021
CentroidValidation0.440.010.45
ComputeTracksStats0.0240.0120.036
DetectRadii0.0030.0010.004
DiAutoCor1.2750.0291.303
DiRatio0.0160.0010.017
DiRatioPlot0.0320.0020.034
EstimateDiameterRange0.0130.0000.014
FMI0.4620.0020.464
FianlizeOptiParams0.0010.0000.001
FilterTrackedCells0.0020.0010.003
FinRes0.6250.0180.643
ForwardMigration0.9120.0150.927
GenAllCombos0.0030.0000.003
LinearConv20.0190.0000.019
LoadTiff0.0010.0000.001
MSD1.4560.0081.464
MakeHypercube0.0000.0010.001
MigrationStats0.0010.0000.001
NextOdd000
NonParallel4OptimizeParams0.0010.0000.001
NonParallelTrackLoop000
OptimizeParams0.0150.0020.017
OptimizeParamsMainLoop0.0020.0040.005
Parallel4OptimizeParams0.0010.0000.000
ParallelTrackLoop0.0010.0000.001
PerAndSpeed0.2780.0330.312
PlotTracksSeparately0.0090.0010.010
PostProcessTracking0.0000.0000.001
Prep4OptimizeParams0.0830.0130.097
ThreeConditions0.0100.0050.014
TrackCellsDataset0.0120.0050.017
TrajectoryDataset0.0220.0000.022
ValidateTrackingArgs0.0010.0000.000
VeAutoCor1.0110.0111.022
VisualizeCntr0.0020.0000.002
VisualizeImg0.0050.0000.005
VisualizeStackCentroids0.0560.0020.057
WSADataset0.0070.0000.007
aggregateFR0.5970.0010.597
aggregateTrackedCells0.0180.0060.024
bpass0.0580.0000.059
circshift0.0000.0010.001
cntrd0.6830.0170.700
fixDA0.0000.0010.001
fixExpName0.0010.0000.001
fixFM10.0010.0000.001
fixFM2000
fixFM30.0000.0010.000
fixFM4000
fixFM5000
fixFM60.0010.0000.001
fixID10.0000.0010.001
fixMSD0.0010.0000.001
fixPER10.0000.0010.001
fixPER20.0000.0010.000
fixPER3000
getAvailableAggrMetrics0.880.020.90
getCellImages0.1910.9881.180
getCellMigSlot0.2540.6340.887
getCellTrackMeta0.0130.0050.018
getCellTrackStats0.0190.0030.021
getCellTracks0.0160.0030.019
getCellsMeta0.0150.0030.017
getCellsStats0.0190.0050.024
getDACtable1.8130.0021.815
getDiRatio0.0180.0010.019
getFMItable0.4490.0440.492
getForMigtable0.5450.0050.550
getImageCentroids0.0230.0010.024
getImageStacks0.0560.0010.057
getMSDtable3.4470.0093.456
getOptimizedParameters0.0150.0020.016
getOptimizedParams0.0170.0010.018
getPerAndSpeed0.2670.0040.271
getPopulationStats0.0160.0010.018
getProcessedImages0.1961.0181.214
getProcessingStatus0.0120.0040.016
getResults0.5820.0030.585
getTracks0.0150.0030.018
getVACtable1.0140.0011.015
initializeTrackParams0.0010.0000.000
innerBondRaster0.0020.0000.001
internalPermutation0.0010.0000.001
matfix0.0000.0010.001
nontrivialBondTracking0.0010.0000.001
pkfnd0.6750.0020.679
plot3DAllTracks0.0720.0300.101
plot3DTracks0.0070.0010.008
plotAllTracks0.0180.0000.018
plotSampleTracks0.0130.0010.015
preProcCellMig0.0050.0020.007
rmPreProcessing0.0830.0010.084
runTrackingPermutation0.0020.0000.002
setAnalyticParams0.0150.0030.017
setCellMigSlot0.0230.0000.023
setCellTracks0.0120.0050.017
setCellsMeta0.0140.0030.017
setExpName0.0200.0030.023
setOptimizedParams0.0450.0020.047
setProcessedImages0.0130.0050.017
setProcessingStatus0.0150.0020.017
setTrackedCellsMeta0.0160.0010.017
setTrackedCentroids0.0130.0040.017
setTrackedPositions0.0130.0040.017
setTrackingStats0.0130.0040.017
sinkAway0.0010.0000.001
subNetworkTracking0.0010.0000.001
track0.0090.0000.009
trackHypercubeBuild0.0010.0010.001
trackSlideProcessing0.0010.0000.000
trackSlideWrapUp0.0010.0000.001
trivialBondRaster0.0020.0000.002
trivialBondTracking0.0010.0000.001
visualizeCellTracks0.0530.0070.060
visualizeTrcks0.0240.0010.025
warnMessage000
wsaPreProcessing0.0480.0010.049