Back to Multiple platform build/check report for BioC 3.21:   simplified   long
AB[C]DEFGHIJKLMNOPQRSTUVWXYZ

This page was generated on 2025-10-16 11:38 -0400 (Thu, 16 Oct 2025).

HostnameOSArch (*)R versionInstalled pkgs
nebbiolo1Linux (Ubuntu 24.04.3 LTS)x86_644.5.1 (2025-06-13) -- "Great Square Root" 4833
merida1macOS 12.7.6 Montereyx86_644.5.1 RC (2025-06-05 r88288) -- "Great Square Root" 4614
kjohnson1macOS 13.7.5 Venturaarm644.5.1 Patched (2025-06-14 r88325) -- "Great Square Root" 4555
kunpeng2Linux (openEuler 24.03 LTS)aarch64R Under development (unstable) (2025-02-19 r87757) -- "Unsuffered Consequences" 4586
Click on any hostname to see more info about the system (e.g. compilers)      (*) as reported by 'uname -p', except on Windows and Mac OS X

Package 299/2341HostnameOS / ArchINSTALLBUILDCHECKBUILD BIN
celda 1.24.0  (landing page)
Joshua Campbell
Snapshot Date: 2025-10-13 13:40 -0400 (Mon, 13 Oct 2025)
git_url: https://git.bioconductor.org/packages/celda
git_branch: RELEASE_3_21
git_last_commit: 141d976
git_last_commit_date: 2025-04-15 11:46:22 -0400 (Tue, 15 Apr 2025)
nebbiolo1Linux (Ubuntu 24.04.3 LTS) / x86_64  OK    OK    OK  UNNEEDED, same version is already published
merida1macOS 12.7.6 Monterey / x86_64  OK    OK    OK    OK  UNNEEDED, same version is already published
kjohnson1macOS 13.7.5 Ventura / arm64  OK    OK    OK    OK  UNNEEDED, same version is already published
kunpeng2Linux (openEuler 24.03 LTS) / aarch64  OK    OK    WARNINGS  


CHECK results for celda on merida1

To the developers/maintainers of the celda package:
- Allow up to 24 hours (and sometimes 48 hours) for your latest push to git@git.bioconductor.org:packages/celda.git to reflect on this report. See Troubleshooting Build Report for more information.
- Use the following Renviron settings to reproduce errors and warnings.
- If 'R CMD check' started to fail recently on the Linux builder(s) over a missing dependency, add the missing dependency to 'Suggests:' in your DESCRIPTION file. See Renviron.bioc for more information.

raw results


Summary

Package: celda
Version: 1.24.0
Command: /Library/Frameworks/R.framework/Resources/bin/R CMD check --install=check:celda.install-out.txt --library=/Library/Frameworks/R.framework/Resources/library --no-vignettes --timings celda_1.24.0.tar.gz
StartedAt: 2025-10-14 01:11:17 -0400 (Tue, 14 Oct 2025)
EndedAt: 2025-10-14 01:29:23 -0400 (Tue, 14 Oct 2025)
EllapsedTime: 1086.2 seconds
RetCode: 0
Status:   OK  
CheckDir: celda.Rcheck
Warnings: 0

Command output

##############################################################################
##############################################################################
###
### Running command:
###
###   /Library/Frameworks/R.framework/Resources/bin/R CMD check --install=check:celda.install-out.txt --library=/Library/Frameworks/R.framework/Resources/library --no-vignettes --timings celda_1.24.0.tar.gz
###
##############################################################################
##############################################################################


* using log directory ‘/Users/biocbuild/bbs-3.21-bioc/meat/celda.Rcheck’
* using R version 4.5.1 RC (2025-06-05 r88288)
* using platform: x86_64-apple-darwin20
* R was compiled by
    Apple clang version 14.0.0 (clang-1400.0.29.202)
    GNU Fortran (GCC) 14.2.0
* running under: macOS Monterey 12.7.6
* using session charset: UTF-8
* using option ‘--no-vignettes’
* checking for file ‘celda/DESCRIPTION’ ... OK
* this is package ‘celda’ version ‘1.24.0’
* package encoding: UTF-8
* checking package namespace information ... OK
* checking package dependencies ... INFO
Imports includes 32 non-default packages.
Importing from so many packages makes the package vulnerable to any of
them becoming unavailable.  Move as many as possible to Suggests and
use conditionally.
* checking if this is a source package ... OK
* checking if there is a namespace ... OK
* checking for hidden files and directories ... OK
* checking for portable file names ... OK
* checking for sufficient/correct file permissions ... OK
* checking whether package ‘celda’ can be installed ... OK
* used C compiler: ‘Apple clang version 14.0.0 (clang-1400.0.29.202)’
* used C++ compiler: ‘Apple clang version 14.0.0 (clang-1400.0.29.202)’
* used SDK: ‘MacOSX11.3.sdk’
* checking installed package size ... OK
* checking package directory ... OK
* checking ‘build’ directory ... OK
* checking DESCRIPTION meta-information ... OK
* checking top-level files ... OK
* checking for left-over files ... OK
* checking index information ... OK
* checking package subdirectories ... OK
* checking code files for non-ASCII characters ... OK
* checking R files for syntax errors ... OK
* checking whether the package can be loaded ... OK
* checking whether the package can be loaded with stated dependencies ... OK
* checking whether the package can be unloaded cleanly ... OK
* checking whether the namespace can be loaded with stated dependencies ... OK
* checking whether the namespace can be unloaded cleanly ... OK
* checking dependencies in R code ... OK
* checking S3 generic/method consistency ... OK
* checking replacement functions ... OK
* checking foreign function calls ... OK
* checking R code for possible problems ... NOTE
.removeZeroVariance: no visible global function definition for
  ‘complete.cases’
.splitMetricIGpIGd: no visible global function definition for
  ‘model.matrix’
.splitMetricModF1: no visible global function definition for
  ‘model.matrix’
findMarkersTree: no visible global function definition for ‘Idents’
findMarkersTree: no visible global function definition for ‘RunUMAP’
findMarkersTree: no visible global function definition for ‘dendrapply’
plotDendro: no visible binding for global variable ‘xend’
plotDendro: no visible binding for global variable ‘y’
plotDendro: no visible binding for global variable ‘label’
plotMarkerHeatmap: no visible global function definition for ‘head’
plotMarkerHeatmap: no visible global function definition for ‘setNames’
Undefined global functions or variables:
  Idents RunUMAP complete.cases dendrapply head label model.matrix
  setNames xend y
Consider adding
  importFrom("stats", "complete.cases", "dendrapply", "model.matrix",
             "setNames")
  importFrom("utils", "head")
to your NAMESPACE file.
* checking Rd files ... OK
* checking Rd metadata ... OK
* checking Rd cross-references ... NOTE
Found the following Rd file(s) with Rd \link{} targets missing package
anchors:
  bestLogLikelihood.Rd: SingleCellExperiment-class, altExp
  celdaClusters.Rd: SingleCellExperiment-class, altExp
  celdaGridSearch.Rd: SingleCellExperiment-class, assay, altExp,
    metadata
  celdaHeatmap.Rd: assay, altExp
  celdaModel.Rd: altExp
  celdaModules.Rd: SingleCellExperiment-class, altExp
  celdaProbabilityMap.Rd: assay, altExp
  celdaTsne.Rd: SingleCellExperiment-class, assay, altExp, reducedDim
  celdaUmap.Rd: assay, altExp, reducedDim
  celda_C.Rd: assay, altExp, SingleCellExperiment-class, metadata,
    colData
  celda_CG.Rd: assay, altExp, SingleCellExperiment-class, metadata,
    colData, rowData
  celda_G.Rd: assay, altExp, SingleCellExperiment-class, metadata,
    rowData
  celdatosce.Rd: SingleCellExperiment-class, assay, altExp, metadata,
    colData, rowData
  clusterProbability.Rd: SingleCellExperiment-class, assay, altExp
  decontX.Rd: SingleCellExperiment-class, Matrix
  decontXcounts.Rd: SingleCellExperiment-class, assay, assay<-
  factorizeMatrix.Rd: SingleCellExperiment-class, assay, altExp
  featureModuleLookup.Rd: SingleCellExperiment-class, altExp
  featureModuleTable.Rd: SingleCellExperiment-class, assay, altExp
  geneSetEnrich.Rd: SingleCellExperiment-class, assay, altExp
  logLikelihood.Rd: SingleCellExperiment-class, assay, altExp
  logLikelihoodHistory.Rd: SingleCellExperiment-class, altExp
  moduleHeatmap.Rd: SingleCellExperiment-class, assay, altExp
  perplexity.Rd: SingleCellExperiment-class, assay, altExp
  plotCeldaViolin.Rd: SingleCellExperiment-class, assay, altExp
  plotDecontXContamination.Rd: SingleCellExperiment-class
  plotDecontXMarkerExpression.Rd: SingleCellExperiment-class
  plotDecontXMarkerPercentage.Rd: SingleCellExperiment-class
  plotDimReduceCluster.Rd: SingleCellExperiment-class, altExp
  plotDimReduceFeature.Rd: SingleCellExperiment-class, assay, altExp,
    scale_colour_gradient2
  plotDimReduceGrid.Rd: SingleCellExperiment-class, assay, altExp,
    scale_colour_gradient2
  plotDimReduceModule.Rd: SingleCellExperiment-class, assay, altExp,
    scale_colour_gradient
  plotGridSearchPerplexity.Rd: SingleCellExperiment-class, altExp,
    geom_jitter
  plotRPC.Rd: SingleCellExperiment-class, altExp, geom_jitter
  recodeClusterY.Rd: SingleCellExperiment-class, rowData, altExp
  recodeClusterZ.Rd: SingleCellExperiment-class, colData, altExp
  recursiveSplitCell.Rd: SingleCellExperiment-class, assay, altExp,
    metadata
  recursiveSplitModule.Rd: SingleCellExperiment-class, assay, altExp,
    metadata
  reorderCelda.Rd: SingleCellExperiment-class, assay, altExp
  reportceldaCG.Rd: SingleCellExperiment-class, altExp, assay
  resList.Rd: SingleCellExperiment-class, altExp
  resamplePerplexity.Rd: SingleCellExperiment-class, assay, altExp
  retrieveFeatureIndex.Rd: SummarizedExperiment-class,
    SingleCellExperiment-class
  runParams.Rd: SingleCellExperiment-class, altExp
  sampleLabel.Rd: SingleCellExperiment-class, altExp
  sceCeldaC.Rd: SingleCellExperiment-class
  sceCeldaCG.Rd: SingleCellExperiment-class
  sceCeldaCGGridSearch.Rd: SingleCellExperiment-class
  sceCeldaG.Rd: SingleCellExperiment-class
  selectBestModel.Rd: SingleCellExperiment-class, altExp, metadata
  selectFeatures.Rd: SingleCellExperiment-class, altExp, assay,
    metadata
  simulateCells.Rd: SingleCellExperiment-class, metadata, colData,
    rowData
  splitModule.Rd: SingleCellExperiment-class, assay, altExp, rowData
  subsetCeldaList.Rd: SingleCellExperiment-class, altExp, metadata
Please provide package anchors for all Rd \link{} targets not in the
package itself and the base packages.
* checking for missing documentation entries ... OK
* checking for code/documentation mismatches ... OK
* checking Rd \usage sections ... OK
* checking Rd contents ... OK
* checking for unstated dependencies in examples ... OK
* checking contents of ‘data’ directory ... OK
* checking data for non-ASCII characters ... OK
* checking LazyData ... OK
* checking data for ASCII and uncompressed saves ... OK
* checking line endings in C/C++/Fortran sources/headers ... OK
* checking line endings in Makefiles ... OK
* checking compilation flags in Makevars ... OK
* checking for GNU extensions in Makefiles ... OK
* checking for portable use of $(BLAS_LIBS) and $(LAPACK_LIBS) ... OK
* checking use of PKG_*FLAGS in Makefiles ... OK
* checking compiled code ... NOTE
Note: information on .o files is not available
* checking files in ‘vignettes’ ... OK
* checking examples ... OK
Examples with CPU (user + system) or elapsed time > 5s
                       user system elapsed
geneSetEnrich        69.552  0.763  85.490
plotDimReduceGrid    43.362  0.320  44.109
recursiveSplitCell   30.032  0.348  30.858
plotDendro           29.829  0.487  30.785
findMarkersTree      28.641  0.420  29.921
plotMarkerHeatmap    28.419  0.386  29.711
decontX              22.399  0.207  23.104
recursiveSplitModule 20.164  0.270  20.654
plotDimReduceModule  12.483  0.129  12.797
plotDimReduceFeature 10.639  0.091  10.806
moduleHeatmap        10.042  0.085  10.175
plotDimReduceCluster  9.946  0.085  10.110
celda_CG              9.053  0.185   9.301
sceCeldaCG            7.294  0.087   7.627
celdaProbabilityMap   6.654  0.135   6.893
celda_G               6.533  0.058   6.641
sceCeldaCGGridSearch  0.583  0.019  92.755
* checking for unstated dependencies in ‘tests’ ... OK
* checking tests ...
  Running ‘testthat.R’
 OK
* checking for unstated dependencies in vignettes ... OK
* checking package vignettes ... OK
* checking running R code from vignettes ... SKIPPED
* checking re-building of vignette outputs ... SKIPPED
* checking PDF version of manual ... OK
* DONE

Status: 3 NOTEs
See
  ‘/Users/biocbuild/bbs-3.21-bioc/meat/celda.Rcheck/00check.log’
for details.


Installation output

celda.Rcheck/00install.out

##############################################################################
##############################################################################
###
### Running command:
###
###   /Library/Frameworks/R.framework/Resources/bin/R CMD INSTALL celda
###
##############################################################################
##############################################################################


* installing to library ‘/Library/Frameworks/R.framework/Versions/4.5-x86_64/Resources/library’
* installing *source* package ‘celda’ ...
** this is package ‘celda’ version ‘1.24.0’
** using staged installation
** libs
using C compiler: ‘Apple clang version 14.0.0 (clang-1400.0.29.202)’
using C++ compiler: ‘Apple clang version 14.0.0 (clang-1400.0.29.202)’
using SDK: ‘MacOSX11.3.sdk’
clang++ -arch x86_64 -std=gnu++17 -I"/Library/Frameworks/R.framework/Resources/include" -DNDEBUG  -I'/Library/Frameworks/R.framework/Versions/4.5-x86_64/Resources/library/Rcpp/include' -I'/Library/Frameworks/R.framework/Versions/4.5-x86_64/Resources/library/RcppEigen/include' -I/opt/R/x86_64/include     -fPIC  -falign-functions=64 -Wall -g -O2   -c DecontX.cpp -o DecontX.o
DecontX.cpp:321:10: warning: variable 'x' set but not used [-Wunused-but-set-variable]
  double x;
         ^
1 warning generated.
clang++ -arch x86_64 -std=gnu++17 -I"/Library/Frameworks/R.framework/Resources/include" -DNDEBUG  -I'/Library/Frameworks/R.framework/Versions/4.5-x86_64/Resources/library/Rcpp/include' -I'/Library/Frameworks/R.framework/Versions/4.5-x86_64/Resources/library/RcppEigen/include' -I/opt/R/x86_64/include     -fPIC  -falign-functions=64 -Wall -g -O2   -c RcppExports.cpp -o RcppExports.o
clang++ -arch x86_64 -std=gnu++17 -I"/Library/Frameworks/R.framework/Resources/include" -DNDEBUG  -I'/Library/Frameworks/R.framework/Versions/4.5-x86_64/Resources/library/Rcpp/include' -I'/Library/Frameworks/R.framework/Versions/4.5-x86_64/Resources/library/RcppEigen/include' -I/opt/R/x86_64/include     -fPIC  -falign-functions=64 -Wall -g -O2   -c cG_calcGibbsProbY.cpp -o cG_calcGibbsProbY.o
clang++ -arch x86_64 -std=gnu++17 -I"/Library/Frameworks/R.framework/Resources/include" -DNDEBUG  -I'/Library/Frameworks/R.framework/Versions/4.5-x86_64/Resources/library/Rcpp/include' -I'/Library/Frameworks/R.framework/Versions/4.5-x86_64/Resources/library/RcppEigen/include' -I/opt/R/x86_64/include     -fPIC  -falign-functions=64 -Wall -g -O2   -c eigenMatMultInt.cpp -o eigenMatMultInt.o
clang++ -arch x86_64 -std=gnu++17 -I"/Library/Frameworks/R.framework/Resources/include" -DNDEBUG  -I'/Library/Frameworks/R.framework/Versions/4.5-x86_64/Resources/library/Rcpp/include' -I'/Library/Frameworks/R.framework/Versions/4.5-x86_64/Resources/library/RcppEigen/include' -I/opt/R/x86_64/include     -fPIC  -falign-functions=64 -Wall -g -O2   -c matrixNorm.cpp -o matrixNorm.o
clang -arch x86_64 -I"/Library/Frameworks/R.framework/Resources/include" -DNDEBUG  -I'/Library/Frameworks/R.framework/Versions/4.5-x86_64/Resources/library/Rcpp/include' -I'/Library/Frameworks/R.framework/Versions/4.5-x86_64/Resources/library/RcppEigen/include' -I/opt/R/x86_64/include    -fPIC  -falign-functions=64 -Wall -g -O2  -c matrixSums.c -o matrixSums.o
clang++ -arch x86_64 -std=gnu++17 -I"/Library/Frameworks/R.framework/Resources/include" -DNDEBUG  -I'/Library/Frameworks/R.framework/Versions/4.5-x86_64/Resources/library/Rcpp/include' -I'/Library/Frameworks/R.framework/Versions/4.5-x86_64/Resources/library/RcppEigen/include' -I/opt/R/x86_64/include     -fPIC  -falign-functions=64 -Wall -g -O2   -c matrixSumsSparse.cpp -o matrixSumsSparse.o
clang -arch x86_64 -I"/Library/Frameworks/R.framework/Resources/include" -DNDEBUG  -I'/Library/Frameworks/R.framework/Versions/4.5-x86_64/Resources/library/Rcpp/include' -I'/Library/Frameworks/R.framework/Versions/4.5-x86_64/Resources/library/RcppEigen/include' -I/opt/R/x86_64/include    -fPIC  -falign-functions=64 -Wall -g -O2  -c perplexity.c -o perplexity.o
clang++ -arch x86_64 -std=gnu++17 -dynamiclib -Wl,-headerpad_max_install_names -undefined dynamic_lookup -L/Library/Frameworks/R.framework/Resources/lib -L/opt/R/x86_64/lib -o celda.so DecontX.o RcppExports.o cG_calcGibbsProbY.o eigenMatMultInt.o matrixNorm.o matrixSums.o matrixSumsSparse.o perplexity.o -L/Library/Frameworks/R.framework/Resources/lib -lRlapack -L/Library/Frameworks/R.framework/Resources/lib -lRblas -L/opt/gfortran/lib/gcc/x86_64-apple-darwin20.0/14.2.0 -L/opt/gfortran/lib -lemutls_w -lheapt_w -lgfortran -lquadmath -F/Library/Frameworks/R.framework/.. -framework R
installing to /Library/Frameworks/R.framework/Versions/4.5-x86_64/Resources/library/00LOCK-celda/00new/celda/libs
** R
** data
*** moving datasets to lazyload DB
** inst
** byte-compile and prepare package for lazy loading
** help
*** installing help indices
** building package indices
** installing vignettes
** testing if installed package can be loaded from temporary location
** checking absolute paths in shared objects and dynamic libraries
** testing if installed package can be loaded from final location
** testing if installed package keeps a record of temporary installation path
* DONE (celda)

Tests output

celda.Rcheck/tests/testthat.Rout


R version 4.5.1 RC (2025-06-05 r88288) -- "Great Square Root"
Copyright (C) 2025 The R Foundation for Statistical Computing
Platform: x86_64-apple-darwin20

R is free software and comes with ABSOLUTELY NO WARRANTY.
You are welcome to redistribute it under certain conditions.
Type 'license()' or 'licence()' for distribution details.

R is a collaborative project with many contributors.
Type 'contributors()' for more information and
'citation()' on how to cite R or R packages in publications.

Type 'demo()' for some demos, 'help()' for on-line help, or
'help.start()' for an HTML browser interface to help.
Type 'q()' to quit R.

> Sys.unsetenv("R_TESTS")
> library(testthat)
> test_check("celda")
Loading required package: celda
Loading required package: SingleCellExperiment
Loading required package: SummarizedExperiment
Loading required package: MatrixGenerics
Loading required package: matrixStats

Attaching package: 'MatrixGenerics'

The following objects are masked from 'package:matrixStats':

    colAlls, colAnyNAs, colAnys, colAvgsPerRowSet, colCollapse,
    colCounts, colCummaxs, colCummins, colCumprods, colCumsums,
    colDiffs, colIQRDiffs, colIQRs, colLogSumExps, colMadDiffs,
    colMads, colMaxs, colMeans2, colMedians, colMins, colOrderStats,
    colProds, colQuantiles, colRanges, colRanks, colSdDiffs, colSds,
    colSums2, colTabulates, colVarDiffs, colVars, colWeightedMads,
    colWeightedMeans, colWeightedMedians, colWeightedSds,
    colWeightedVars, rowAlls, rowAnyNAs, rowAnys, rowAvgsPerColSet,
    rowCollapse, rowCounts, rowCummaxs, rowCummins, rowCumprods,
    rowCumsums, rowDiffs, rowIQRDiffs, rowIQRs, rowLogSumExps,
    rowMadDiffs, rowMads, rowMaxs, rowMeans2, rowMedians, rowMins,
    rowOrderStats, rowProds, rowQuantiles, rowRanges, rowRanks,
    rowSdDiffs, rowSds, rowSums2, rowTabulates, rowVarDiffs, rowVars,
    rowWeightedMads, rowWeightedMeans, rowWeightedMedians,
    rowWeightedSds, rowWeightedVars

Loading required package: GenomicRanges
Loading required package: stats4
Loading required package: BiocGenerics
Loading required package: generics

Attaching package: 'generics'

The following objects are masked from 'package:base':

    as.difftime, as.factor, as.ordered, intersect, is.element, setdiff,
    setequal, union


Attaching package: 'BiocGenerics'

The following objects are masked from 'package:stats':

    IQR, mad, sd, var, xtabs

The following objects are masked from 'package:base':

    Filter, Find, Map, Position, Reduce, anyDuplicated, aperm, append,
    as.data.frame, basename, cbind, colnames, dirname, do.call,
    duplicated, eval, evalq, get, grep, grepl, is.unsorted, lapply,
    mapply, match, mget, order, paste, pmax, pmax.int, pmin, pmin.int,
    rank, rbind, rownames, sapply, saveRDS, table, tapply, unique,
    unsplit, which.max, which.min

Loading required package: S4Vectors

Attaching package: 'S4Vectors'

The following object is masked from 'package:utils':

    findMatches

The following objects are masked from 'package:base':

    I, expand.grid, unname

Loading required package: IRanges
Loading required package: GenomeInfoDb
Loading required package: Biobase
Welcome to Bioconductor

    Vignettes contain introductory material; view with
    'browseVignettes()'. To cite Bioconductor, see
    'citation("Biobase")', and for packages 'citation("pkgname")'.


Attaching package: 'Biobase'

The following object is masked from 'package:MatrixGenerics':

    rowMedians

The following objects are masked from 'package:matrixStats':

    anyMissing, rowMedians

Loading required package: Matrix

Attaching package: 'Matrix'

The following object is masked from 'package:S4Vectors':

    expand


Attaching package: 'celda'

The following object is masked from 'package:S4Vectors':

    params

[ FAIL 0 | WARN 1 | SKIP 2 | PASS 101 ]

══ Skipped tests (2) ═══════════════════════════════════════════════════════════
• empty test (2): 'test-decon.R:27:1', 'test-decon.R:48:1'

[ FAIL 0 | WARN 1 | SKIP 2 | PASS 101 ]
> 
> proc.time()
   user  system elapsed 
107.393   2.283 132.006 

Example timings

celda.Rcheck/celda-Ex.timings

nameusersystemelapsed
appendCeldaList0.0090.0050.014
bestLogLikelihood0.2300.0110.243
celda0.0020.0010.002
celdaClusters0.1070.0250.140
celdaGridSearch0.0000.0000.001
celdaHeatmap1.2470.1081.376
celdaModel0.1530.0040.158
celdaModules0.1070.0060.112
celdaPerplexity-celdaList-method0.0030.0030.005
celdaPerplexity0.0030.0030.007
celdaProbabilityMap6.6540.1356.893
celdaTsne4.3390.0894.463
celdaUmap4.4960.0854.601
celda_C0.9710.0120.991
celda_CG9.0530.1859.301
celda_G6.5330.0586.641
celdatosce1.6520.0271.689
clusterProbability0.8210.0190.846
compareCountMatrix0.0120.0090.021
countChecksum-celdaList-method0.0030.0040.007
countChecksum0.0040.0040.008
decontX22.399 0.20723.104
distinctColors0.0010.0010.002
factorizeMatrix0.5140.0150.529
featureModuleLookup0.3570.0050.363
featureModuleTable0.5070.0080.516
findMarkersTree28.641 0.42029.921
geneSetEnrich69.552 0.76385.490
logLikelihood1.3750.0161.437
logLikelihoodHistory0.1020.0090.127
matrixNames0.0060.0130.029
moduleHeatmap10.042 0.08510.175
normalizeCounts0.0040.0040.009
params0.0030.0040.006
perplexity1.0290.0251.060
plotCeldaViolin2.0990.0302.136
plotDendro29.829 0.48730.785
plotDimReduceCluster 9.946 0.08510.110
plotDimReduceFeature10.639 0.09110.806
plotDimReduceGrid43.362 0.32044.109
plotDimReduceModule12.483 0.12912.797
plotGridSearchPerplexity2.2740.0212.337
plotHeatmap0.2830.0050.291
plotMarkerHeatmap28.419 0.38629.711
plotRPC2.0740.0222.102
recodeClusterY0.4520.0050.459
recodeClusterZ0.4460.0060.459
recursiveSplitCell30.032 0.34830.858
recursiveSplitModule20.164 0.27020.654
reorderCelda2.5660.0362.638
reportceldaCG0.0010.0030.005
resList0.1000.0080.108
resamplePerplexity2.0200.0172.044
retrieveFeatureIndex0.0040.0040.008
runParams0.1090.0120.121
sampleLabel0.1080.0290.138
sceCeldaC0.7280.0110.770
sceCeldaCG7.2940.0877.627
sceCeldaCGGridSearch 0.583 0.01992.755
sceCeldaG1.9220.0271.963
selectBestModel0.3340.0090.343
selectFeatures0.4590.0100.472
simulateCells0.4220.0020.425
simulateContamination0.0230.0010.025
splitModule0.4170.0050.424
subsetCeldaList0.6820.0100.696
topRank0.0030.0040.008