| Back to Multiple platform build/check report for BioC 3.21: simplified long |
|
This page was generated on 2025-10-16 11:37 -0400 (Thu, 16 Oct 2025).
| Hostname | OS | Arch (*) | R version | Installed pkgs |
|---|---|---|---|---|
| nebbiolo1 | Linux (Ubuntu 24.04.3 LTS) | x86_64 | 4.5.1 (2025-06-13) -- "Great Square Root" | 4833 |
| merida1 | macOS 12.7.6 Monterey | x86_64 | 4.5.1 RC (2025-06-05 r88288) -- "Great Square Root" | 4614 |
| kjohnson1 | macOS 13.7.5 Ventura | arm64 | 4.5.1 Patched (2025-06-14 r88325) -- "Great Square Root" | 4555 |
| kunpeng2 | Linux (openEuler 24.03 LTS) | aarch64 | R Under development (unstable) (2025-02-19 r87757) -- "Unsuffered Consequences" | 4586 |
| Click on any hostname to see more info about the system (e.g. compilers) (*) as reported by 'uname -p', except on Windows and Mac OS X | ||||
| Package 175/2341 | Hostname | OS / Arch | INSTALL | BUILD | CHECK | BUILD BIN | ||||||||
| bioassayR 1.46.0 (landing page) Thomas Girke
| nebbiolo1 | Linux (Ubuntu 24.04.3 LTS) / x86_64 | OK | OK | OK | |||||||||
| merida1 | macOS 12.7.6 Monterey / x86_64 | OK | OK | OK | OK | |||||||||
| kjohnson1 | macOS 13.7.5 Ventura / arm64 | OK | OK | ERROR | OK | |||||||||
| kunpeng2 | Linux (openEuler 24.03 LTS) / aarch64 | OK | OK | OK | ||||||||||
|
To the developers/maintainers of the bioassayR package: - Allow up to 24 hours (and sometimes 48 hours) for your latest push to git@git.bioconductor.org:packages/bioassayR.git to reflect on this report. See Troubleshooting Build Report for more information. - Use the following Renviron settings to reproduce errors and warnings. - If 'R CMD check' started to fail recently on the Linux builder(s) over a missing dependency, add the missing dependency to 'Suggests:' in your DESCRIPTION file. See Renviron.bioc for more information. |
| Package: bioassayR |
| Version: 1.46.0 |
| Command: /home/biocbuild/bbs-3.21-bioc/R/bin/R CMD check --install=check:bioassayR.install-out.txt --library=/home/biocbuild/bbs-3.21-bioc/R/site-library --timings bioassayR_1.46.0.tar.gz |
| StartedAt: 2025-10-15 21:09:44 -0400 (Wed, 15 Oct 2025) |
| EndedAt: 2025-10-15 21:11:43 -0400 (Wed, 15 Oct 2025) |
| EllapsedTime: 119.5 seconds |
| RetCode: 0 |
| Status: OK |
| CheckDir: bioassayR.Rcheck |
| Warnings: 0 |
##############################################################################
##############################################################################
###
### Running command:
###
### /home/biocbuild/bbs-3.21-bioc/R/bin/R CMD check --install=check:bioassayR.install-out.txt --library=/home/biocbuild/bbs-3.21-bioc/R/site-library --timings bioassayR_1.46.0.tar.gz
###
##############################################################################
##############################################################################
* using log directory ‘/home/biocbuild/bbs-3.21-bioc/meat/bioassayR.Rcheck’
* using R version 4.5.1 (2025-06-13)
* using platform: x86_64-pc-linux-gnu
* R was compiled by
gcc (Ubuntu 13.3.0-6ubuntu2~24.04) 13.3.0
GNU Fortran (Ubuntu 13.3.0-6ubuntu2~24.04) 13.3.0
* running under: Ubuntu 24.04.3 LTS
* using session charset: UTF-8
* checking for file ‘bioassayR/DESCRIPTION’ ... OK
* checking extension type ... Package
* this is package ‘bioassayR’ version ‘1.46.0’
* checking package namespace information ... OK
* checking package dependencies ... OK
* checking if this is a source package ... OK
* checking if there is a namespace ... OK
* checking for hidden files and directories ... OK
* checking for portable file names ... OK
* checking for sufficient/correct file permissions ... OK
* checking whether package ‘bioassayR’ can be installed ... OK
* checking installed package size ... OK
* checking package directory ... OK
* checking ‘build’ directory ... OK
* checking DESCRIPTION meta-information ... OK
* checking top-level files ... OK
* checking for left-over files ... OK
* checking index information ... OK
* checking package subdirectories ... OK
* checking code files for non-ASCII characters ... OK
* checking R files for syntax errors ... OK
* checking whether the package can be loaded ... OK
* checking whether the package can be loaded with stated dependencies ... OK
* checking whether the package can be unloaded cleanly ... OK
* checking whether the namespace can be loaded with stated dependencies ... OK
* checking whether the namespace can be unloaded cleanly ... OK
* checking loading without being on the library search path ... OK
* checking dependencies in R code ... OK
* checking S3 generic/method consistency ... OK
* checking replacement functions ... OK
* checking foreign function calls ... OK
* checking R code for possible problems ... OK
* checking Rd files ... NOTE
checkRd: (-1) disconnectBioassayDB.Rd:14: Lost braces
14 | A code{BioassayDB} object to be disconnected.
| ^
* checking Rd metadata ... OK
* checking Rd cross-references ... OK
* checking for missing documentation entries ... OK
* checking for code/documentation mismatches ... OK
* checking Rd \usage sections ... OK
* checking Rd contents ... OK
* checking for unstated dependencies in examples ... OK
* checking contents of ‘data’ directory ... OK
* checking data for non-ASCII characters ... OK
* checking data for ASCII and uncompressed saves ... OK
* checking line endings in Makefiles ... OK
* checking for GNU extensions in Makefiles ... OK
* checking include directives in Makefiles ... OK
* checking files in ‘vignettes’ ... OK
* checking examples ... OK
* checking for unstated dependencies in ‘tests’ ... OK
* checking tests ...
Running ‘testthat.R’
OK
* checking for unstated dependencies in vignettes ... OK
* checking package vignettes ... OK
* checking re-building of vignette outputs ... OK
* checking PDF version of manual ... OK
* DONE
Status: 1 NOTE
See
‘/home/biocbuild/bbs-3.21-bioc/meat/bioassayR.Rcheck/00check.log’
for details.
bioassayR.Rcheck/00install.out
############################################################################## ############################################################################## ### ### Running command: ### ### /home/biocbuild/bbs-3.21-bioc/R/bin/R CMD INSTALL bioassayR ### ############################################################################## ############################################################################## * installing to library ‘/home/biocbuild/bbs-3.21-bioc/R/site-library’ * installing *source* package ‘bioassayR’ ... ** this is package ‘bioassayR’ version ‘1.46.0’ ** using staged installation ** R ** data ** inst ** byte-compile and prepare package for lazy loading Creating a new generic function for ‘organism’ in package ‘bioassayR’ Creating a new generic function for ‘organism<-’ in package ‘bioassayR’ ** help *** installing help indices ** building package indices ** installing vignettes ** testing if installed package can be loaded from temporary location ** testing if installed package can be loaded from final location ** testing if installed package keeps a record of temporary installation path * DONE (bioassayR)
bioassayR.Rcheck/tests/testthat.Rout
R version 4.5.1 (2025-06-13) -- "Great Square Root"
Copyright (C) 2025 The R Foundation for Statistical Computing
Platform: x86_64-pc-linux-gnu
R is free software and comes with ABSOLUTELY NO WARRANTY.
You are welcome to redistribute it under certain conditions.
Type 'license()' or 'licence()' for distribution details.
R is a collaborative project with many contributors.
Type 'contributors()' for more information and
'citation()' on how to cite R or R packages in publications.
Type 'demo()' for some demos, 'help()' for on-line help, or
'help.start()' for an HTML browser interface to help.
Type 'q()' to quit R.
> library(testthat)
> library(bioassayR)
Loading required package: DBI
Loading required package: RSQLite
Loading required package: Matrix
Loading required package: rjson
Loading required package: BiocGenerics
Loading required package: generics
Attaching package: 'generics'
The following objects are masked from 'package:base':
as.difftime, as.factor, as.ordered, intersect, is.element, setdiff,
setequal, union
Attaching package: 'BiocGenerics'
The following objects are masked from 'package:stats':
IQR, mad, sd, var, xtabs
The following objects are masked from 'package:base':
Filter, Find, Map, Position, Reduce, anyDuplicated, aperm, append,
as.data.frame, basename, cbind, colnames, dirname, do.call,
duplicated, eval, evalq, get, grep, grepl, is.unsorted, lapply,
mapply, match, mget, order, paste, pmax, pmax.int, pmin, pmin.int,
rank, rbind, rownames, sapply, saveRDS, table, tapply, unique,
unsplit, which.max, which.min
Attaching package: 'bioassayR'
The following objects are masked from 'package:BiocGenerics':
organism, organism<-
>
> test_check("bioassayR")
[ FAIL 0 | WARN 1 | SKIP 0 | PASS 22 ]
[ FAIL 0 | WARN 1 | SKIP 0 | PASS 22 ]
>
> proc.time()
user system elapsed
4.489 0.361 4.839
bioassayR.Rcheck/bioassayR-Ex.timings
| name | user | system | elapsed | |
| BioAssayDB-class | 0.000 | 0.000 | 0.001 | |
| activeAgainst | 0.022 | 0.002 | 0.025 | |
| activeTargets | 0.029 | 0.007 | 0.036 | |
| addBioassayIndex | 0.009 | 0.004 | 0.013 | |
| addDataSource | 0.012 | 0.001 | 0.014 | |
| allCids | 0.003 | 0.003 | 0.006 | |
| allTargets | 0.005 | 0.000 | 0.005 | |
| assaySetTargets | 0.048 | 0.013 | 0.060 | |
| bioactivityFingerprint | 0.115 | 0.005 | 0.119 | |
| bioassay-class | 0.013 | 0.005 | 0.019 | |
| bioassaySet-class | 0 | 0 | 0 | |
| connectBioassayDB | 0.010 | 0.002 | 0.012 | |
| crossReactivityProbability | 0.108 | 0.003 | 0.111 | |
| disconnectBioassayDB | 0.012 | 0.001 | 0.012 | |
| dropBioassay | 0.053 | 0.009 | 0.063 | |
| dropBioassayIndex | 0.015 | 0.004 | 0.019 | |
| getAssay | 0.006 | 0.001 | 0.007 | |
| getAssays | 0.013 | 0.002 | 0.015 | |
| getBioassaySetByCids | 0.097 | 0.001 | 0.098 | |
| inactiveTargets | 0.007 | 0.001 | 0.008 | |
| loadBioassay | 0.025 | 0.002 | 0.027 | |
| loadIdMapping | 0.009 | 0.001 | 0.010 | |
| newBioassayDB | 0.007 | 0.000 | 0.007 | |
| parsePubChemBioassay | 0.006 | 0.001 | 0.007 | |
| perTargetMatrix | 0.115 | 0.004 | 0.119 | |
| queryBioassayDB | 0.014 | 0.016 | 0.029 | |
| samplebioassay | 0.001 | 0.001 | 0.002 | |
| scaleBioassaySet | 0.023 | 0.001 | 0.024 | |
| screenedAtLeast | 0.007 | 0.001 | 0.008 | |
| selectiveAgainst | 0.060 | 0.001 | 0.061 | |
| targetSelectivity | 0.013 | 0.002 | 0.014 | |
| translateTargetId | 0.011 | 0.001 | 0.012 | |
| trinarySimilarity | 0.105 | 0.001 | 0.105 | |