Back to Multiple platform build/check report for BioC 3.21:   simplified   long
A[B]CDEFGHIJKLMNOPQRSTUVWXYZ

This page was generated on 2025-10-16 11:37 -0400 (Thu, 16 Oct 2025).

HostnameOSArch (*)R versionInstalled pkgs
nebbiolo1Linux (Ubuntu 24.04.3 LTS)x86_644.5.1 (2025-06-13) -- "Great Square Root" 4833
merida1macOS 12.7.6 Montereyx86_644.5.1 RC (2025-06-05 r88288) -- "Great Square Root" 4614
kjohnson1macOS 13.7.5 Venturaarm644.5.1 Patched (2025-06-14 r88325) -- "Great Square Root" 4555
kunpeng2Linux (openEuler 24.03 LTS)aarch64R Under development (unstable) (2025-02-19 r87757) -- "Unsuffered Consequences" 4586
Click on any hostname to see more info about the system (e.g. compilers)      (*) as reported by 'uname -p', except on Windows and Mac OS X

Package 162/2341HostnameOS / ArchINSTALLBUILDCHECKBUILD BIN
benchdamic 1.14.4  (landing page)
Matteo Calgaro
Snapshot Date: 2025-10-13 13:40 -0400 (Mon, 13 Oct 2025)
git_url: https://git.bioconductor.org/packages/benchdamic
git_branch: RELEASE_3_21
git_last_commit: 822521d
git_last_commit_date: 2025-10-09 09:36:33 -0400 (Thu, 09 Oct 2025)
nebbiolo1Linux (Ubuntu 24.04.3 LTS) / x86_64  OK    OK    OK  UNNEEDED, same version is already published
merida1macOS 12.7.6 Monterey / x86_64  OK    TIMEOUT  skippedskipped
kjohnson1macOS 13.7.5 Ventura / arm64  OK    OK    OK    OK  UNNEEDED, same version is already published
kunpeng2Linux (openEuler 24.03 LTS) / aarch64  OK    OK    ERROR  


CHECK results for benchdamic on nebbiolo1

To the developers/maintainers of the benchdamic package:
- Allow up to 24 hours (and sometimes 48 hours) for your latest push to git@git.bioconductor.org:packages/benchdamic.git to reflect on this report. See Troubleshooting Build Report for more information.
- Use the following Renviron settings to reproduce errors and warnings.
- If 'R CMD check' started to fail recently on the Linux builder(s) over a missing dependency, add the missing dependency to 'Suggests:' in your DESCRIPTION file. See Renviron.bioc for more information.

raw results


Summary

Package: benchdamic
Version: 1.14.4
Command: /home/biocbuild/bbs-3.21-bioc/R/bin/R CMD check --install=check:benchdamic.install-out.txt --library=/home/biocbuild/bbs-3.21-bioc/R/site-library --timings benchdamic_1.14.4.tar.gz
StartedAt: 2025-10-15 21:06:15 -0400 (Wed, 15 Oct 2025)
EndedAt: 2025-10-15 21:39:12 -0400 (Wed, 15 Oct 2025)
EllapsedTime: 1977.1 seconds
RetCode: 0
Status:   OK  
CheckDir: benchdamic.Rcheck
Warnings: 0

Command output

##############################################################################
##############################################################################
###
### Running command:
###
###   /home/biocbuild/bbs-3.21-bioc/R/bin/R CMD check --install=check:benchdamic.install-out.txt --library=/home/biocbuild/bbs-3.21-bioc/R/site-library --timings benchdamic_1.14.4.tar.gz
###
##############################################################################
##############################################################################


* using log directory ‘/home/biocbuild/bbs-3.21-bioc/meat/benchdamic.Rcheck’
* using R version 4.5.1 (2025-06-13)
* using platform: x86_64-pc-linux-gnu
* R was compiled by
    gcc (Ubuntu 13.3.0-6ubuntu2~24.04) 13.3.0
    GNU Fortran (Ubuntu 13.3.0-6ubuntu2~24.04) 13.3.0
* running under: Ubuntu 24.04.3 LTS
* using session charset: UTF-8
* checking for file ‘benchdamic/DESCRIPTION’ ... OK
* checking extension type ... Package
* this is package ‘benchdamic’ version ‘1.14.4’
* package encoding: UTF-8
* checking package namespace information ... OK
* checking package dependencies ... INFO
Imports includes 32 non-default packages.
Importing from so many packages makes the package vulnerable to any of
them becoming unavailable.  Move as many as possible to Suggests and
use conditionally.
* checking if this is a source package ... OK
* checking if there is a namespace ... OK
* checking for hidden files and directories ... OK
* checking for portable file names ... OK
* checking for sufficient/correct file permissions ... OK
* checking whether package ‘benchdamic’ can be installed ... OK
* checking installed package size ... OK
* checking package directory ... OK
* checking ‘build’ directory ... OK
* checking DESCRIPTION meta-information ... OK
* checking top-level files ... OK
* checking for left-over files ... OK
* checking index information ... OK
* checking package subdirectories ... OK
* checking code files for non-ASCII characters ... OK
* checking R files for syntax errors ... OK
* checking whether the package can be loaded ... OK
* checking whether the package can be loaded with stated dependencies ... OK
* checking whether the package can be unloaded cleanly ... OK
* checking whether the namespace can be loaded with stated dependencies ... OK
* checking whether the namespace can be unloaded cleanly ... OK
* checking loading without being on the library search path ... OK
* checking dependencies in R code ... NOTE
Namespace in Imports field not imported from: ‘microbiome’
  All declared Imports should be used.
* checking S3 generic/method consistency ... OK
* checking replacement functions ... OK
* checking foreign function calls ... OK
* checking R code for possible problems ... OK
* checking Rd files ... OK
* checking Rd metadata ... OK
* checking Rd cross-references ... NOTE
Non-topic package-anchored link(s) in Rd file 'norm_DESeq2.Rd':
  ‘[DESeq2]{estimateSizeFactors}’

See section 'Cross-references' in the 'Writing R Extensions' manual.
* checking for missing documentation entries ... OK
* checking for code/documentation mismatches ... OK
* checking Rd \usage sections ... OK
* checking Rd contents ... OK
* checking for unstated dependencies in examples ... OK
* checking contents of ‘data’ directory ... OK
* checking data for non-ASCII characters ... OK
* checking LazyData ... OK
* checking data for ASCII and uncompressed saves ... OK
* checking files in ‘vignettes’ ... OK
* checking examples ... OK
Examples with CPU (user + system) or elapsed time > 5s
                 user system elapsed
fitModels       6.189  0.449  11.810
plotConcordance 6.104  0.242   6.478
* checking for unstated dependencies in ‘tests’ ... OK
* checking tests ...
  Running ‘testthat.R’
 OK
* checking for unstated dependencies in vignettes ... OK
* checking package vignettes ... OK
* checking re-building of vignette outputs ... OK
* checking PDF version of manual ... OK
* DONE

Status: 2 NOTEs
See
  ‘/home/biocbuild/bbs-3.21-bioc/meat/benchdamic.Rcheck/00check.log’
for details.


Installation output

benchdamic.Rcheck/00install.out

##############################################################################
##############################################################################
###
### Running command:
###
###   /home/biocbuild/bbs-3.21-bioc/R/bin/R CMD INSTALL benchdamic
###
##############################################################################
##############################################################################


* installing to library ‘/home/biocbuild/bbs-3.21-bioc/R/site-library’
* installing *source* package ‘benchdamic’ ...
** this is package ‘benchdamic’ version ‘1.14.4’
** using staged installation
** R
** data
*** moving datasets to lazyload DB
** inst
** byte-compile and prepare package for lazy loading
Found more than one class "dist" in cache; using the first, from namespace 'BiocGenerics'
Also defined by ‘spam’
** help
*** installing help indices
** building package indices
** installing vignettes
** testing if installed package can be loaded from temporary location
Found more than one class "dist" in cache; using the first, from namespace 'BiocGenerics'
Also defined by ‘spam’
** testing if installed package can be loaded from final location
Found more than one class "dist" in cache; using the first, from namespace 'BiocGenerics'
Also defined by ‘spam’
** testing if installed package keeps a record of temporary installation path
* DONE (benchdamic)

Tests output

benchdamic.Rcheck/tests/testthat.Rout


R version 4.5.1 (2025-06-13) -- "Great Square Root"
Copyright (C) 2025 The R Foundation for Statistical Computing
Platform: x86_64-pc-linux-gnu

R is free software and comes with ABSOLUTELY NO WARRANTY.
You are welcome to redistribute it under certain conditions.
Type 'license()' or 'licence()' for distribution details.

R is a collaborative project with many contributors.
Type 'contributors()' for more information and
'citation()' on how to cite R or R packages in publications.

Type 'demo()' for some demos, 'help()' for on-line help, or
'help.start()' for an HTML browser interface to help.
Type 'q()' to quit R.

> library(testthat)
> library(benchdamic)
Found more than one class "dist" in cache; using the first, from namespace 'BiocGenerics'
Also defined by 'spam'
> 
> test_check("benchdamic")
|------------(25%)----------(50%)----------(75%)----------|
|------------(25%)----------(50%)----------(75%)----------|
|------------(25%)----------(50%)----------(75%)----------|
|------------(25%)----------(50%)----------(75%)----------|
|------------(25%)----------(50%)----------(75%)----------|
[ FAIL 0 | WARN 2 | SKIP 0 | PASS 334 ]

[ FAIL 0 | WARN 2 | SKIP 0 | PASS 334 ]
> 
> proc.time()
   user  system elapsed 
 68.038   3.396  78.956 

Example timings

benchdamic.Rcheck/benchdamic-Ex.timings

nameusersystemelapsed
CAT0.0020.0010.003
DA_ALDEx23.9110.1874.099
DA_ANCOM0.7440.0210.765
DA_DESeq22.6690.0302.700
DA_MAST1.2310.0121.220
DA_Maaslin20.2150.0090.225
DA_NOISeq1.3330.0901.427
DA_Seurat2.1180.0182.138
DA_ZicoSeq0.6090.0090.618
DA_basic0.0290.0000.030
DA_corncob0.6540.0260.687
DA_dearseq0.0590.0100.069
DA_edgeR0.2020.0340.235
DA_limma0.0730.0070.080
DA_linda0.0450.0070.051
DA_maaslin30.4920.0470.539
DA_metagenomeSeq0.2390.0260.265
DA_mixMC0.6600.0780.739
RMSE0.0010.0000.001
addKnowledge0.1570.0140.170
areaCAT3.8590.4354.295
checkNormalization0.0000.0010.000
createColors0.0040.0010.004
createConcordance4.5610.3384.899
createEnrichment0.2280.0140.242
createMocks0.0020.0010.003
createPositives0.9290.0450.974
createSplits0.0300.0050.035
createTIEC3.1010.2303.335
enrichmentTest0.2090.0020.238
extractDA0.3270.0110.338
extractStatistics0.3780.0050.616
fitDM0.0750.0030.151
fitHURDLE1.4490.1021.678
fitModels 6.189 0.44911.810
fitNB0.1110.0050.209
fitZIG0.1180.0070.164
fitZINB0.9460.0841.499
getDA0.1970.0230.358
getPositives0.1980.0190.248
getStatistics0.1690.0220.191
get_counts_metadata0.3430.0130.524
iterative_ordering0.0240.0030.055
meanDifferences0.0050.0010.009
norm_CSS0.2080.0080.307
norm_DESeq21.0940.0601.233
norm_TSS0.0650.0030.068
norm_edgeR0.0730.0030.076
plotConcordance6.1040.2426.478
plotContingency1.6320.0521.744
plotEnrichment1.3520.0311.385
plotFDR2.4420.0222.464
plotFPR2.4500.0282.478
plotKS2.4590.0142.474
plotLogP2.5190.0192.538
plotMD3.5170.0553.572
plotMutualFindings1.3590.0251.384
plotPositives0.7780.0150.792
plotQQ2.4750.0602.534
plotRMSE2.7910.0762.866
prepareObserved0.0020.0000.002
runDA0.4760.0030.478
runMocks0.6910.0200.712
runNormalizations0.4790.0020.482
runSplits3.4130.0483.462
setNormalizations0.0000.0010.000
set_ALDEx20.0060.0010.006
set_ANCOM0.0060.0010.008
set_DESeq20.0080.0000.007
set_MAST0.0030.0000.003
set_Maaslin20.0040.0010.004
set_NOISeq0.0040.0000.004
set_Seurat0.0060.0000.006
set_ZicoSeq0.0050.0010.006
set_basic0.0010.0010.002
set_corncob0.0040.0000.004
set_dearseq0.0010.0010.002
set_edgeR0.0100.0000.011
set_limma0.0060.0020.008
set_linda0.0060.0000.006
set_maaslin30.0060.0010.007
set_metagenomeSeq0.0050.0000.005
set_mixMC0.0030.0000.003
weights_ZINB0.4110.0000.410