Back to Multiple platform build/check report for BioC 3.21:   simplified   long
A[B]CDEFGHIJKLMNOPQRSTUVWXYZ

This page was generated on 2025-10-16 11:37 -0400 (Thu, 16 Oct 2025).

HostnameOSArch (*)R versionInstalled pkgs
nebbiolo1Linux (Ubuntu 24.04.3 LTS)x86_644.5.1 (2025-06-13) -- "Great Square Root" 4833
merida1macOS 12.7.6 Montereyx86_644.5.1 RC (2025-06-05 r88288) -- "Great Square Root" 4614
kjohnson1macOS 13.7.5 Venturaarm644.5.1 Patched (2025-06-14 r88325) -- "Great Square Root" 4555
kunpeng2Linux (openEuler 24.03 LTS)aarch64R Under development (unstable) (2025-02-19 r87757) -- "Unsuffered Consequences" 4586
Click on any hostname to see more info about the system (e.g. compilers)      (*) as reported by 'uname -p', except on Windows and Mac OS X

Package 155/2341HostnameOS / ArchINSTALLBUILDCHECKBUILD BIN
beadarray 2.58.0  (landing page)
Mark Dunning
Snapshot Date: 2025-10-13 13:40 -0400 (Mon, 13 Oct 2025)
git_url: https://git.bioconductor.org/packages/beadarray
git_branch: RELEASE_3_21
git_last_commit: 20636bc
git_last_commit_date: 2025-04-15 09:37:46 -0400 (Tue, 15 Apr 2025)
nebbiolo1Linux (Ubuntu 24.04.3 LTS) / x86_64  OK    OK    OK  UNNEEDED, same version is already published
merida1macOS 12.7.6 Monterey / x86_64  OK    OK    OK    OK  UNNEEDED, same version is already published
kjohnson1macOS 13.7.5 Ventura / arm64  OK    OK    OK    OK  UNNEEDED, same version is already published
kunpeng2Linux (openEuler 24.03 LTS) / aarch64  OK    OK    OK  


CHECK results for beadarray on nebbiolo1

To the developers/maintainers of the beadarray package:
- Allow up to 24 hours (and sometimes 48 hours) for your latest push to git@git.bioconductor.org:packages/beadarray.git to reflect on this report. See Troubleshooting Build Report for more information.
- Use the following Renviron settings to reproduce errors and warnings.
- If 'R CMD check' started to fail recently on the Linux builder(s) over a missing dependency, add the missing dependency to 'Suggests:' in your DESCRIPTION file. See Renviron.bioc for more information.

raw results


Summary

Package: beadarray
Version: 2.58.0
Command: /home/biocbuild/bbs-3.21-bioc/R/bin/R CMD check --install=check:beadarray.install-out.txt --library=/home/biocbuild/bbs-3.21-bioc/R/site-library --timings beadarray_2.58.0.tar.gz
StartedAt: 2025-10-15 21:04:37 -0400 (Wed, 15 Oct 2025)
EndedAt: 2025-10-15 21:13:41 -0400 (Wed, 15 Oct 2025)
EllapsedTime: 544.1 seconds
RetCode: 0
Status:   OK  
CheckDir: beadarray.Rcheck
Warnings: 0

Command output

##############################################################################
##############################################################################
###
### Running command:
###
###   /home/biocbuild/bbs-3.21-bioc/R/bin/R CMD check --install=check:beadarray.install-out.txt --library=/home/biocbuild/bbs-3.21-bioc/R/site-library --timings beadarray_2.58.0.tar.gz
###
##############################################################################
##############################################################################


* using log directory ‘/home/biocbuild/bbs-3.21-bioc/meat/beadarray.Rcheck’
* using R version 4.5.1 (2025-06-13)
* using platform: x86_64-pc-linux-gnu
* R was compiled by
    gcc (Ubuntu 13.3.0-6ubuntu2~24.04) 13.3.0
    GNU Fortran (Ubuntu 13.3.0-6ubuntu2~24.04) 13.3.0
* running under: Ubuntu 24.04.3 LTS
* using session charset: UTF-8
* checking for file ‘beadarray/DESCRIPTION’ ... OK
* this is package ‘beadarray’ version ‘2.58.0’
* checking package namespace information ... OK
* checking package dependencies ... OK
* checking if this is a source package ... OK
* checking if there is a namespace ... OK
* checking for hidden files and directories ... OK
* checking for portable file names ... OK
* checking for sufficient/correct file permissions ... OK
* checking whether package ‘beadarray’ can be installed ... OK
* used C compiler: ‘gcc (Ubuntu 13.3.0-6ubuntu2~24.04) 13.3.0’
* checking installed package size ... OK
* checking package directory ... OK
* checking ‘build’ directory ... OK
* checking DESCRIPTION meta-information ... NOTE
License stub is invalid DCF.
* checking top-level files ... OK
* checking for left-over files ... OK
* checking index information ... OK
* checking package subdirectories ... OK
* checking code files for non-ASCII characters ... OK
* checking R files for syntax errors ... OK
* checking whether the package can be loaded ... OK
* checking whether the package can be loaded with stated dependencies ... OK
* checking whether the package can be unloaded cleanly ... OK
* checking whether the namespace can be loaded with stated dependencies ... OK
* checking whether the namespace can be unloaded cleanly ... OK
* checking loading without being on the library search path ... OK
* checking whether startup messages can be suppressed ... OK
* checking dependencies in R code ... NOTE
Package in Depends field not imported from: ‘hexbin’
  These packages need to be imported from (in the NAMESPACE file)
  for when this namespace is loaded but not attached.
Unexported objects imported by ':::' calls:
  ‘BeadDataPackR:::combineFiles’ ‘BeadDataPackR:::readHeader’
  ‘Biobase:::assayDataStorageMode’
  See the note in ?`:::` about the use of this operator.
* checking S3 generic/method consistency ... OK
* checking replacement functions ... OK
* checking foreign function calls ... NOTE
Foreign function call to a different package:
  .Call("roundLocsFileValues", ..., PACKAGE = "BeadDataPackR")
See chapter ‘System and foreign language interfaces’ in the ‘Writing R
Extensions’ manual.
* checking R code for possible problems ... NOTE
combinedControlPlot: no visible binding for global variable ‘Negative’
createGEOMeta: no visible binding for global variable ‘metaTemplate’
expressionQCPipeline: no visible global function definition for
  ‘openPage’
expressionQCPipeline: no visible global function definition for
  ‘hwrite’
expressionQCPipeline: no visible global function definition for
  ‘hwriteImage’
expressionQCPipeline: no visible global function definition for
  ‘closePage’
getPlatformSigs: no visible global function definition for
  ‘lumiHumanIDMapping_dbconn’
getPlatformSigs: no visible global function definition for
  ‘dbListTables’
getPlatformSigs: no visible global function definition for
  ‘dbListFields’
getPlatformSigs: no visible global function definition for ‘dbGetQuery’
getPlatformSigs: no visible global function definition for
  ‘lumiMouseIDMapping_dbconn’
getPlatformSigs: no visible global function definition for
  ‘lumiRatIDMapping_dbconn’
imageplot: no visible binding for global variable ‘Var1’
imageplot: no visible binding for global variable ‘Var2’
imageplot: no visible binding for global variable ‘value’
makeReport: no visible binding for global variable ‘Nozzle.R1’
makeReport: no visible binding for global variable ‘ggbio’
makeReport: no visible global function definition for ‘newCustomReport’
makeReport: no visible global function definition for ‘newSection’
makeReport: no visible global function definition for ‘newTable’
makeReport: no visible global function definition for ‘newParagraph’
makeReport: no visible global function definition for ‘addTo’
makeReport: no visible global function definition for ‘autoplot’
makeReport: no visible global function definition for ‘plotIdeogram’
makeReport: no visible global function definition for ‘tracks’
makeReport: no visible global function definition for ‘newFigure’
makeReport: no visible binding for global variable ‘IMAGE.TYPE.RASTER’
makeReport: no visible binding for global variable ‘PROTECTION.PUBLIC’
makeReport: no visible binding for global variable ‘value’
makeReport: no visible global function definition for ‘writeReport’
maplots: no visible binding for global variable ‘value.1’
maplots: no visible binding for global variable ‘value’
normaliseIllumina: no visible global function definition for ‘lumiT’
normaliseIllumina: no visible global function definition for
  ‘normalize.qspline’
normaliseIllumina: no visible global function definition for ‘vsn2’
plotBeadLocations2: no visible global function definition for ‘qplot’
plotBeadLocations2: no visible global function definition for ‘opts’
plotBeadLocations2: no visible global function definition for
  ‘theme_blank’
plotProbe: no visible global function definition for ‘autoplot’
plotProbe: no visible binding for global variable ‘genesymbol’
plotProbe: no visible global function definition for ‘tracks’
plotProbe: no visible binding for global variable ‘PROBEQUALITY’
rankInvariantNormalise: no visible global function definition for
  ‘normalize.invariantset’
suggestAnnotation: no visible binding for global variable
  ‘platformSigs’
suggestAnnotation_Vector: no visible binding for global variable
  ‘platformSigs’
[,ExpressionSetIllumina-ANY: no visible global function definition for
  ‘assayDataEnvLock’
boxplot,ExpressionSetIllumina: no visible binding for global variable
  ‘Var2’
boxplot,ExpressionSetIllumina: no visible binding for global variable
  ‘value’
plotMA,ExpressionSetIllumina: no visible binding for global variable
  ‘value.1’
plotMA,ExpressionSetIllumina: no visible binding for global variable
  ‘value’
Undefined global functions or variables:
  IMAGE.TYPE.RASTER Negative Nozzle.R1 PROBEQUALITY PROTECTION.PUBLIC
  Var1 Var2 addTo assayDataEnvLock autoplot closePage dbGetQuery
  dbListFields dbListTables genesymbol ggbio hwrite hwriteImage
  lumiHumanIDMapping_dbconn lumiMouseIDMapping_dbconn
  lumiRatIDMapping_dbconn lumiT metaTemplate newCustomReport newFigure
  newParagraph newSection newTable normalize.invariantset
  normalize.qspline openPage opts platformSigs plotIdeogram qplot
  theme_blank tracks value value.1 vsn2 writeReport
* checking Rd files ... NOTE
checkRd: (-1) createTargetsFile.Rd:49: Lost braces
    49 | code{metricsflag}: This gives the key word that can be used to identify metrics files.  
       |     ^
checkRd: (-1) readBeadSummaryData.Rd:70: Escaped LaTeX specials: \_
checkRd: (-1) readBeadSummaryData.Rd:71: Escaped LaTeX specials: \_ \_
checkRd: (-1) readBeadSummaryData.Rd:76: Escaped LaTeX specials: \_ \_
checkRd: (-1) sampleSheet.Rd:26: Escaped LaTeX specials: \_ \_ \_ \_ \_ \_ \_ \_ \_ \_ \_ \_
* checking Rd metadata ... OK
* checking Rd cross-references ... NOTE
Non-topic package-anchored link(s) in Rd file 'class-ExpressionSetIllumina.Rd':
  ‘[Biobase:class.eSet]{eSet}’

See section 'Cross-references' in the 'Writing R Extensions' manual.
* checking for missing documentation entries ... OK
* checking for code/documentation mismatches ... OK
* checking Rd \usage sections ... OK
* checking Rd contents ... OK
* checking for unstated dependencies in examples ... OK
* checking contents of ‘data’ directory ... OK
* checking data for non-ASCII characters ... OK
* checking LazyData ... OK
* checking data for ASCII and uncompressed saves ... OK
* checking line endings in C/C++/Fortran sources/headers ... OK
* checking compiled code ... NOTE
Note: information on .o files is not available
* checking files in ‘vignettes’ ... OK
* checking examples ... OK
Examples with CPU (user + system) or elapsed time > 5s
                           user system elapsed
squeezedVarOutlierMethod 45.992  0.166  46.161
summarize                18.694  0.929  19.624
limmaDE                  13.258  0.076  13.336
calculateOutlierStats    11.536  0.772  12.310
normaliseIllumina        11.898  0.330  12.231
outlierplot              10.060  0.549  10.610
controlProbeDetection     9.620  0.230   9.851
makeQCTable               8.524  0.298   8.823
identifyControlBeads      8.678  0.115   8.794
calculateDetection        8.439  0.230   8.670
insertSectionData         8.243  0.358   8.601
annotationInterface       6.526  0.545   7.073
poscontPlot               6.917  0.033   6.951
quickSummary              6.158  0.159   6.317
addFeatureData            5.373  0.611   5.999
imageplot                 5.835  0.144   5.987
* checking for unstated dependencies in vignettes ... OK
* checking package vignettes ... OK
* checking re-building of vignette outputs ... OK
* checking PDF version of manual ... OK
* DONE

Status: 7 NOTEs
See
  ‘/home/biocbuild/bbs-3.21-bioc/meat/beadarray.Rcheck/00check.log’
for details.


Installation output

beadarray.Rcheck/00install.out

##############################################################################
##############################################################################
###
### Running command:
###
###   /home/biocbuild/bbs-3.21-bioc/R/bin/R CMD INSTALL beadarray
###
##############################################################################
##############################################################################


* installing to library ‘/home/biocbuild/bbs-3.21-bioc/R/site-library’
* installing *source* package ‘beadarray’ ...
** this is package ‘beadarray’ version ‘2.58.0’
** using staged installation
** libs
using C compiler: ‘gcc (Ubuntu 13.3.0-6ubuntu2~24.04) 13.3.0’
gcc -std=gnu2x -I"/home/biocbuild/bbs-3.21-bioc/R/include" -DNDEBUG   -I/usr/local/include    -fpic  -g -O2  -Wall -Werror=format-security -c BASH.c -o BASH.o
gcc -std=gnu2x -I"/home/biocbuild/bbs-3.21-bioc/R/include" -DNDEBUG   -I/usr/local/include    -fpic  -g -O2  -Wall -Werror=format-security -c HULK.c -o HULK.o
gcc -std=gnu2x -I"/home/biocbuild/bbs-3.21-bioc/R/include" -DNDEBUG   -I/usr/local/include    -fpic  -g -O2  -Wall -Werror=format-security -c determiningGridPositions.c -o determiningGridPositions.o
gcc -std=gnu2x -I"/home/biocbuild/bbs-3.21-bioc/R/include" -DNDEBUG   -I/usr/local/include    -fpic  -g -O2  -Wall -Werror=format-security -c findAllOutliers.c -o findAllOutliers.o
findAllOutliers.c: In function ‘findBeadStatus’:
findAllOutliers.c:196:35: warning: ‘m’ may be used uninitialized [-Wmaybe-uninitialized]
  196 |                 if((inten[k] < (m + *nmads*ma)) && (inten[k] > (m - *nmads*ma))){
      |                                ~~~^~~~~~~~~~~~
findAllOutliers.c:155:16: note: ‘m’ was declared here
  155 |         double m, ma;
      |                ^
findAllOutliers.c:189:15: warning: ‘ma’ may be used uninitialized [-Wmaybe-uninitialized]
  189 |             if(ma==0) {
      |               ^
findAllOutliers.c:155:19: note: ‘ma’ was declared here
  155 |         double m, ma;
      |                   ^~
findAllOutliers.c: In function ‘findAllOutliers’:
findAllOutliers.c:246:20: warning: ‘status’ may be used uninitialized [-Wmaybe-uninitialized]
  246 |         free(status->validInds);
      |              ~~~~~~^~~~~~~~~~~
findAllOutliers.c:226:27: note: ‘status’ was declared here
  226 |         beadStatusStruct *status;
      |                           ^~~~~~
gcc -std=gnu2x -I"/home/biocbuild/bbs-3.21-bioc/R/include" -DNDEBUG   -I/usr/local/include    -fpic  -g -O2  -Wall -Werror=format-security -c imageProcessing.c -o imageProcessing.o
imageProcessing.c: In function ‘illuminaBackground’:
imageProcessing.c:88: warning: ignoring ‘#pragma omp parallel’ [-Wunknown-pragmas]
   88 |     #pragma omp parallel shared(nthreads, nbeads, imageHeight, pixelMatrix, coords) private(tid, start, end)
      | 
imageProcessing.c: In function ‘medianBackground’:
imageProcessing.c:135: warning: ignoring ‘#pragma omp parallel’ [-Wunknown-pragmas]
  135 |     #pragma omp parallel shared(nthreads, nbeads, imageHeight, pixelMatrix, coords) private(tid, start, end)
      | 
imageProcessing.c: In function ‘illuminaSharpen’:
imageProcessing.c:244: warning: ignoring ‘#pragma omp parallel’ [-Wunknown-pragmas]
  244 |     #pragma omp parallel for private(i, j) shared(sharpened) num_threads(2)
      | 
imageProcessing.c:251: warning: ignoring ‘#pragma omp parallel’ [-Wunknown-pragmas]
  251 |     #pragma omp parallel for private(i, j, sum) shared(sharpened) num_threads(2)
      | 
gcc -std=gnu2x -shared -L/home/biocbuild/bbs-3.21-bioc/R/lib -L/usr/local/lib -o beadarray.so BASH.o HULK.o determiningGridPositions.o findAllOutliers.o imageProcessing.o -L/home/biocbuild/bbs-3.21-bioc/R/lib -lR
installing to /home/biocbuild/bbs-3.21-bioc/R/site-library/00LOCK-beadarray/00new/beadarray/libs
** R
** data
*** moving datasets to lazyload DB
** inst
** byte-compile and prepare package for lazy loading
** help
*** installing help indices
** building package indices
** installing vignettes
** testing if installed package can be loaded from temporary location
** checking absolute paths in shared objects and dynamic libraries
** testing if installed package can be loaded from final location
** testing if installed package keeps a record of temporary installation path
* DONE (beadarray)

Tests output


Example timings

beadarray.Rcheck/beadarray-Ex.timings

nameusersystemelapsed
BASH0.0000.0010.000
BASHCompact0.0010.0000.000
BASHDiffuse0.0000.0000.001
BASHExtended0.0000.0010.000
GEO000
GEOtemplate0.0020.0000.002
HULK0.0000.0000.001
addFeatureData5.3730.6115.999
annotationInterface6.5260.5457.073
backgroundCorrectSingleSection000
beadarrayUsersGuide0.0020.0000.002
boxplot3.4470.1253.572
calculateDetection8.4390.2308.670
calculateOutlierStats11.536 0.77212.310
class-beadLevelData2.4260.0662.491
class-illuminaChannel0.0010.0010.002
combine3.8440.1804.024
controlProbeDetection9.6200.2309.851
createTargetsFile0.0000.0000.001
expressionQCPipeline0.0190.0020.022
generateNeighbours000
getBeadData1.8800.0311.911
identifyControlBeads8.6780.1158.794
illuminaOutlierMethod2.7650.1552.920
imageplot5.8350.1445.987
insertBeadData2.5470.1942.741
insertSectionData8.2430.3588.601
limmaDE13.258 0.07613.336
makeControlProfile0.3230.0040.327
makeQCTable8.5240.2988.823
maplots4.3070.0514.359
medianNormalise1.5850.0201.605
metrics1.8850.0461.931
noOutlierMethod1.8040.0651.868
normaliseIllumina11.898 0.33012.231
numBeads1.8240.0611.885
outlierplot10.060 0.54910.610
plotBeadIntensities2.0770.1882.265
plotBeadLocations3.0820.1263.208
plotChipLayout0.0010.0000.001
plotMAXY000
poscontPlot6.9170.0336.951
quickSummary6.1580.1596.317
readBeadSummaryData000
sectionNames1.8110.0491.860
showArrayMask4.8280.1614.989
squeezedVarOutlierMethod45.992 0.16646.161
summarize18.694 0.92919.624
transformationFunctions3.3430.1633.507
weightsOutlierMethod000