Back to Multiple platform build/check report for BioC 3.21:   simplified   long
[A]BCDEFGHIJKLMNOPQRSTUVWXYZ

This page was generated on 2025-10-16 11:39 -0400 (Thu, 16 Oct 2025).

HostnameOSArch (*)R versionInstalled pkgs
nebbiolo1Linux (Ubuntu 24.04.3 LTS)x86_644.5.1 (2025-06-13) -- "Great Square Root" 4833
merida1macOS 12.7.6 Montereyx86_644.5.1 RC (2025-06-05 r88288) -- "Great Square Root" 4614
kjohnson1macOS 13.7.5 Venturaarm644.5.1 Patched (2025-06-14 r88325) -- "Great Square Root" 4555
kunpeng2Linux (openEuler 24.03 LTS)aarch64R Under development (unstable) (2025-02-19 r87757) -- "Unsuffered Consequences" 4586
Click on any hostname to see more info about the system (e.g. compilers)      (*) as reported by 'uname -p', except on Windows and Mac OS X

Package 117/2341HostnameOS / ArchINSTALLBUILDCHECKBUILD BIN
autonomics 1.16.0  (landing page)
Aditya Bhagwat
Snapshot Date: 2025-10-13 13:40 -0400 (Mon, 13 Oct 2025)
git_url: https://git.bioconductor.org/packages/autonomics
git_branch: RELEASE_3_21
git_last_commit: a47f4df
git_last_commit_date: 2025-04-15 12:21:58 -0400 (Tue, 15 Apr 2025)
nebbiolo1Linux (Ubuntu 24.04.3 LTS) / x86_64  OK    OK    OK  UNNEEDED, same version is already published
merida1macOS 12.7.6 Monterey / x86_64  OK    OK    OK    OK  UNNEEDED, same version is already published
kjohnson1macOS 13.7.5 Ventura / arm64  OK    OK    OK    OK  UNNEEDED, same version is already published
kunpeng2Linux (openEuler 24.03 LTS) / aarch64  OK    OK    ERROR  


CHECK results for autonomics on kjohnson1

To the developers/maintainers of the autonomics package:
- Allow up to 24 hours (and sometimes 48 hours) for your latest push to git@git.bioconductor.org:packages/autonomics.git to reflect on this report. See Troubleshooting Build Report for more information.
- Use the following Renviron settings to reproduce errors and warnings.
- If 'R CMD check' started to fail recently on the Linux builder(s) over a missing dependency, add the missing dependency to 'Suggests:' in your DESCRIPTION file. See Renviron.bioc for more information.

raw results


Summary

Package: autonomics
Version: 1.16.0
Command: /Library/Frameworks/R.framework/Resources/bin/R CMD check --install=check:autonomics.install-out.txt --library=/Library/Frameworks/R.framework/Resources/library --no-vignettes --timings autonomics_1.16.0.tar.gz
StartedAt: 2025-10-14 13:14:43 -0400 (Tue, 14 Oct 2025)
EndedAt: 2025-10-14 13:31:17 -0400 (Tue, 14 Oct 2025)
EllapsedTime: 993.7 seconds
RetCode: 0
Status:   OK  
CheckDir: autonomics.Rcheck
Warnings: 0

Command output

##############################################################################
##############################################################################
###
### Running command:
###
###   /Library/Frameworks/R.framework/Resources/bin/R CMD check --install=check:autonomics.install-out.txt --library=/Library/Frameworks/R.framework/Resources/library --no-vignettes --timings autonomics_1.16.0.tar.gz
###
##############################################################################
##############################################################################


* using log directory ‘/Users/biocbuild/bbs-3.21-bioc/meat/autonomics.Rcheck’
* using R version 4.5.1 Patched (2025-06-14 r88325)
* using platform: aarch64-apple-darwin20
* R was compiled by
    Apple clang version 16.0.0 (clang-1600.0.26.6)
    GNU Fortran (GCC) 14.2.0
* running under: macOS Ventura 13.7.5
* using session charset: UTF-8
* using option ‘--no-vignettes’
* checking for file ‘autonomics/DESCRIPTION’ ... OK
* checking extension type ... Package
* this is package ‘autonomics’ version ‘1.16.0’
* package encoding: UTF-8
* checking package namespace information ... OK
* checking package dependencies ... INFO
Imports includes 30 non-default packages.
Importing from so many packages makes the package vulnerable to any of
them becoming unavailable.  Move as many as possible to Suggests and
use conditionally.
* checking if this is a source package ... OK
* checking if there is a namespace ... OK
* checking for hidden files and directories ... NOTE
Found the following hidden files and directories:
  .BBSoptions
These were most likely included in error. See section ‘Package
structure’ in the ‘Writing R Extensions’ manual.
* checking for portable file names ... OK
* checking for sufficient/correct file permissions ... OK
* checking whether package ‘autonomics’ can be installed ... OK
* checking installed package size ... OK
* checking package directory ... OK
* checking ‘build’ directory ... OK
* checking DESCRIPTION meta-information ... OK
* checking top-level files ... OK
* checking for left-over files ... OK
* checking index information ... OK
* checking package subdirectories ... OK
* checking code files for non-ASCII characters ... OK
* checking R files for syntax errors ... OK
* checking whether the package can be loaded ... OK
* checking whether the package can be loaded with stated dependencies ... OK
* checking whether the package can be unloaded cleanly ... OK
* checking whether the namespace can be loaded with stated dependencies ... OK
* checking whether the namespace can be unloaded cleanly ... OK
* checking dependencies in R code ... OK
* checking S3 generic/method consistency ... OK
* checking replacement functions ... OK
* checking foreign function calls ... OK
* checking R code for possible problems ... OK
* checking Rd files ... OK
* checking Rd metadata ... OK
* checking Rd cross-references ... NOTE
Non-topic package-anchored link(s) in Rd file 'reexports.Rd':
  ‘[magrittr:compound]{%<>%}’ ‘[magrittr:pipe]{%>%}’
  ‘[magrittr:aliases]{extract}’

See section 'Cross-references' in the 'Writing R Extensions' manual.
* checking for missing documentation entries ... OK
* checking for code/documentation mismatches ... OK
* checking Rd \usage sections ... OK
* checking Rd contents ... OK
* checking for unstated dependencies in examples ... OK
* checking files in ‘vignettes’ ... OK
* checking examples ... OK
Examples with CPU (user + system) or elapsed time > 5s
                           user system elapsed
read_diann_proteingroups 99.431  1.861  98.953
read_rnaseq_counts       35.307  1.706  37.602
fit_linmod               32.017  0.280  32.349
plot_exprs_per_coef      26.442  0.174  27.246
plot_exprs               26.256  0.179  26.670
rm_diann_contaminants    19.840  0.475  19.234
default_formula          18.019  0.623  18.267
analyze                  16.619  0.214  16.941
read_metabolon           14.594  0.111  14.925
read_somascan            14.115  0.057  14.290
plot_summary             13.838  0.097  13.940
plot_volcano             13.643  0.128  13.882
plot_densities           10.403  0.211  10.874
ftype                     8.941  0.318   9.305
fcluster                  9.171  0.072   9.264
read_fragpipe             7.639  0.210   8.187
plot_sample_nas           6.732  0.048   6.802
biplot_covariates         6.623  0.066   6.692
log2transform             6.399  0.056   6.483
extract_coef_features     6.059  0.075   6.139
fit_survival              5.515  0.051   5.572
plot_joint_density        5.435  0.118   5.616
plot_subgroup_points      5.452  0.067   5.525
* checking for unstated dependencies in ‘tests’ ... OK
* checking tests ...
  Running ‘testthat.R’
 OK
* checking for unstated dependencies in vignettes ... OK
* checking package vignettes ... OK
* checking running R code from vignettes ... SKIPPED
* checking re-building of vignette outputs ... SKIPPED
* checking PDF version of manual ... OK
* DONE

Status: 2 NOTEs
See
  ‘/Users/biocbuild/bbs-3.21-bioc/meat/autonomics.Rcheck/00check.log’
for details.


Installation output

autonomics.Rcheck/00install.out

##############################################################################
##############################################################################
###
### Running command:
###
###   /Library/Frameworks/R.framework/Resources/bin/R CMD INSTALL autonomics
###
##############################################################################
##############################################################################


* installing to library ‘/Library/Frameworks/R.framework/Versions/4.5-arm64/Resources/library’
* installing *source* package ‘autonomics’ ...
** this is package ‘autonomics’ version ‘1.16.0’
** using staged installation
** R
** inst
** byte-compile and prepare package for lazy loading
** help
*** installing help indices
** building package indices
** installing vignettes
** testing if installed package can be loaded from temporary location
** testing if installed package can be loaded from final location
** testing if installed package keeps a record of temporary installation path
* DONE (autonomics)

Tests output

autonomics.Rcheck/tests/testthat.Rout


R version 4.5.1 Patched (2025-06-14 r88325) -- "Great Square Root"
Copyright (C) 2025 The R Foundation for Statistical Computing
Platform: aarch64-apple-darwin20

R is free software and comes with ABSOLUTELY NO WARRANTY.
You are welcome to redistribute it under certain conditions.
Type 'license()' or 'licence()' for distribution details.

R is a collaborative project with many contributors.
Type 'contributors()' for more information and
'citation()' on how to cite R or R packages in publications.

Type 'demo()' for some demos, 'help()' for on-line help, or
'help.start()' for an HTML browser interface to help.
Type 'q()' to quit R.

> library(testthat)
> library(autonomics)

Attaching package: 'autonomics'

The following objects are masked from 'package:stats':

    biplot, loadings

The following object is masked from 'package:base':

    beta

> 
> test_check("autonomics")
[ FAIL 0 | WARN 3 | SKIP 0 | PASS 158 ]

[ FAIL 0 | WARN 3 | SKIP 0 | PASS 158 ]
> 
> proc.time()
   user  system elapsed 
166.564   9.610 174.042 

Example timings

autonomics.Rcheck/autonomics-Ex.timings

nameusersystemelapsed
AUTONOMICS_DATASETS000
COMPOUNDDISCOVERER_PATTERNS0.0010.0010.001
FITSEP0.0000.0010.001
LINMODENGINES000
MAXQUANT_PATTERNS0.0000.0010.000
SURVIVALENGINES000
TAXON_TO_ORGNAME000
TESTS000
X1.5620.1551.746
abstract_fit1.7160.1241.867
add_adjusted_pvalues0.6000.0180.626
add_assay_means0.3940.0090.411
add_facetvars1.2410.0631.340
add_opentargets_by_uniprot0.3040.0090.342
add_psp0.5760.0180.664
add_smiles0.4720.0430.523
analysis0.4060.0080.419
analyze16.619 0.21416.941
annotate_maxquant1.0040.0751.085
annotate_uniprot_rest0.0970.0190.710
assert_is_valid_sumexp0.5560.0480.632
bin0.4320.0100.446
biplot4.6580.0744.811
biplot_corrections4.6850.0834.771
biplot_covariates6.6230.0666.692
block2lme0.0030.0000.004
center1.7940.0201.815
code4.9050.0664.974
coefs0.7870.0450.834
collapsed_entrezg_to_symbol0.0000.0000.001
contrast_subgroup_cols0.5490.0460.596
count_in0.0010.0010.002
counts0.3330.0040.336
counts2cpm0.3120.0040.315
counts2tpm0.2650.0020.267
cpm0.2800.0020.281
create_design0.7660.0480.816
default_formula18.019 0.62318.267
default_geom0.4790.0410.521
default_sfile0.0020.0010.002
demultiplex0.0110.0010.012
dequantify0.0020.0000.002
dequantify_compounddiscoverer0.0010.0000.001
dot-coxph0.4630.0320.496
dot-merge0.0250.0010.027
dot-read_maxquant_proteingroups0.1510.0050.156
download_data0.0010.0010.001
download_gtf000
download_mcclain210.0000.0000.001
dt2mat0.0030.0010.003
enrichment1.6200.0081.629
entrezg_to_symbol0.0000.0000.001
extract_coef_features6.0590.0756.139
extract_rectangle0.1430.0420.184
fcluster9.1710.0729.264
fcor1.5250.0311.561
fdata0.6510.0310.683
fdr2p0.9730.0581.032
filter_exprs_replicated_in_some_subgroup0.9210.0450.968
filter_features0.4890.0430.534
filter_medoid0.7120.0150.727
filter_samples0.5830.0450.631
fit_linmod32.017 0.28032.349
fit_survival5.5150.0515.572
fitcoefs0.9480.0460.998
fits0.7370.0440.787
fix_xlgenes0.0020.0000.002
flevels0.5040.0090.514
fnames0.4580.0080.466
formula2str0.0000.0000.001
ftype8.9410.3189.305
fvalues0.5060.0100.558
fvars0.4730.0110.489
genome_to_orgdb0.0010.0010.001
group_by_level0.0010.0010.001
guess_compounddiscoverer_quantity0.0010.0010.002
guess_fitsep0.5550.0070.567
guess_maxquant_quantity0.0060.0010.007
guess_sep0.5150.0450.563
has_multiple_levels0.0570.0030.060
hdlproteins0.0620.0310.097
impute3.8620.0363.910
invert_subgroups0.7310.0080.741
is_collapsed_subset0.0000.0000.001
is_correlation_matrix0.0010.0000.001
is_diann_report0.4260.0630.457
is_fastadt0.0620.0010.063
is_file0.0000.0010.000
is_fraction0.0020.0000.002
is_imputed0.7960.0080.806
is_positive_number0.0010.0000.002
is_scalar_subset0.3230.0050.329
is_sig1.9030.0131.929
is_valid_formula0.0620.0010.065
keep_connected_blocks0.5470.0460.621
keep_connected_features0.7850.0470.845
keep_replicated_features0.8640.0510.922
label2index0.0000.0000.001
list2mat0.0010.0000.001
log2counts0.4080.0030.413
log2cpm0.3380.0030.343
log2diffs0.4030.0060.409
log2proteins0.3290.0060.336
log2sites0.3290.0060.335
log2tpm0.4160.0030.421
log2transform6.3990.0566.483
logical2factor0.0020.0000.002
make_alpha_palette0.5440.0500.599
make_colors0.0150.0010.017
make_volcano_dt0.8590.0090.872
map_fvalues0.4400.0090.463
matrix2sumexp1.0830.0531.161
merge_sample_file0.4630.0110.477
merge_sdata0.5560.0510.610
message_df0.0020.0000.002
model_coefs0.7800.0440.829
modelvar3.6590.0643.755
order_on_p1.3130.0521.388
pca3.5900.0683.693
pg_to_canonical0.0060.0010.007
plot_coef_densities1.4110.0521.476
plot_contrast_venn2.4530.0612.529
plot_contrastogram3.0310.1323.200
plot_data1.7300.0591.805
plot_densities10.403 0.21110.874
plot_design0.7800.0110.797
plot_exprs26.256 0.17926.670
plot_exprs_per_coef26.442 0.17427.246
plot_fit_summary2.3970.0622.478
plot_heatmap2.6150.0152.655
plot_joint_density5.4350.1185.616
plot_matrix0.4960.0470.548
plot_sample_nas6.7320.0486.802
plot_subgroup_points5.4520.0675.525
plot_summary13.838 0.09713.940
plot_survival3.8800.0283.920
plot_venn0.0050.0010.007
plot_venn_heatmap0.0240.0010.025
plot_violins4.7060.1224.839
plot_volcano13.643 0.12813.882
preprocess_rnaseq_counts0.3140.0040.356
pull_columns0.0020.0010.003
read_affymetrix0.0000.0010.000
read_diann_proteingroups99.431 1.86198.953
read_fragpipe7.6390.2108.187
read_maxquant_phosphosites1.4190.0241.447
read_maxquant_proteingroups1.2650.0231.330
read_metabolon14.594 0.11114.925
read_msigdt0.0010.0000.001
read_olink1.5640.0631.627
read_rectangles0.2030.0210.226
read_rnaseq_counts35.307 1.70637.602
read_salmon000
read_somascan14.115 0.05714.290
read_uniprotdt0.3300.0220.354
reset_fit4.7500.0694.839
rm_diann_contaminants19.840 0.47519.234
rm_missing_in_some_samples0.5010.0460.550
rm_unmatched_samples1.0490.0641.119
scaledlibsizes0.3030.0050.308
scoremat1.0070.0541.077
slevels0.3820.0060.387
snames0.4590.0070.465
split_extract_fixed0.4840.0440.529
split_samples1.1670.0521.219
stri_any_regex0.0010.0010.001
stri_detect_fixed_in_collapsed0.3370.0060.344
subgroup_matrix0.5610.0430.606
subtract_baseline4.8620.0704.944
sumexp_to_longdt1.7730.0941.869
sumexp_to_tsv0.5420.0070.550
sumexplist_to_longdt1.5020.0171.520
summarize_fit1.6740.0561.748
svalues0.5000.0080.516
svars0.4150.0070.423
systematic_nas0.5400.0070.551
tag_features1.1670.0391.231
tag_hdlproteins0.5470.0330.583
taxon2org0.0010.0000.001
tpm0.4180.0060.432
uncollapse0.0300.0040.034
values0.4310.0070.445
varlevels_dont_clash0.0270.0010.028
venn_detects0.6150.0110.632
weights0.3440.0030.348
write_xl0.7030.0530.773
zero_to_na0.0020.0010.002