Back to Multiple platform build/check report for BioC 3.21:   simplified   long
ABCDEFGHIJKLMNOPQRS[T]UVWXYZ

This page was generated on 2025-10-16 11:39 -0400 (Thu, 16 Oct 2025).

HostnameOSArch (*)R versionInstalled pkgs
nebbiolo1Linux (Ubuntu 24.04.3 LTS)x86_644.5.1 (2025-06-13) -- "Great Square Root" 4833
merida1macOS 12.7.6 Montereyx86_644.5.1 RC (2025-06-05 r88288) -- "Great Square Root" 4614
kjohnson1macOS 13.7.5 Venturaarm644.5.1 Patched (2025-06-14 r88325) -- "Great Square Root" 4555
kunpeng2Linux (openEuler 24.03 LTS)aarch64R Under development (unstable) (2025-02-19 r87757) -- "Unsuffered Consequences" 4586
Click on any hostname to see more info about the system (e.g. compilers)      (*) as reported by 'uname -p', except on Windows and Mac OS X

Package 2217/2341HostnameOS / ArchINSTALLBUILDCHECKBUILD BIN
TPP2D 1.24.1  (landing page)
Nils Kurzawa
Snapshot Date: 2025-10-13 13:40 -0400 (Mon, 13 Oct 2025)
git_url: https://git.bioconductor.org/packages/TPP2D
git_branch: RELEASE_3_21
git_last_commit: d2db5e8
git_last_commit_date: 2025-09-18 15:44:47 -0400 (Thu, 18 Sep 2025)
nebbiolo1Linux (Ubuntu 24.04.3 LTS) / x86_64  OK    OK    OK  UNNEEDED, same version is already published
merida1macOS 12.7.6 Monterey / x86_64  OK    OK    OK    OK  UNNEEDED, same version is already published
kjohnson1macOS 13.7.5 Ventura / arm64  OK    OK    OK    OK  UNNEEDED, same version is already published
kunpeng2Linux (openEuler 24.03 LTS) / aarch64  OK    OK    NA  


CHECK results for TPP2D on merida1

To the developers/maintainers of the TPP2D package:
- Allow up to 24 hours (and sometimes 48 hours) for your latest push to git@git.bioconductor.org:packages/TPP2D.git to reflect on this report. See Troubleshooting Build Report for more information.
- Use the following Renviron settings to reproduce errors and warnings.
- If 'R CMD check' started to fail recently on the Linux builder(s) over a missing dependency, add the missing dependency to 'Suggests:' in your DESCRIPTION file. See Renviron.bioc for more information.

raw results


Summary

Package: TPP2D
Version: 1.24.1
Command: /Library/Frameworks/R.framework/Resources/bin/R CMD check --install=check:TPP2D.install-out.txt --library=/Library/Frameworks/R.framework/Resources/library --no-vignettes --timings TPP2D_1.24.1.tar.gz
StartedAt: 2025-10-14 11:46:26 -0400 (Tue, 14 Oct 2025)
EndedAt: 2025-10-14 11:51:09 -0400 (Tue, 14 Oct 2025)
EllapsedTime: 283.4 seconds
RetCode: 0
Status:   OK  
CheckDir: TPP2D.Rcheck
Warnings: 0

Command output

##############################################################################
##############################################################################
###
### Running command:
###
###   /Library/Frameworks/R.framework/Resources/bin/R CMD check --install=check:TPP2D.install-out.txt --library=/Library/Frameworks/R.framework/Resources/library --no-vignettes --timings TPP2D_1.24.1.tar.gz
###
##############################################################################
##############################################################################


* using log directory ‘/Users/biocbuild/bbs-3.21-bioc/meat/TPP2D.Rcheck’
* using R version 4.5.1 RC (2025-06-05 r88288)
* using platform: x86_64-apple-darwin20
* R was compiled by
    Apple clang version 14.0.0 (clang-1400.0.29.202)
    GNU Fortran (GCC) 14.2.0
* running under: macOS Monterey 12.7.6
* using session charset: UTF-8
* using option ‘--no-vignettes’
* checking for file ‘TPP2D/DESCRIPTION’ ... OK
* this is package ‘TPP2D’ version ‘1.24.1’
* package encoding: UTF-8
* checking package namespace information ... OK
* checking package dependencies ... OK
* checking if this is a source package ... OK
* checking if there is a namespace ... OK
* checking for hidden files and directories ... OK
* checking for portable file names ... OK
* checking for sufficient/correct file permissions ... OK
* checking whether package ‘TPP2D’ can be installed ... OK
* checking installed package size ... OK
* checking package directory ... OK
* checking ‘build’ directory ... OK
* checking DESCRIPTION meta-information ... OK
* checking top-level files ... OK
* checking for left-over files ... OK
* checking index information ... OK
* checking package subdirectories ... OK
* checking code files for non-ASCII characters ... OK
* checking R files for syntax errors ... OK
* checking whether the package can be loaded ... OK
* checking whether the package can be loaded with stated dependencies ... OK
* checking whether the package can be unloaded cleanly ... OK
* checking whether the namespace can be loaded with stated dependencies ... OK
* checking whether the namespace can be unloaded cleanly ... OK
* checking dependencies in R code ... NOTE
There are ::: calls to the package's namespace in its code. A package
  almost never needs to use ::: for its own objects:
  ‘.min_RSS_h0’ ‘.min_RSS_h1_slope_pEC50’
* checking S3 generic/method consistency ... OK
* checking replacement functions ... OK
* checking foreign function calls ... OK
* checking R code for possible problems ... OK
* checking Rd files ... OK
* checking Rd metadata ... OK
* checking Rd cross-references ... OK
* checking for missing documentation entries ... OK
* checking for code/documentation mismatches ... OK
* checking Rd \usage sections ... OK
* checking Rd contents ... OK
* checking for unstated dependencies in examples ... OK
* checking contents of ‘data’ directory ... OK
* checking data for non-ASCII characters ... OK
* checking data for ASCII and uncompressed saves ... OK
* checking R/sysdata.rda ... OK
* checking files in ‘vignettes’ ... OK
* checking examples ... OK
Examples with CPU (user + system) or elapsed time > 5s
                         user system elapsed
computeFStatFromParams 13.968  0.133  14.314
fitAndEvalDataset      13.737  0.108  14.075
getModelParamsDf       13.644  0.113  13.812
computeFstat           10.864  0.099  10.986
plot2dTppVolcano        9.478  0.048   9.574
competeModels           7.038  0.105   7.195
findHits                2.606  0.024  11.353
getFDR                  2.545  0.022   9.409
getPvalues              1.389  0.018   8.572
* checking for unstated dependencies in ‘tests’ ... OK
* checking tests ...
  Running ‘testthat.R’
 OK
* checking for unstated dependencies in vignettes ... OK
* checking package vignettes ... OK
* checking running R code from vignettes ... SKIPPED
* checking re-building of vignette outputs ... SKIPPED
* checking PDF version of manual ... OK
* DONE

Status: 1 NOTE
See
  ‘/Users/biocbuild/bbs-3.21-bioc/meat/TPP2D.Rcheck/00check.log’
for details.


Installation output

TPP2D.Rcheck/00install.out

##############################################################################
##############################################################################
###
### Running command:
###
###   /Library/Frameworks/R.framework/Resources/bin/R CMD INSTALL TPP2D
###
##############################################################################
##############################################################################


* installing to library ‘/Library/Frameworks/R.framework/Versions/4.5-x86_64/Resources/library’
* installing *source* package ‘TPP2D’ ...
** this is package ‘TPP2D’ version ‘1.24.1’
** using staged installation
** R
** data
** inst
** byte-compile and prepare package for lazy loading
** help
*** installing help indices
** building package indices
** installing vignettes
** testing if installed package can be loaded from temporary location
** testing if installed package can be loaded from final location
** testing if installed package keeps a record of temporary installation path
* DONE (TPP2D)

Tests output

TPP2D.Rcheck/tests/testthat.Rout


R version 4.5.1 RC (2025-06-05 r88288) -- "Great Square Root"
Copyright (C) 2025 The R Foundation for Statistical Computing
Platform: x86_64-apple-darwin20

R is free software and comes with ABSOLUTELY NO WARRANTY.
You are welcome to redistribute it under certain conditions.
Type 'license()' or 'licence()' for distribution details.

R is a collaborative project with many contributors.
Type 'contributors()' for more information and
'citation()' on how to cite R or R packages in publications.

Type 'demo()' for some demos, 'help()' for on-line help, or
'help.start()' for an HTML browser interface to help.
Type 'q()' to quit R.

> Sys.setenv("R_TESTS" = "")
> library(testthat)
> library(TPP2D)
Loading required package: dplyr

Attaching package: 'dplyr'

The following object is masked from 'package:testthat':

    matches

The following objects are masked from 'package:stats':

    filter, lag

The following objects are masked from 'package:base':

    intersect, setdiff, setequal, union

> 
> test_check("TPP2D")
[1] "Warning: You have specificed B < 20, it is recommended to use at least B = 20 in order to obtain reliable results."

  |                                                                            
  |                                                                      |   0%
  |                                                                            
  |======================================================================| 100%

[ FAIL 0 | WARN 0 | SKIP 0 | PASS 18 ]
> 
> proc.time()
   user  system elapsed 
 14.025   0.514  14.702 

Example timings

TPP2D.Rcheck/TPP2D-Ex.timings

nameusersystemelapsed
TPP_importCheckConfigTable0.0340.0080.042
annotateDataList1.0190.0201.041
bootstrapNull0.1340.0104.726
bootstrapNullAlternativeModel3.9300.0444.009
bootstrapNullAlternativeModelFast4.2150.0334.286
competeModels7.0380.1057.195
computeFStatFromParams13.968 0.13314.314
computeFstat10.864 0.09910.986
configWide2Long0.0100.0030.012
filterOutContaminants0.0840.0030.086
findHits 2.606 0.02411.353
fitAndEvalDataset13.737 0.10814.075
fitH0Model0.2650.0040.270
fitH1Model2.0690.0122.099
getFDR2.5450.0229.409
getModelParamsDf13.644 0.11313.812
getPEC504Temperature0.8580.0070.874
getPvalues1.3890.0188.572
gg_qq0.1180.0020.121
import2dDataset0.9360.0090.946
import2dMain0.4210.0070.429
plot2dTppFcHeatmap0.8160.0110.829
plot2dTppFit0.9950.0051.003
plot2dTppProfile0.9780.0050.985
plot2dTppRelProfile0.9740.0050.981
plot2dTppVolcano9.4780.0489.574
recomputeSignalFromRatios0.1310.0030.134
renameColumns0.9580.0080.974
resolveAmbiguousProteinNames0.0670.0010.068
runTPP2D3.3860.0203.438
tpp2dExperiment-class0.0000.0010.001