Back to Multiple platform build/check report for BioC 3.21:   simplified   long
ABCDEFGHIJKLMNOPQR[S]TUVWXYZ

This page was generated on 2025-10-16 11:40 -0400 (Thu, 16 Oct 2025).

HostnameOSArch (*)R versionInstalled pkgs
nebbiolo1Linux (Ubuntu 24.04.3 LTS)x86_644.5.1 (2025-06-13) -- "Great Square Root" 4833
merida1macOS 12.7.6 Montereyx86_644.5.1 RC (2025-06-05 r88288) -- "Great Square Root" 4614
kjohnson1macOS 13.7.5 Venturaarm644.5.1 Patched (2025-06-14 r88325) -- "Great Square Root" 4555
kunpeng2Linux (openEuler 24.03 LTS)aarch64R Under development (unstable) (2025-02-19 r87757) -- "Unsuffered Consequences" 4586
Click on any hostname to see more info about the system (e.g. compilers)      (*) as reported by 'uname -p', except on Windows and Mac OS X

Package 2037/2341HostnameOS / ArchINSTALLBUILDCHECKBUILD BIN
SNPhood 1.38.0  (landing page)
Christian Arnold
Snapshot Date: 2025-10-13 13:40 -0400 (Mon, 13 Oct 2025)
git_url: https://git.bioconductor.org/packages/SNPhood
git_branch: RELEASE_3_21
git_last_commit: a7144d2
git_last_commit_date: 2025-04-15 10:56:04 -0400 (Tue, 15 Apr 2025)
nebbiolo1Linux (Ubuntu 24.04.3 LTS) / x86_64  OK    OK    OK  UNNEEDED, same version is already published
merida1macOS 12.7.6 Monterey / x86_64  OK    OK    OK    OK  UNNEEDED, same version is already published
kjohnson1macOS 13.7.5 Ventura / arm64  OK    OK    OK    OK  UNNEEDED, same version is already published
kunpeng2Linux (openEuler 24.03 LTS) / aarch64  OK    OK    OK  


CHECK results for SNPhood on kjohnson1

To the developers/maintainers of the SNPhood package:
- Allow up to 24 hours (and sometimes 48 hours) for your latest push to git@git.bioconductor.org:packages/SNPhood.git to reflect on this report. See Troubleshooting Build Report for more information.
- Use the following Renviron settings to reproduce errors and warnings.
- If 'R CMD check' started to fail recently on the Linux builder(s) over a missing dependency, add the missing dependency to 'Suggests:' in your DESCRIPTION file. See Renviron.bioc for more information.

raw results


Summary

Package: SNPhood
Version: 1.38.0
Command: /Library/Frameworks/R.framework/Resources/bin/R CMD check --install=check:SNPhood.install-out.txt --library=/Library/Frameworks/R.framework/Resources/library --no-vignettes --timings SNPhood_1.38.0.tar.gz
StartedAt: 2025-10-15 13:12:39 -0400 (Wed, 15 Oct 2025)
EndedAt: 2025-10-15 13:24:30 -0400 (Wed, 15 Oct 2025)
EllapsedTime: 711.7 seconds
RetCode: 0
Status:   OK  
CheckDir: SNPhood.Rcheck
Warnings: 0

Command output

##############################################################################
##############################################################################
###
### Running command:
###
###   /Library/Frameworks/R.framework/Resources/bin/R CMD check --install=check:SNPhood.install-out.txt --library=/Library/Frameworks/R.framework/Resources/library --no-vignettes --timings SNPhood_1.38.0.tar.gz
###
##############################################################################
##############################################################################


* using log directory ‘/Users/biocbuild/bbs-3.21-bioc/meat/SNPhood.Rcheck’
* using R version 4.5.1 Patched (2025-06-14 r88325)
* using platform: aarch64-apple-darwin20
* R was compiled by
    Apple clang version 16.0.0 (clang-1600.0.26.6)
    GNU Fortran (GCC) 14.2.0
* running under: macOS Ventura 13.7.5
* using session charset: UTF-8
* using option ‘--no-vignettes’
* checking for file ‘SNPhood/DESCRIPTION’ ... OK
* this is package ‘SNPhood’ version ‘1.38.0’
* checking package namespace information ... OK
* checking package dependencies ... OK
* checking if this is a source package ... OK
* checking if there is a namespace ... OK
* checking for hidden files and directories ... OK
* checking for portable file names ... OK
* checking for sufficient/correct file permissions ... OK
* checking whether package ‘SNPhood’ can be installed ... OK
* checking installed package size ... OK
* checking package directory ... OK
* checking ‘build’ directory ... OK
* checking DESCRIPTION meta-information ... NOTE
BugReports field is not a suitable URL but contains an email address:
   use the Contact field instead
* checking top-level files ... OK
* checking for left-over files ... OK
* checking index information ... OK
* checking package subdirectories ... OK
* checking code files for non-ASCII characters ... OK
* checking R files for syntax errors ... OK
* checking whether the package can be loaded ... OK
* checking whether the package can be loaded with stated dependencies ... OK
* checking whether the package can be unloaded cleanly ... OK
* checking whether the namespace can be loaded with stated dependencies ... OK
* checking whether the namespace can be unloaded cleanly ... OK
* checking whether startup messages can be suppressed ... OK
* checking dependencies in R code ... OK
* checking S3 generic/method consistency ... OK
* checking replacement functions ... OK
* checking foreign function calls ... OK
* checking R code for possible problems ... NOTE
.calcBinomTestVector: no visible binding for global variable ‘pp’
Undefined global functions or variables:
  pp
* checking Rd files ... OK
* checking Rd metadata ... OK
* checking Rd cross-references ... NOTE
Found the following Rd file(s) with Rd \link{} targets missing package
anchors:
  analyzeSNPhood.Rd: BamFile-class, BamFileList-class
  collectFiles.Rd: BamFile-class, BamFileList-class
Please provide package anchors for all Rd \link{} targets not in the
package itself and the base packages.
* checking for missing documentation entries ... OK
* checking for code/documentation mismatches ... OK
* checking Rd \usage sections ... OK
* checking Rd contents ... OK
* checking for unstated dependencies in examples ... OK
* checking contents of ‘data’ directory ... OK
* checking data for non-ASCII characters ... OK
* checking LazyData ... OK
* checking data for ASCII and uncompressed saves ... OK
* checking files in ‘vignettes’ ... OK
* checking examples ... OK
Examples with CPU (user + system) or elapsed time > 5s
                                   user system elapsed
analyzeSNPhood                  123.854  3.611 129.134
plotAllelicBiasResults           34.085  0.643  34.849
plotAndSummarizeAllelicBiasTest  32.039  0.330  32.401
plotFDRResults                   31.784  0.430  32.381
testForAllelicBiases             30.918  0.305  31.436
annotationBins2                  12.792  0.094  12.971
results                           1.888  6.475   8.483
associateGenotypes                5.980  0.114   6.185
* checking for unstated dependencies in vignettes ... OK
* checking package vignettes ... OK
* checking running R code from vignettes ... SKIPPED
* checking re-building of vignette outputs ... SKIPPED
* checking PDF version of manual ... OK
* DONE

Status: 3 NOTEs
See
  ‘/Users/biocbuild/bbs-3.21-bioc/meat/SNPhood.Rcheck/00check.log’
for details.


Installation output

SNPhood.Rcheck/00install.out

##############################################################################
##############################################################################
###
### Running command:
###
###   /Library/Frameworks/R.framework/Resources/bin/R CMD INSTALL SNPhood
###
##############################################################################
##############################################################################


* installing to library ‘/Library/Frameworks/R.framework/Versions/4.5-arm64/Resources/library’
* installing *source* package ‘SNPhood’ ...
** this is package ‘SNPhood’ version ‘1.38.0’
** using staged installation
** R
** data
*** moving datasets to lazyload DB
** byte-compile and prepare package for lazy loading
** help
*** installing help indices
** building package indices
** installing vignettes
** testing if installed package can be loaded from temporary location
** testing if installed package can be loaded from final location
** testing if installed package keeps a record of temporary installation path
* DONE (SNPhood)

Tests output


Example timings

SNPhood.Rcheck/SNPhood-Ex.timings

nameusersystemelapsed
analyzeSNPhood123.854 3.611129.134
annotation-methods0.2390.0710.319
annotationBins0.1340.0630.198
annotationBins212.792 0.09412.971
annotationDatasets0.1370.0340.172
annotationReadGroups0.1540.0300.185
annotationRegions0.1520.0250.178
associateGenotypes5.9800.1146.185
bins-methods0.1400.0220.167
changeObjectIntegrityChecking0.1800.0300.209
collectFiles0.0340.0030.038
convertToAllelicFractions0.2260.0370.266
counts-method0.2370.0380.276
datasets-methods0.1580.0470.205
deleteDatasets1.4420.0481.490
deleteReadGroups0.1750.0450.221
deleteRegions1.4430.0621.506
enrichment-methods0.1660.0280.194
getDefaultParameterList0.0000.0000.001
mergeReadGroups0.1590.0370.199
parameters-methods0.0920.0290.122
plotAllelicBiasResults34.085 0.64334.849
plotAllelicBiasResultsOverview1.1690.0351.204
plotAndCalculateCorrelationDatasets1.6210.0381.662
plotAndCalculateWeakAndStrongGenotype0.7740.0730.850
plotAndClusterMatrix0.6150.0610.677
plotAndSummarizeAllelicBiasTest32.039 0.33032.401
plotBinCounts1.6700.0551.727
plotClusterAverage0.7930.0240.819
plotFDRResults31.784 0.43032.381
plotGenotypesPerCluster0.5310.0450.576
plotGenotypesPerSNP0.4450.0540.499
plotRegionCounts1.9140.0581.975
readGroups-methods0.1490.0440.194
regions-methods0.2440.0870.333
renameBins0.1560.0460.202
renameDatasets0.1730.0580.232
renameReadGroups0.1560.0270.184
renameRegions3.5750.0813.671
results1.8886.4758.483
testForAllelicBiases30.918 0.30531.436