Back to Multiple platform build/check report for BioC 3.21:   simplified   long
ABCDEFGHIJKLMNO[P]QRSTUVWXYZ

This page was generated on 2025-10-16 11:39 -0400 (Thu, 16 Oct 2025).

HostnameOSArch (*)R versionInstalled pkgs
nebbiolo1Linux (Ubuntu 24.04.3 LTS)x86_644.5.1 (2025-06-13) -- "Great Square Root" 4833
merida1macOS 12.7.6 Montereyx86_644.5.1 RC (2025-06-05 r88288) -- "Great Square Root" 4614
kjohnson1macOS 13.7.5 Venturaarm644.5.1 Patched (2025-06-14 r88325) -- "Great Square Root" 4555
kunpeng2Linux (openEuler 24.03 LTS)aarch64R Under development (unstable) (2025-02-19 r87757) -- "Unsuffered Consequences" 4586
Click on any hostname to see more info about the system (e.g. compilers)      (*) as reported by 'uname -p', except on Windows and Mac OS X

Package 1576/2341HostnameOS / ArchINSTALLBUILDCHECKBUILD BIN
PhosR 1.18.5  (landing page)
Di Xiao
Snapshot Date: 2025-10-13 13:40 -0400 (Mon, 13 Oct 2025)
git_url: https://git.bioconductor.org/packages/PhosR
git_branch: RELEASE_3_21
git_last_commit: 4c02896
git_last_commit_date: 2025-09-16 00:21:42 -0400 (Tue, 16 Sep 2025)
nebbiolo1Linux (Ubuntu 24.04.3 LTS) / x86_64  OK    OK    OK  UNNEEDED, same version is already published
merida1macOS 12.7.6 Monterey / x86_64  OK    OK    OK    OK  UNNEEDED, same version is already published
kjohnson1macOS 13.7.5 Ventura / arm64  OK    OK    OK    OK  UNNEEDED, same version is already published
kunpeng2Linux (openEuler 24.03 LTS) / aarch64  OK    OK    OK  


CHECK results for PhosR on merida1

To the developers/maintainers of the PhosR package:
- Allow up to 24 hours (and sometimes 48 hours) for your latest push to git@git.bioconductor.org:packages/PhosR.git to reflect on this report. See Troubleshooting Build Report for more information.
- Use the following Renviron settings to reproduce errors and warnings.
- If 'R CMD check' started to fail recently on the Linux builder(s) over a missing dependency, add the missing dependency to 'Suggests:' in your DESCRIPTION file. See Renviron.bioc for more information.

raw results


Summary

Package: PhosR
Version: 1.18.5
Command: /Library/Frameworks/R.framework/Resources/bin/R CMD check --install=check:PhosR.install-out.txt --library=/Library/Frameworks/R.framework/Resources/library --no-vignettes --timings PhosR_1.18.5.tar.gz
StartedAt: 2025-10-14 08:12:06 -0400 (Tue, 14 Oct 2025)
EndedAt: 2025-10-14 08:25:33 -0400 (Tue, 14 Oct 2025)
EllapsedTime: 806.5 seconds
RetCode: 0
Status:   OK  
CheckDir: PhosR.Rcheck
Warnings: 0

Command output

##############################################################################
##############################################################################
###
### Running command:
###
###   /Library/Frameworks/R.framework/Resources/bin/R CMD check --install=check:PhosR.install-out.txt --library=/Library/Frameworks/R.framework/Resources/library --no-vignettes --timings PhosR_1.18.5.tar.gz
###
##############################################################################
##############################################################################


* using log directory ‘/Users/biocbuild/bbs-3.21-bioc/meat/PhosR.Rcheck’
* using R version 4.5.1 RC (2025-06-05 r88288)
* using platform: x86_64-apple-darwin20
* R was compiled by
    Apple clang version 14.0.0 (clang-1400.0.29.202)
    GNU Fortran (GCC) 14.2.0
* running under: macOS Monterey 12.7.6
* using session charset: UTF-8
* using option ‘--no-vignettes’
* checking for file ‘PhosR/DESCRIPTION’ ... OK
* checking extension type ... Package
* this is package ‘PhosR’ version ‘1.18.5’
* package encoding: UTF-8
* checking package namespace information ... OK
* checking package dependencies ... INFO
Imports includes 24 non-default packages.
Importing from so many packages makes the package vulnerable to any of
them becoming unavailable.  Move as many as possible to Suggests and
use conditionally.
* checking if this is a source package ... OK
* checking if there is a namespace ... OK
* checking for hidden files and directories ... NOTE
Found the following hidden files and directories:
  .travis.yml
These were most likely included in error. See section ‘Package
structure’ in the ‘Writing R Extensions’ manual.
* checking for portable file names ... OK
* checking for sufficient/correct file permissions ... OK
* checking whether package ‘PhosR’ can be installed ... OK
* checking installed package size ... OK
* checking package directory ... OK
* checking ‘build’ directory ... OK
* checking DESCRIPTION meta-information ... OK
* checking top-level files ... OK
* checking for left-over files ... OK
* checking index information ... OK
* checking package subdirectories ... OK
* checking code files for non-ASCII characters ... OK
* checking R files for syntax errors ... OK
* checking whether the package can be loaded ... OK
* checking whether the package can be loaded with stated dependencies ... OK
* checking whether the package can be unloaded cleanly ... OK
* checking whether the namespace can be loaded with stated dependencies ... OK
* checking whether the namespace can be unloaded cleanly ... OK
* checking whether startup messages can be suppressed ... OK
* checking dependencies in R code ... NOTE
Namespace in Imports field not imported from: ‘stringi’
  All declared Imports should be used.
Unexported objects imported by ':::' calls:
  ‘BiocGenerics:::replaceSlots’ ‘S4Vectors:::disableValidity’
  ‘SummarizedExperiment:::.SummarizedExperiment.charbound’
  See the note in ?`:::` about the use of this operator.
* checking S3 generic/method consistency ... OK
* checking replacement functions ... OK
* checking foreign function calls ... OK
* checking R code for possible problems ... NOTE
abundPlot: no visible binding for global variable ‘.’
Undefined global functions or variables:
  .
* checking Rd files ... OK
* checking Rd metadata ... OK
* checking Rd cross-references ... NOTE
Found the following Rd file(s) with Rd \link{} targets missing package
anchors:
  PhosphoExperiment-operate.Rd: SummarizedExperiment-class
  PhosphoExperiment.Rd: SummarizedExperiment-class
Please provide package anchors for all Rd \link{} targets not in the
package itself and the base packages.
* checking for missing documentation entries ... OK
* checking for code/documentation mismatches ... OK
* checking Rd \usage sections ... OK
* checking Rd contents ... OK
* checking for unstated dependencies in examples ... OK
* checking contents of ‘data’ directory ... OK
* checking data for non-ASCII characters ... OK
* checking data for ASCII and uncompressed saves ... OK
* checking files in ‘vignettes’ ... OK
* checking examples ... OK
Examples with CPU (user + system) or elapsed time > 5s
                         user system elapsed
kinaseSubstratePred    66.048  0.644  66.995
siteAnnotate           65.274  0.578  66.701
kinaseSubstrateScore   45.651  0.319  46.503
minmax                 45.271  0.291  45.666
standardise            25.718  0.077  26.394
matANOVA               25.328  0.065  25.493
kinaseSubstrateProfile 24.996  0.086  25.181
plotQC                 12.919  0.158  13.408
* checking for unstated dependencies in ‘tests’ ... OK
* checking tests ...
  Running ‘testthat.R’
 OK
* checking for unstated dependencies in vignettes ... OK
* checking package vignettes ... OK
* checking running R code from vignettes ... SKIPPED
* checking re-building of vignette outputs ... SKIPPED
* checking PDF version of manual ... OK
* DONE

Status: 4 NOTEs
See
  ‘/Users/biocbuild/bbs-3.21-bioc/meat/PhosR.Rcheck/00check.log’
for details.


Installation output

PhosR.Rcheck/00install.out

##############################################################################
##############################################################################
###
### Running command:
###
###   /Library/Frameworks/R.framework/Resources/bin/R CMD INSTALL PhosR
###
##############################################################################
##############################################################################


* installing to library ‘/Library/Frameworks/R.framework/Versions/4.5-x86_64/Resources/library’
* installing *source* package ‘PhosR’ ...
** this is package ‘PhosR’ version ‘1.18.5’
** using staged installation
** R
** data
** inst
** byte-compile and prepare package for lazy loading
** help
*** installing help indices
*** copying figures
** building package indices
** installing vignettes
** testing if installed package can be loaded from temporary location
** testing if installed package can be loaded from final location
** testing if installed package keeps a record of temporary installation path
* DONE (PhosR)

Tests output

PhosR.Rcheck/tests/testthat.Rout


R version 4.5.1 RC (2025-06-05 r88288) -- "Great Square Root"
Copyright (C) 2025 The R Foundation for Statistical Computing
Platform: x86_64-apple-darwin20

R is free software and comes with ABSOLUTELY NO WARRANTY.
You are welcome to redistribute it under certain conditions.
Type 'license()' or 'licence()' for distribution details.

R is a collaborative project with many contributors.
Type 'contributors()' for more information and
'citation()' on how to cite R or R packages in publications.

Type 'demo()' for some demos, 'help()' for on-line help, or
'help.start()' for an HTML browser interface to help.
Type 'q()' to quit R.

> library(testthat)
> library(PhosR)
> 
> test_check("PhosR")
[ FAIL 0 | WARN 0 | SKIP 0 | PASS 64 ]
> 
> proc.time()
   user  system elapsed 
 19.219   1.103  20.928 

Example timings

PhosR.Rcheck/PhosR-Ex.timings

nameusersystemelapsed
PhosphoExperiment-methods0.6630.0200.689
PhosphoExperiment-operate0.9750.0201.025
PhosphoExperiment1.2820.0131.303
RUVphospho0.3920.0150.419
Signalomes0.0000.0000.001
createFrequencyMat0.1380.0080.146
frequencyScoring0.7010.0410.760
getSPS4.0070.1554.167
kinaseSubstrateHeatmap0.0000.0000.001
kinaseSubstratePred66.048 0.64466.995
kinaseSubstrateProfile24.996 0.08625.181
kinaseSubstrateScore45.651 0.31946.503
mIntersect2.9070.0202.930
matANOVA25.328 0.06525.493
meanAbundance0.4820.0140.500
medianScaling0.6520.0120.685
minmax45.271 0.29145.666
pathwayOverrepresent0.0000.0000.001
pathwayRankBasedEnrichment000
phosCollapse2.1250.0392.181
plotQC12.919 0.15813.408
ptImpute0.6310.0100.650
scImpute1.3450.0161.372
selectGrps0.1680.0130.184
selectLocalisedSites0.1230.0100.133
selectOverallPercent0.0540.0070.062
selectTimes0.0150.0050.028
siteAnnotate65.274 0.57866.701
standardise25.718 0.07726.394
tImpute0.2360.0140.256