Back to Multiple platform build/check report for BioC 3.21: simplified long |
|
This page was generated on 2025-10-16 11:38 -0400 (Thu, 16 Oct 2025).
Hostname | OS | Arch (*) | R version | Installed pkgs |
---|---|---|---|---|
nebbiolo1 | Linux (Ubuntu 24.04.3 LTS) | x86_64 | 4.5.1 (2025-06-13) -- "Great Square Root" | 4833 |
merida1 | macOS 12.7.6 Monterey | x86_64 | 4.5.1 RC (2025-06-05 r88288) -- "Great Square Root" | 4614 |
kjohnson1 | macOS 13.7.5 Ventura | arm64 | 4.5.1 Patched (2025-06-14 r88325) -- "Great Square Root" | 4555 |
kunpeng2 | Linux (openEuler 24.03 LTS) | aarch64 | R Under development (unstable) (2025-02-19 r87757) -- "Unsuffered Consequences" | 4586 |
Click on any hostname to see more info about the system (e.g. compilers) (*) as reported by 'uname -p', except on Windows and Mac OS X |
Package 1635/2341 | Hostname | OS / Arch | INSTALL | BUILD | CHECK | BUILD BIN | ||||||||
PRONE 1.2.2 (landing page) Lis Arend
| nebbiolo1 | Linux (Ubuntu 24.04.3 LTS) / x86_64 | OK | OK | OK | ![]() | ||||||||
merida1 | macOS 12.7.6 Monterey / x86_64 | OK | OK | OK | OK | ![]() | ||||||||
kjohnson1 | macOS 13.7.5 Ventura / arm64 | OK | OK | OK | OK | ![]() | ||||||||
kunpeng2 | Linux (openEuler 24.03 LTS) / aarch64 | OK | ERROR | skipped | ||||||||||
To the developers/maintainers of the PRONE package: - Allow up to 24 hours (and sometimes 48 hours) for your latest push to git@git.bioconductor.org:packages/PRONE.git to reflect on this report. See Troubleshooting Build Report for more information. - Use the following Renviron settings to reproduce errors and warnings. - If 'R CMD check' started to fail recently on the Linux builder(s) over a missing dependency, add the missing dependency to 'Suggests:' in your DESCRIPTION file. See Renviron.bioc for more information. |
Package: PRONE |
Version: 1.2.2 |
Command: /home/biocbuild/bbs-3.21-bioc/R/bin/R CMD check --install=check:PRONE.install-out.txt --library=/home/biocbuild/bbs-3.21-bioc/R/site-library --timings PRONE_1.2.2.tar.gz |
StartedAt: 2025-10-16 02:26:07 -0400 (Thu, 16 Oct 2025) |
EndedAt: 2025-10-16 02:34:14 -0400 (Thu, 16 Oct 2025) |
EllapsedTime: 487.7 seconds |
RetCode: 0 |
Status: OK |
CheckDir: PRONE.Rcheck |
Warnings: 0 |
############################################################################## ############################################################################## ### ### Running command: ### ### /home/biocbuild/bbs-3.21-bioc/R/bin/R CMD check --install=check:PRONE.install-out.txt --library=/home/biocbuild/bbs-3.21-bioc/R/site-library --timings PRONE_1.2.2.tar.gz ### ############################################################################## ############################################################################## * using log directory ‘/home/biocbuild/bbs-3.21-bioc/meat/PRONE.Rcheck’ * using R version 4.5.1 (2025-06-13) * using platform: x86_64-pc-linux-gnu * R was compiled by gcc (Ubuntu 13.3.0-6ubuntu2~24.04) 13.3.0 GNU Fortran (Ubuntu 13.3.0-6ubuntu2~24.04) 13.3.0 * running under: Ubuntu 24.04.3 LTS * using session charset: UTF-8 * checking for file ‘PRONE/DESCRIPTION’ ... OK * checking extension type ... Package * this is package ‘PRONE’ version ‘1.2.2’ * package encoding: UTF-8 * checking package namespace information ... OK * checking package dependencies ... INFO Imports includes 34 non-default packages. Importing from so many packages makes the package vulnerable to any of them becoming unavailable. Move as many as possible to Suggests and use conditionally. * checking if this is a source package ... OK * checking if there is a namespace ... OK * checking for hidden files and directories ... OK * checking for portable file names ... OK * checking for sufficient/correct file permissions ... OK * checking whether package ‘PRONE’ can be installed ... OK * checking installed package size ... OK * checking package directory ... OK * checking ‘build’ directory ... OK * checking DESCRIPTION meta-information ... OK * checking top-level files ... OK * checking for left-over files ... OK * checking index information ... OK * checking package subdirectories ... OK * checking code files for non-ASCII characters ... OK * checking R files for syntax errors ... OK * checking whether the package can be loaded ... OK * checking whether the package can be loaded with stated dependencies ... OK * checking whether the package can be unloaded cleanly ... OK * checking whether the namespace can be loaded with stated dependencies ... OK * checking whether the namespace can be unloaded cleanly ... OK * checking loading without being on the library search path ... OK * checking dependencies in R code ... NOTE Unexported objects imported by ':::' calls: ‘NormalyzerDE:::calculateAvgMadMem’ ‘NormalyzerDE:::calculateAvgReplicateVariation’ ‘NormalyzerDE:::calculatePercentageAvgDiffInMat’ ‘NormalyzerDE:::calculateReplicateCV’ ‘NormalyzerDE:::calculateSummarizedCorrelationVector’ See the note in ?`:::` about the use of this operator. * checking S3 generic/method consistency ... OK * checking replacement functions ... OK * checking foreign function calls ... OK * checking R code for possible problems ... NOTE plot_upset_DE: no visible global function definition for ‘packageVersion’ Undefined global functions or variables: packageVersion Consider adding importFrom("utils", "packageVersion") to your NAMESPACE file. * checking Rd files ... OK * checking Rd metadata ... OK * checking Rd cross-references ... OK * checking for missing documentation entries ... OK * checking for code/documentation mismatches ... OK * checking Rd \usage sections ... OK * checking Rd contents ... OK * checking for unstated dependencies in examples ... OK * checking contents of ‘data’ directory ... OK * checking data for non-ASCII characters ... OK * checking data for ASCII and uncompressed saves ... OK * checking files in ‘vignettes’ ... OK * checking examples ... OK * checking for unstated dependencies in vignettes ... OK * checking package vignettes ... OK * checking re-building of vignette outputs ... OK * checking PDF version of manual ... OK * DONE Status: 2 NOTEs See ‘/home/biocbuild/bbs-3.21-bioc/meat/PRONE.Rcheck/00check.log’ for details.
PRONE.Rcheck/00install.out
############################################################################## ############################################################################## ### ### Running command: ### ### /home/biocbuild/bbs-3.21-bioc/R/bin/R CMD INSTALL PRONE ### ############################################################################## ############################################################################## * installing to library ‘/home/biocbuild/bbs-3.21-bioc/R/site-library’ * installing *source* package ‘PRONE’ ... ** this is package ‘PRONE’ version ‘1.2.2’ ** using staged installation ** R ** data ** inst ** byte-compile and prepare package for lazy loading ** help *** installing help indices *** copying figures ** building package indices ** installing vignettes ** testing if installed package can be loaded from temporary location ** testing if installed package can be loaded from final location ** testing if installed package keeps a record of temporary installation path * DONE (PRONE)
PRONE.Rcheck/PRONE-Ex.timings
name | user | system | elapsed | |
apply_thresholds | 0.030 | 0.003 | 0.033 | |
detect_outliers_POMA | 1.028 | 0.137 | 1.166 | |
eigenMSNorm | 0.575 | 0.006 | 0.581 | |
export_data | 0.028 | 0.001 | 0.029 | |
extract_consensus_DE_candidates | 0.079 | 0.004 | 0.083 | |
filter_out_NA_proteins_by_threshold | 0.231 | 0.010 | 0.232 | |
filter_out_complete_NA_proteins | 0.053 | 0.000 | 0.052 | |
filter_out_proteins_by_ID | 0.151 | 0.002 | 0.152 | |
filter_out_proteins_by_value | 0.155 | 0.001 | 0.155 | |
get_NA_overview | 0.037 | 0.010 | 0.047 | |
get_normalization_methods | 0.000 | 0.001 | 0.000 | |
get_overview_DE | 0.038 | 0.005 | 0.043 | |
get_proteins_by_value | 0.146 | 0.002 | 0.149 | |
get_spiked_stats_DE | 0.085 | 0.005 | 0.090 | |
globalIntNorm | 0.133 | 0.002 | 0.135 | |
globalMeanNorm | 0.134 | 0.001 | 0.135 | |
globalMedianNorm | 0.132 | 0.002 | 0.133 | |
impute_se | 0.786 | 0.029 | 0.750 | |
irsNorm | 0.059 | 0.002 | 0.061 | |
limmaNorm | 0.068 | 0.003 | 0.071 | |
load_data | 0.049 | 0.006 | 0.057 | |
load_spike_data | 0.042 | 0.000 | 0.044 | |
loessCycNorm | 0.12 | 0.00 | 0.12 | |
loessFNorm | 0.087 | 0.000 | 0.087 | |
meanNorm | 0.046 | 0.002 | 0.048 | |
medianAbsDevNorm | 0.111 | 0.007 | 0.119 | |
medianNorm | 0.152 | 0.003 | 0.155 | |
normalize_se | 3.445 | 0.074 | 3.519 | |
normalize_se_combination | 4.113 | 0.191 | 4.303 | |
normalize_se_single | 3.119 | 0.064 | 3.184 | |
normicsNorm | 3.005 | 0.027 | 3.032 | |
plot_NA_density | 0.402 | 0.007 | 0.402 | |
plot_NA_frequency | 0.219 | 0.002 | 0.206 | |
plot_NA_heatmap | 1.261 | 0.050 | 1.311 | |
plot_PCA | 1.312 | 0.012 | 1.324 | |
plot_ROC_AUC_spiked | 1.206 | 0.005 | 1.194 | |
plot_TP_FP_spiked_bar | 0.339 | 0.000 | 0.340 | |
plot_TP_FP_spiked_box | 0.404 | 0.018 | 0.422 | |
plot_TP_FP_spiked_scatter | 0.432 | 0.010 | 0.442 | |
plot_boxplots | 4.558 | 0.049 | 4.534 | |
plot_condition_overview | 0.270 | 0.001 | 0.271 | |
plot_densities | 2.790 | 0.004 | 2.698 | |
plot_fold_changes_spiked | 0.561 | 0.006 | 0.561 | |
plot_heatmap | 3.685 | 0.002 | 3.688 | |
plot_heatmap_DE | 1.196 | 0.006 | 1.203 | |
plot_histogram_spiked | 0.442 | 0.002 | 0.429 | |
plot_identified_spiked_proteins | 0.460 | 0.004 | 0.464 | |
plot_intersection_enrichment | 0.809 | 0.012 | 2.145 | |
plot_intragroup_PCV | 0.572 | 0.003 | 0.576 | |
plot_intragroup_PEV | 0.439 | 0.004 | 0.444 | |
plot_intragroup_PMAD | 0.421 | 0.003 | 0.425 | |
plot_intragroup_correlation | 0.498 | 0.003 | 0.501 | |
plot_jaccard_heatmap | 0.302 | 0.002 | 0.293 | |
plot_logFC_thresholds_spiked | 0.660 | 0.003 | 0.663 | |
plot_markers_boxplots | 0.789 | 0.004 | 0.786 | |
plot_nr_prot_samples | 0.263 | 0.000 | 0.263 | |
plot_overview_DE_bar | 0.441 | 0.003 | 0.444 | |
plot_overview_DE_tile | 0.235 | 0.001 | 0.236 | |
plot_profiles_spiked | 0.811 | 0.001 | 0.800 | |
plot_pvalues_spiked | 0.497 | 0.003 | 0.501 | |
plot_stats_spiked_heatmap | 0.387 | 0.001 | 0.388 | |
plot_tot_int_samples | 0.282 | 0.003 | 0.285 | |
plot_upset | 0.797 | 0.001 | 0.798 | |
plot_upset_DE | 0.032 | 0.000 | 0.032 | |
plot_volcano_DE | 4.788 | 0.086 | 4.875 | |
quantileNorm | 0.042 | 0.003 | 0.046 | |
readPRONE_example | 0.002 | 0.000 | 0.001 | |
remove_POMA_outliers | 0.606 | 0.000 | 0.606 | |
remove_assays_from_SE | 0.046 | 0.001 | 0.048 | |
remove_reference_samples | 0.046 | 0.000 | 0.046 | |
remove_samples_manually | 0.04 | 0.00 | 0.04 | |
rlrMACycNorm | 0.546 | 0.016 | 0.562 | |
rlrMANorm | 0.093 | 0.002 | 0.094 | |
rlrNorm | 0.080 | 0.003 | 0.083 | |
robnormNorm | 0.072 | 0.001 | 0.073 | |
run_DE | 2.243 | 0.012 | 2.217 | |
specify_comparisons | 0.043 | 0.000 | 0.031 | |
subset_SE_by_norm | 0.079 | 0.001 | 0.080 | |
tmmNorm | 0.134 | 0.008 | 0.143 | |
vsnNorm | 0.067 | 0.003 | 0.070 | |