Back to Multiple platform build/check report for BioC 3.21:   simplified   long
ABCDEFGHIJKLMN[O]PQRSTUVWXYZ

This page was generated on 2025-10-16 11:41 -0400 (Thu, 16 Oct 2025).

HostnameOSArch (*)R versionInstalled pkgs
nebbiolo1Linux (Ubuntu 24.04.3 LTS)x86_644.5.1 (2025-06-13) -- "Great Square Root" 4833
merida1macOS 12.7.6 Montereyx86_644.5.1 RC (2025-06-05 r88288) -- "Great Square Root" 4614
kjohnson1macOS 13.7.5 Venturaarm644.5.1 Patched (2025-06-14 r88325) -- "Great Square Root" 4555
kunpeng2Linux (openEuler 24.03 LTS)aarch64R Under development (unstable) (2025-02-19 r87757) -- "Unsuffered Consequences" 4586
Click on any hostname to see more info about the system (e.g. compilers)      (*) as reported by 'uname -p', except on Windows and Mac OS X

Package 1484/2341HostnameOS / ArchINSTALLBUILDCHECKBUILD BIN
OmnipathR 3.16.2  (landing page)
Denes Turei
Snapshot Date: 2025-10-13 13:40 -0400 (Mon, 13 Oct 2025)
git_url: https://git.bioconductor.org/packages/OmnipathR
git_branch: RELEASE_3_21
git_last_commit: e923fc4
git_last_commit_date: 2025-08-30 05:55:56 -0400 (Sat, 30 Aug 2025)
nebbiolo1Linux (Ubuntu 24.04.3 LTS) / x86_64  OK    OK    OK  UNNEEDED, same version is already published
merida1macOS 12.7.6 Monterey / x86_64  OK    OK    OK    OK  UNNEEDED, same version is already published
kjohnson1macOS 13.7.5 Ventura / arm64  OK    OK    OK    OK  UNNEEDED, same version is already published
kunpeng2Linux (openEuler 24.03 LTS) / aarch64  OK    OK    OK  


CHECK results for OmnipathR on kunpeng2

To the developers/maintainers of the OmnipathR package:
- Allow up to 24 hours (and sometimes 48 hours) for your latest push to git@git.bioconductor.org:packages/OmnipathR.git to reflect on this report. See Troubleshooting Build Report for more information.
- Use the following Renviron settings to reproduce errors and warnings.
- If 'R CMD check' started to fail recently on the Linux builder(s) over a missing dependency, add the missing dependency to 'Suggests:' in your DESCRIPTION file. See Renviron.bioc for more information.
- See Martin Grigorov's blog post for how to debug Linux ARM64 related issues on a x86_64 host.

raw results


Summary

Package: OmnipathR
Version: 3.16.2
Command: /home/biocbuild/R/R/bin/R CMD check --install=check:OmnipathR.install-out.txt --library=/home/biocbuild/R/R/site-library --no-vignettes --timings OmnipathR_3.16.2.tar.gz
StartedAt: 2025-10-14 12:09:14 -0000 (Tue, 14 Oct 2025)
EndedAt: 2025-10-14 12:33:23 -0000 (Tue, 14 Oct 2025)
EllapsedTime: 1448.8 seconds
RetCode: 0
Status:   OK  
CheckDir: OmnipathR.Rcheck
Warnings: 0

Command output

##############################################################################
##############################################################################
###
### Running command:
###
###   /home/biocbuild/R/R/bin/R CMD check --install=check:OmnipathR.install-out.txt --library=/home/biocbuild/R/R/site-library --no-vignettes --timings OmnipathR_3.16.2.tar.gz
###
##############################################################################
##############################################################################


* using log directory ‘/home/biocbuild/bbs-3.21-bioc/meat/OmnipathR.Rcheck’
* using R Under development (unstable) (2025-02-19 r87757)
* using platform: aarch64-unknown-linux-gnu
* R was compiled by
    aarch64-unknown-linux-gnu-gcc (GCC) 14.2.0
    GNU Fortran (GCC) 14.2.0
* running under: openEuler 24.03 (LTS-SP1)
* using session charset: UTF-8
* using option ‘--no-vignettes’
* checking for file ‘OmnipathR/DESCRIPTION’ ... OK
* checking extension type ... Package
* this is package ‘OmnipathR’ version ‘3.16.2’
* package encoding: UTF-8
* checking package namespace information ... OK
* checking package dependencies ... INFO
Imports includes 35 non-default packages.
Importing from so many packages makes the package vulnerable to any of
them becoming unavailable.  Move as many as possible to Suggests and
use conditionally.
* checking if this is a source package ... OK
* checking if there is a namespace ... OK
* checking for hidden files and directories ... OK
* checking for portable file names ... OK
* checking for sufficient/correct file permissions ... OK
* checking whether package ‘OmnipathR’ can be installed ... OK
* checking installed package size ... OK
* checking package directory ... OK
* checking DESCRIPTION meta-information ... OK
* checking top-level files ... OK
* checking for left-over files ... OK
* checking index information ... OK
* checking package subdirectories ... OK
* checking code files for non-ASCII characters ... OK
* checking R files for syntax errors ... OK
* checking whether the package can be loaded ... OK
* checking whether the package can be loaded with stated dependencies ... OK
* checking whether the package can be unloaded cleanly ... OK
* checking whether the namespace can be loaded with stated dependencies ... OK
* checking whether the namespace can be unloaded cleanly ... OK
* checking loading without being on the library search path ... OK
* checking whether startup messages can be suppressed ... NOTE
[2025-10-14 12:10:00] [TRACE]   [OmnipathR] Reading JSON from `/home/biocbuild/.cache/OmnipathR/cache.json` (encoding: UTF-8).
[2025-10-14 12:10:00] [TRACE]   [OmnipathR] JSON validation successful: TRUE
[2025-10-14 12:10:00] [INFO]    [OmnipathR] Initialized cache: `/home/biocbuild/.cache/OmnipathR`.
[2025-10-14 12:10:00] [INFO]    [OmnipathR] Package `OmnipathR` packaged: NA
[2025-10-14 12:10:00] [INFO]    [OmnipathR] Package `OmnipathR` date/publication: 2025-10-13
[2025-10-14 12:10:00] [INFO]    [OmnipathR] Package `OmnipathR` built: R 4.5.0; ; 2025-10-13 20:19:57 UTC; unix
[2025-10-14 12:10:00] [INFO]    [OmnipathR] Package `OmnipathR` version: 3.16.2
[2025-10-14 12:10:00] [INFO]    [OmnipathR] Package `OmnipathR` repository: Bioconductor 3.21
[2025-10-14 12:10:01] [INFO]    [OmnipathR] Session info: [version=R Under development (unstable) (2025-02-19 r87757); os=openEuler 24.03 (LTS-SP1); system=aarch64, linux-gnu; ui=X11; language=(EN); collate=C; ctype=en_US.UTF-8; tz=UTC; date=2025-10-14; pandoc=2.12 @ /home/biocbuild/bin/ (via rmarkdown); quarto=1.7.32 @ /home/biocbuild/bioconductor/quarto-1.7.32/bin/quarto]
[2025-10-14 12:10:01] [INFO]    [OmnipathR] External libraries: [cairo=1.18.0; cairoFT=; pango=1.51.0; png=1.6.47; jpeg=6.2; tiff=LIBTIFF, Version 4.7.0; tcl=8.6.14; curl=8.12.1; zlib=1.3.1; bzlib=1.0.8, 13-Jul-2019; xz=5.6.4; deflate=; PCRE=10.44 2024-06-07; ICU=74.1; TRE=TRE 0.8.0 R_fixes (BSD); iconv=glibc 2.38; readline=8.2; BLAS=/home/biocbuild/R/R-devel_2025-02-19/lib/libRblas.so; lapack=/home/biocbuild/R/R-devel_2025-02-19/lib/libRlapack.so; lapack_version=3.12.0]
[2025-10-14 12:10:01] [INFO]    [OmnipathR] Loaded packages: backports 1.5.0(2024-05-23); bit 4.6.0(2025-03-06); bit64 4.6.0-1(2025-01-16); blob 1.2.4(2023-03-17); cachem 1.1.0(2024-05-16); cellranger 1.1.0(2016-07-27); checkmate 2.3.2(2024-07-29); chromote 0.5.0(2025-03-21); cli 3.6.4(2025-02-13); crayon 1.5.3(2024-06-20); curl 6.2.2(2025-03-24); DBI 1.2.3(2024-06-02); digest 0.6.37(2024-08-19); dplyr 1.1.4(2023-11-17); evaluate 1.0.3(2025-01-10); fastmap 1.2.0(2024-05-15); fs 1.6.6(2025-04-12); generics 0.1.3(2022-07-05); glue 1.8.0(2024-09-30); hms 1.1.3(2023-03-21); htmltools 0.5.8.1(2024-04-04); httr 1.4.7(2023-08-15); httr2 1.1.2(2025-03-26); igraph 2.1.4(2025-01-23); jsonlite 2.0.0(2025-03-27); knitr 1.50(2025-03-16); later 1.4.2(2025-04-08); lifecycle 1.0.4(2023-11-07); logger 0.4.0(2024-10-22); lubridate 1.9.4(2024-12-08); magrittr 2.0.3(2022-03-30); memoise 2.0.1(2021-11-26); OmnipathR 3.16.2(2025-10-13); pillar 1.10.2(2025-04-05); pkgconfig 2.0.3(2019-09-22); prettyunits 1.2.0(2023-09-24); processx 3.8.6(2025-02-21); progress 1.2.3(2023-12-06); promises 1.3.2(2024-11-28); ps 1.9.1(2025-04-12); purrr 1.0.4(2025-02-05); R.methodsS3 1.8.2(2022-06-13); R.oo 1.27.0(2024-11-01); R.utils 2.13.0(2025-02-24); R6 2.6.1(2025-02-15); rappdirs 0.3.3(2021-01-31); Rcpp 1.0.14(2025-01-12); readr 2.1.5(2024-01-10); readxl 1.4.5(2025-03-07); rlang 1.1.6(2025-04-11); rmarkdown 2.29(2024-11-04); RSQLite 2.3.9(2024-12-03); rvest 1.0.4(2024-02-12); sessioninfo 1.2.3(2025-02-05); stringi 1.8.7(2025-03-27); stringr 1.5.1(2023-11-14); tibble 3.2.1(2023-03-20); tidyr 1.3.1(2024-01-24); tidyselect 1.2.1(2024-03-11); timechange 0.3.0(2024-01-18); tzdb 0.5.0(2025-03-15); vctrs 0.6.5(2023-12-01); websocket 1.4.4(2025-04-10); withr 3.0.2(2024-10-28); xfun 0.52(2025-04-02); XML 3.99-0.18(2025-01-01); xml2 1.3.8(2025-03-14); yaml 2.3.10(2024-07-26); zip 2.3.2(2025-02-01)
[2025-10-14 12:10:02] [INFO]    [OmnipathR] CURL: version: 8.12.1; headers: 8.4.0; ssl_version: OpenSSL/3.4.1; libz_version: 1.3.1; libssh_version: libssh2/1.11.1; libidn_version: NA; host: aarch64-conda-linux-gnu; protocols: dict, file, ftp, ftps, gopher, gophers, http, https, imap, imaps, mqtt, pop3, pop3s, rtsp, scp, sftp, smb, smbs, smtp, smtps, telnet, tftp, ws, wss; ipv6: TRUE; http2: TRUE; idn: FALSE; url_parser: TRUE
[2025-10-14 12:10:02] [TRACE]   [OmnipathR] Running on a build server, wiping cache.
[2025-10-14 12:10:02] [TRACE]   [OmnipathR] Cache is at `/home/biocbuild/.cache/OmnipathR`.
[2025-10-14 12:10:02] [TRACE]   [OmnipathR] Contains 1 files.
[2025-10-14 12:10:02] [TRACE]   [OmnipathR] Cache is locked: FALSE.
[2025-10-14 12:10:02] [TRACE]   [OmnipathR] Reading JSON from `/home/biocbuild/.cache/OmnipathR/cache.json` (encoding: UTF-8).
[2025-10-14 12:10:02] [TRACE]   [OmnipathR] JSON validation successful: TRUE
[2025-10-14 12:10:02] [SUCCESS] [OmnipathR] Removing all cache contents from `/home/biocbuild/.cache/OmnipathR`.
[2025-10-14 12:10:02] [TRACE]   [OmnipathR] Pandoc version: `2.12`.
[2025-10-14 12:10:02] [TRACE]   [OmnipathR] Reading JSON from `/home/biocbuild/R/R-devel_2025-02-19/site-library/OmnipathR/db/db_def.json` (encoding: UTF-8).
[2025-10-14 12:10:02] [TRACE]   [OmnipathR] JSON validation successful: TRUE
[2025-10-14 12:10:02] [TRACE]   [OmnipathR] Reading JSON from `/home/biocbuild/R/R-devel_2025-02-19/site-library/OmnipathR/internal/magic_bytes.json` (encoding: UTF-8).
[2025-10-14 12:10:02] [TRACE]   [OmnipathR] JSON validation successful: TRUE
[2025-10-14 12:10:02] [TRACE]   [OmnipathR] Reading JSON from `/home/biocbuild/R/R-devel_2025-02-19/site-library/OmnipathR/internal/urls.json` (encoding: UTF-8).
[2025-10-14 12:10:02] [TRACE]   [OmnipathR] JSON validation successful: TRUE
[2025-10-14 12:10:02] [TRACE]   [OmnipathR] Reading JSON from `/home/biocbuild/R/R-devel_2025-02-19/site-library/OmnipathR/internal/id_types.json` (encoding: UTF-8).
[2025-10-14 12:10:02] [TRACE]   [OmnipathR] JSON validation successful: TRUE
[2025-10-14 12:10:02] [TRACE]   [OmnipathR] Cache locked: FALSE

It looks like this package (or a package it requires) has a startup
message which cannot be suppressed: see ?packageStartupMessage.
* checking dependencies in R code ... OK
* checking S3 generic/method consistency ... OK
* checking replacement functions ... OK
* checking foreign function calls ... OK
* checking R code for possible problems ... NOTE
[2025-10-14 12:10:31] [TRACE]   [OmnipathR] Reading JSON from `/home/biocbuild/.cache/OmnipathR/cache.json` (encoding: UTF-8).
[2025-10-14 12:10:31] [TRACE]   [OmnipathR] JSON validation successful: TRUE
[2025-10-14 12:10:31] [INFO]    [OmnipathR] Initialized cache: `/home/biocbuild/.cache/OmnipathR`.
[2025-10-14 12:10:31] [INFO]    [OmnipathR] Package `OmnipathR` packaged: NA
[2025-10-14 12:10:31] [INFO]    [OmnipathR] Package `OmnipathR` date/publication: 2025-10-13
[2025-10-14 12:10:31] [INFO]    [OmnipathR] Package `OmnipathR` built: R 4.5.0; ; 2025-10-13 20:19:57 UTC; unix
[2025-10-14 12:10:31] [INFO]    [OmnipathR] Package `OmnipathR` version: 3.16.2
[2025-10-14 12:10:31] [INFO]    [OmnipathR] Package `OmnipathR` repository: Bioconductor 3.21
[2025-10-14 12:10:32] [INFO]    [OmnipathR] Session info: [version=R Under development (unstable) (2025-02-19 r87757); os=openEuler 24.03 (LTS-SP1); system=aarch64, linux-gnu; ui=X11; language=(EN); collate=C; ctype=en_US.UTF-8; tz=UTC; date=2025-10-14; pandoc=2.12 @ /home/biocbuild/bin/ (via rmarkdown); quarto=1.7.32 @ /home/biocbuild/bioconductor/quarto-1.7.32/bin/quarto]
[2025-10-14 12:10:32] [INFO]    [OmnipathR] External libraries: [cairo=1.18.0; cairoFT=; pango=1.51.0; png=1.6.47; jpeg=6.2; tiff=LIBTIFF, Version 4.7.0; tcl=8.6.14; curl=8.12.1; zlib=1.3.1; bzlib=1.0.8, 13-Jul-2019; xz=5.6.4; deflate=; PCRE=10.44 2024-06-07; ICU=74.1; TRE=TRE 0.8.0 R_fixes (BSD); iconv=glibc 2.38; readline=8.2; BLAS=/home/biocbuild/R/R-devel_2025-02-19/lib/libRblas.so; lapack=/home/biocbuild/R/R-devel_2025-02-19/lib/libRlapack.so; lapack_version=3.12.0]
[2025-10-14 12:10:32] [INFO]    [OmnipathR] Loaded packages: backports 1.5.0(2024-05-23); bit 4.6.0(2025-03-06); bit64 4.6.0-1(2025-01-16); blob 1.2.4(2023-03-17); cachem 1.1.0(2024-05-16); cellranger 1.1.0(2016-07-27); checkmate 2.3.2(2024-07-29); chromote 0.5.0(2025-03-21); cli 3.6.4(2025-02-13); crayon 1.5.3(2024-06-20); curl 6.2.2(2025-03-24); DBI 1.2.3(2024-06-02); digest 0.6.37(2024-08-19); dplyr 1.1.4(2023-11-17); evaluate 1.0.3(2025-01-10); fastmap 1.2.0(2024-05-15); fs 1.6.6(2025-04-12); generics 0.1.3(2022-07-05); glue 1.8.0(2024-09-30); hms 1.1.3(2023-03-21); htmltools 0.5.8.1(2024-04-04); httr 1.4.7(2023-08-15); httr2 1.1.2(2025-03-26); igraph 2.1.4(2025-01-23); jsonlite 2.0.0(2025-03-27); knitr 1.50(2025-03-16); later 1.4.2(2025-04-08); lifecycle 1.0.4(2023-11-07); logger 0.4.0(2024-10-22); lubridate 1.9.4(2024-12-08); magrittr 2.0.3(2022-03-30); memoise 2.0.1(2021-11-26); OmnipathR 3.16.2(2025-10-13); pillar 1.10.2(2025-04-05); pkgconfig 2.0.3(2019-09-22); prettyunits 1.2.0(2023-09-24); processx 3.8.6(2025-02-21); progress 1.2.3(2023-12-06); promises 1.3.2(2024-11-28); ps 1.9.1(2025-04-12); purrr 1.0.4(2025-02-05); R.methodsS3 1.8.2(2022-06-13); R.oo 1.27.0(2024-11-01); R.utils 2.13.0(2025-02-24); R6 2.6.1(2025-02-15); rappdirs 0.3.3(2021-01-31); Rcpp 1.0.14(2025-01-12); readr 2.1.5(2024-01-10); readxl 1.4.5(2025-03-07); rlang 1.1.6(2025-04-11); rmarkdown 2.29(2024-11-04); RSQLite 2.3.9(2024-12-03); rvest 1.0.4(2024-02-12); sessioninfo 1.2.3(2025-02-05); stringi 1.8.7(2025-03-27); stringr 1.5.1(2023-11-14); tibble 3.2.1(2023-03-20); tidyr 1.3.1(2024-01-24); tidyselect 1.2.1(2024-03-11); timechange 0.3.0(2024-01-18); tzdb 0.5.0(2025-03-15); vctrs 0.6.5(2023-12-01); websocket 1.4.4(2025-04-10); withr 3.0.2(2024-10-28); xfun 0.52(2025-04-02); XML 3.99-0.18(2025-01-01); xml2 1.3.8(2025-03-14); yaml 2.3.10(2024-07-26); zip 2.3.2(2025-02-01)
[2025-10-14 12:10:32] [INFO]    [OmnipathR] CURL: version: 8.12.1; headers: 8.4.0; ssl_version: OpenSSL/3.4.1; libz_version: 1.3.1; libssh_version: libssh2/1.11.1; libidn_version: NA; host: aarch64-conda-linux-gnu; protocols: dict, file, ftp, ftps, gopher, gophers, http, https, imap, imaps, mqtt, pop3, pop3s, rtsp, scp, sftp, smb, smbs, smtp, smtps, telnet, tftp, ws, wss; ipv6: TRUE; http2: TRUE; idn: FALSE; url_parser: TRUE
[2025-10-14 12:10:32] [TRACE]   [OmnipathR] Running on a build server, wiping cache.
[2025-10-14 12:10:32] [TRACE]   [OmnipathR] Cache is at `/home/biocbuild/.cache/OmnipathR`.
[2025-10-14 12:10:32] [TRACE]   [OmnipathR] Contains 1 files.
[2025-10-14 12:10:32] [TRACE]   [OmnipathR] Cache is locked: FALSE.
[2025-10-14 12:10:32] [TRACE]   [OmnipathR] Reading JSON from `/home/biocbuild/.cache/OmnipathR/cache.json` (encoding: UTF-8).
[2025-10-14 12:10:32] [TRACE]   [OmnipathR] JSON validation successful: TRUE
[2025-10-14 12:10:32] [SUCCESS] [OmnipathR] Removing all cache contents from `/home/biocbuild/.cache/OmnipathR`.
[2025-10-14 12:10:32] [TRACE]   [OmnipathR] Pandoc version: `2.12`.
[2025-10-14 12:10:32] [TRACE]   [OmnipathR] Reading JSON from `/home/biocbuild/R/R-devel_2025-02-19/site-library/OmnipathR/db/db_def.json` (encoding: UTF-8).
[2025-10-14 12:10:32] [TRACE]   [OmnipathR] JSON validation successful: TRUE
[2025-10-14 12:10:32] [TRACE]   [OmnipathR] Reading JSON from `/home/biocbuild/R/R-devel_2025-02-19/site-library/OmnipathR/internal/magic_bytes.json` (encoding: UTF-8).
[2025-10-14 12:10:32] [TRACE]   [OmnipathR] JSON validation successful: TRUE
[2025-10-14 12:10:32] [TRACE]   [OmnipathR] Reading JSON from `/home/biocbuild/R/R-devel_2025-02-19/site-library/OmnipathR/internal/urls.json` (encoding: UTF-8).
[2025-10-14 12:10:32] [TRACE]   [OmnipathR] JSON validation successful: TRUE
[2025-10-14 12:10:32] [TRACE]   [OmnipathR] Reading JSON from `/home/biocbuild/R/R-devel_2025-02-19/site-library/OmnipathR/internal/id_types.json` (encoding: UTF-8).
[2025-10-14 12:10:32] [TRACE]   [OmnipathR] JSON validation successful: TRUE
[2025-10-14 12:10:32] [TRACE]   [OmnipathR] Cache locked: FALSE
* checking Rd files ... OK
* checking Rd metadata ... OK
* checking Rd cross-references ... OK
* checking for missing documentation entries ... OK
* checking for code/documentation mismatches ... OK
* checking Rd \usage sections ... OK
* checking Rd contents ... OK
* checking for unstated dependencies in examples ... OK
* checking R/sysdata.rda ... OK
* checking files in ‘vignettes’ ... OK
* checking examples ... OK
Examples with CPU (user + system) or elapsed time > 5s
                                        user system elapsed
annotation_categories                109.221  0.004 122.800
curated_ligrec_stats                  42.046  5.093 183.000
filter_extra_attrs                    37.985  3.776  78.248
omnipath-interactions                 36.435  3.268  78.589
nichenet_gr_network_omnipath          20.853  1.159  27.305
extra_attrs_to_cols                   19.471  1.303  22.586
extra_attr_values                     16.564  1.406  21.023
with_extra_attrs                      16.119  1.826  19.734
go_annot_download                     15.793  0.527  38.422
nichenet_signaling_network_omnipath   15.347  0.793  19.467
giant_component                       13.448  0.369  23.025
omnipath_for_cosmos                   12.068  1.164  39.431
pivot_annotations                     11.704  0.442  28.323
filter_by_resource                    11.770  0.336  22.022
translate_ids_multi                   10.630  1.228  33.525
has_extra_attrs                       10.500  1.123  11.675
extra_attrs                            9.365  1.064  12.056
filter_intercell                       8.516  0.413  29.617
print_interactions                     7.792  1.033  15.206
curated_ligand_receptor_interactions   7.506  0.835  28.341
find_all_paths                         7.682  0.231  10.996
static_table                           6.783  0.552  12.650
signed_ptms                            6.420  0.386   8.288
pubmed_open                            5.097  0.227   5.336
resources_in                           4.811  0.318   5.179
omnipath_query                         4.745  0.249   5.018
hpo_download                           3.205  0.722  27.624
print_path_vs                          2.913  0.397   6.548
ensembl_id_mapping_table               2.689  0.139  22.813
enzsub_graph                           2.610  0.123   7.410
all_uniprots                           1.747  0.115  15.212
metalinksdb_sqlite                     1.060  0.548  13.206
translate_ids                          1.393  0.178  11.559
annotated_network                      1.349  0.135   5.934
uniprot_full_id_mapping_table          1.065  0.064  15.497
* checking for unstated dependencies in ‘tests’ ... OK
* checking tests ...
  Running ‘testthat.R’
 OK
* checking for unstated dependencies in vignettes ... OK
* checking package vignettes ... OK
* checking running R code from vignettes ... SKIPPED
* checking re-building of vignette outputs ... SKIPPED
* checking PDF version of manual ... OK
* DONE

Status: 2 NOTEs
See
  ‘/home/biocbuild/bbs-3.21-bioc/meat/OmnipathR.Rcheck/00check.log’
for details.


Installation output

OmnipathR.Rcheck/00install.out

##############################################################################
##############################################################################
###
### Running command:
###
###   /home/biocbuild/R/R/bin/R CMD INSTALL OmnipathR
###
##############################################################################
##############################################################################


* installing to library ‘/home/biocbuild/R/R-devel_2025-02-19/site-library’
* installing *source* package ‘OmnipathR’ ...
** this is package ‘OmnipathR’ version ‘3.16.2’
** using staged installation
** R
** inst
** byte-compile and prepare package for lazy loading
** help
*** installing help indices
*** copying figures
** building package indices
** installing vignettes
** testing if installed package can be loaded from temporary location
[2025-10-13 20:20:18] [TRACE]   [OmnipathR] Reading JSON from `/home/biocbuild/.cache/OmnipathR/cache.json` (encoding: UTF-8).
[2025-10-13 20:20:18] [TRACE]   [OmnipathR] JSON validation successful: TRUE
[2025-10-13 20:20:18] [INFO]    [OmnipathR] Initialized cache: `/home/biocbuild/.cache/OmnipathR`.
[2025-10-13 20:20:18] [INFO]    [OmnipathR] Package `OmnipathR` packaged: NA
[2025-10-13 20:20:18] [INFO]    [OmnipathR] Package `OmnipathR` date/publication: 2025-10-13
[2025-10-13 20:20:18] [INFO]    [OmnipathR] Package `OmnipathR` built: R 4.5.0; ; 2025-10-13 20:19:57 UTC; unix
[2025-10-13 20:20:18] [INFO]    [OmnipathR] Package `OmnipathR` version: 3.16.2
[2025-10-13 20:20:18] [INFO]    [OmnipathR] Package `OmnipathR` repository: Bioconductor 3.21
[2025-10-13 20:20:18] [INFO]    [OmnipathR] Session info: [version=R Under development (unstable) (2025-02-19 r87757); os=openEuler 24.03 (LTS-SP1); system=aarch64, linux-gnu; ui=X11; language=(EN); collate=C; ctype=en_US.UTF-8; tz=UTC; date=2025-10-13; pandoc=2.12 @ /home/biocbuild/bin/ (via rmarkdown); quarto=1.7.32 @ /home/biocbuild/bioconductor/quarto-1.7.32/bin/quarto]
[2025-10-13 20:20:18] [INFO]    [OmnipathR] External libraries: [cairo=1.18.0; cairoFT=; pango=1.51.0; png=1.6.47; jpeg=6.2; tiff=LIBTIFF, Version 4.7.0; tcl=8.6.14; curl=8.12.1; zlib=1.3.1; bzlib=1.0.8, 13-Jul-2019; xz=5.6.4; deflate=; PCRE=10.44 2024-06-07; ICU=74.1; TRE=TRE 0.8.0 R_fixes (BSD); iconv=glibc 2.38; readline=8.2; BLAS=/home/biocbuild/R/R-devel_2025-02-19/lib/libRblas.so; lapack=/home/biocbuild/R/R-devel_2025-02-19/lib/libRlapack.so; lapack_version=3.12.0]
[2025-10-13 20:20:18] [INFO]    [OmnipathR] Loaded packages: backports 1.5.0(2024-05-23); bit 4.6.0(2025-03-06); bit64 4.6.0-1(2025-01-16); blob 1.2.4(2023-03-17); cachem 1.1.0(2024-05-16); cellranger 1.1.0(2016-07-27); checkmate 2.3.2(2024-07-29); chromote 0.5.0(2025-03-21); cli 3.6.4(2025-02-13); crayon 1.5.3(2024-06-20); curl 6.2.2(2025-03-24); DBI 1.2.3(2024-06-02); digest 0.6.37(2024-08-19); dplyr 1.1.4(2023-11-17); evaluate 1.0.3(2025-01-10); fastmap 1.2.0(2024-05-15); fs 1.6.6(2025-04-12); generics 0.1.3(2022-07-05); glue 1.8.0(2024-09-30); hms 1.1.3(2023-03-21); htmltools 0.5.8.1(2024-04-04); httr 1.4.7(2023-08-15); httr2 1.1.2(2025-03-26); igraph 2.1.4(2025-01-23); jsonlite 2.0.0(2025-03-27); knitr 1.50(2025-03-16); later 1.4.2(2025-04-08); lifecycle 1.0.4(2023-11-07); logger 0.4.0(2024-10-22); lubridate 1.9.4(2024-12-08); magrittr 2.0.3(2022-03-30); memoise 2.0.1(2021-11-26); OmnipathR 3.16.2(2025-10-13); pillar 1.10.2(2025-04-05); pkgconfig 2.0.3(2019-09-22); prettyunits 1.2.0(2023-09-24); processx 3.8.6(2025-02-21); progress 1.2.3(2023-12-06); promises 1.3.2(2024-11-28); ps 1.9.1(2025-04-12); purrr 1.0.4(2025-02-05); R.methodsS3 1.8.2(2022-06-13); R.oo 1.27.0(2024-11-01); R.utils 2.13.0(2025-02-24); R6 2.6.1(2025-02-15); rappdirs 0.3.3(2021-01-31); Rcpp 1.0.14(2025-01-12); readr 2.1.5(2024-01-10); readxl 1.4.5(2025-03-07); rlang 1.1.6(2025-04-11); rmarkdown 2.29(2024-11-04); RSQLite 2.3.9(2024-12-03); rvest 1.0.4(2024-02-12); sessioninfo 1.2.3(2025-02-05); stringi 1.8.7(2025-03-27); stringr 1.5.1(2023-11-14); tibble 3.2.1(2023-03-20); tidyr 1.3.1(2024-01-24); tidyselect 1.2.1(2024-03-11); timechange 0.3.0(2024-01-18); tzdb 0.5.0(2025-03-15); vctrs 0.6.5(2023-12-01); websocket 1.4.4(2025-04-10); withr 3.0.2(2024-10-28); xfun 0.52(2025-04-02); XML 3.99-0.18(2025-01-01); xml2 1.3.8(2025-03-14); yaml 2.3.10(2024-07-26); zip 2.3.2(2025-02-01)
[2025-10-13 20:20:18] [INFO]    [OmnipathR] CURL: version: 8.12.1; headers: 8.4.0; ssl_version: OpenSSL/3.4.1; libz_version: 1.3.1; libssh_version: libssh2/1.11.1; libidn_version: NA; host: aarch64-conda-linux-gnu; protocols: dict, file, ftp, ftps, gopher, gophers, http, https, imap, imaps, mqtt, pop3, pop3s, rtsp, scp, sftp, smb, smbs, smtp, smtps, telnet, tftp, ws, wss; ipv6: TRUE; http2: TRUE; idn: FALSE; url_parser: TRUE
[2025-10-13 20:20:18] [TRACE]   [OmnipathR] Running on a build server, wiping cache.
[2025-10-13 20:20:18] [TRACE]   [OmnipathR] Cache is at `/home/biocbuild/.cache/OmnipathR`.
[2025-10-13 20:20:18] [TRACE]   [OmnipathR] Contains 1 files.
[2025-10-13 20:20:18] [TRACE]   [OmnipathR] Cache is locked: FALSE.
[2025-10-13 20:20:18] [TRACE]   [OmnipathR] Reading JSON from `/home/biocbuild/.cache/OmnipathR/cache.json` (encoding: UTF-8).
[2025-10-13 20:20:18] [TRACE]   [OmnipathR] JSON validation successful: TRUE
[2025-10-13 20:20:18] [SUCCESS] [OmnipathR] Removing all cache contents from `/home/biocbuild/.cache/OmnipathR`.
[2025-10-13 20:20:18] [TRACE]   [OmnipathR] Pandoc version: `2.12`.
[2025-10-13 20:20:18] [TRACE]   [OmnipathR] Reading JSON from `/home/biocbuild/R/R-devel_2025-02-19/site-library/00LOCK-OmnipathR/00new/OmnipathR/db/db_def.json` (encoding: UTF-8).
[2025-10-13 20:20:18] [TRACE]   [OmnipathR] JSON validation successful: TRUE
[2025-10-13 20:20:18] [TRACE]   [OmnipathR] Reading JSON from `/home/biocbuild/R/R-devel_2025-02-19/site-library/00LOCK-OmnipathR/00new/OmnipathR/internal/magic_bytes.json` (encoding: UTF-8).
[2025-10-13 20:20:18] [TRACE]   [OmnipathR] JSON validation successful: TRUE
[2025-10-13 20:20:18] [TRACE]   [OmnipathR] Reading JSON from `/home/biocbuild/R/R-devel_2025-02-19/site-library/00LOCK-OmnipathR/00new/OmnipathR/internal/urls.json` (encoding: UTF-8).
[2025-10-13 20:20:18] [TRACE]   [OmnipathR] JSON validation successful: TRUE
[2025-10-13 20:20:18] [TRACE]   [OmnipathR] Reading JSON from `/home/biocbuild/R/R-devel_2025-02-19/site-library/00LOCK-OmnipathR/00new/OmnipathR/internal/id_types.json` (encoding: UTF-8).
[2025-10-13 20:20:18] [TRACE]   [OmnipathR] JSON validation successful: TRUE
[2025-10-13 20:20:18] [TRACE]   [OmnipathR] Cache locked: FALSE
** testing if installed package can be loaded from final location
[2025-10-13 20:20:22] [TRACE]   [OmnipathR] Reading JSON from `/home/biocbuild/.cache/OmnipathR/cache.json` (encoding: UTF-8).
[2025-10-13 20:20:22] [TRACE]   [OmnipathR] JSON validation successful: TRUE
[2025-10-13 20:20:22] [INFO]    [OmnipathR] Initialized cache: `/home/biocbuild/.cache/OmnipathR`.
[2025-10-13 20:20:22] [INFO]    [OmnipathR] Package `OmnipathR` packaged: NA
[2025-10-13 20:20:22] [INFO]    [OmnipathR] Package `OmnipathR` date/publication: 2025-10-13
[2025-10-13 20:20:22] [INFO]    [OmnipathR] Package `OmnipathR` built: R 4.5.0; ; 2025-10-13 20:19:57 UTC; unix
[2025-10-13 20:20:22] [INFO]    [OmnipathR] Package `OmnipathR` version: 3.16.2
[2025-10-13 20:20:22] [INFO]    [OmnipathR] Package `OmnipathR` repository: Bioconductor 3.21
[2025-10-13 20:20:22] [INFO]    [OmnipathR] Session info: [version=R Under development (unstable) (2025-02-19 r87757); os=openEuler 24.03 (LTS-SP1); system=aarch64, linux-gnu; ui=X11; language=(EN); collate=C; ctype=en_US.UTF-8; tz=UTC; date=2025-10-13; pandoc=2.12 @ /home/biocbuild/bin/ (via rmarkdown); quarto=1.7.32 @ /home/biocbuild/bioconductor/quarto-1.7.32/bin/quarto]
[2025-10-13 20:20:22] [INFO]    [OmnipathR] External libraries: [cairo=1.18.0; cairoFT=; pango=1.51.0; png=1.6.47; jpeg=6.2; tiff=LIBTIFF, Version 4.7.0; tcl=8.6.14; curl=8.12.1; zlib=1.3.1; bzlib=1.0.8, 13-Jul-2019; xz=5.6.4; deflate=; PCRE=10.44 2024-06-07; ICU=74.1; TRE=TRE 0.8.0 R_fixes (BSD); iconv=glibc 2.38; readline=8.2; BLAS=/home/biocbuild/R/R-devel_2025-02-19/lib/libRblas.so; lapack=/home/biocbuild/R/R-devel_2025-02-19/lib/libRlapack.so; lapack_version=3.12.0]
[2025-10-13 20:20:22] [INFO]    [OmnipathR] Loaded packages: backports 1.5.0(2024-05-23); bit 4.6.0(2025-03-06); bit64 4.6.0-1(2025-01-16); blob 1.2.4(2023-03-17); cachem 1.1.0(2024-05-16); cellranger 1.1.0(2016-07-27); checkmate 2.3.2(2024-07-29); chromote 0.5.0(2025-03-21); cli 3.6.4(2025-02-13); crayon 1.5.3(2024-06-20); curl 6.2.2(2025-03-24); DBI 1.2.3(2024-06-02); digest 0.6.37(2024-08-19); dplyr 1.1.4(2023-11-17); evaluate 1.0.3(2025-01-10); fastmap 1.2.0(2024-05-15); fs 1.6.6(2025-04-12); generics 0.1.3(2022-07-05); glue 1.8.0(2024-09-30); hms 1.1.3(2023-03-21); htmltools 0.5.8.1(2024-04-04); httr 1.4.7(2023-08-15); httr2 1.1.2(2025-03-26); igraph 2.1.4(2025-01-23); jsonlite 2.0.0(2025-03-27); knitr 1.50(2025-03-16); later 1.4.2(2025-04-08); lifecycle 1.0.4(2023-11-07); logger 0.4.0(2024-10-22); lubridate 1.9.4(2024-12-08); magrittr 2.0.3(2022-03-30); memoise 2.0.1(2021-11-26); OmnipathR 3.16.2(2025-10-13); pillar 1.10.2(2025-04-05); pkgconfig 2.0.3(2019-09-22); prettyunits 1.2.0(2023-09-24); processx 3.8.6(2025-02-21); progress 1.2.3(2023-12-06); promises 1.3.2(2024-11-28); ps 1.9.1(2025-04-12); purrr 1.0.4(2025-02-05); R.methodsS3 1.8.2(2022-06-13); R.oo 1.27.0(2024-11-01); R.utils 2.13.0(2025-02-24); R6 2.6.1(2025-02-15); rappdirs 0.3.3(2021-01-31); Rcpp 1.0.14(2025-01-12); readr 2.1.5(2024-01-10); readxl 1.4.5(2025-03-07); rlang 1.1.6(2025-04-11); rmarkdown 2.29(2024-11-04); RSQLite 2.3.9(2024-12-03); rvest 1.0.4(2024-02-12); sessioninfo 1.2.3(2025-02-05); stringi 1.8.7(2025-03-27); stringr 1.5.1(2023-11-14); tibble 3.2.1(2023-03-20); tidyr 1.3.1(2024-01-24); tidyselect 1.2.1(2024-03-11); timechange 0.3.0(2024-01-18); tzdb 0.5.0(2025-03-15); vctrs 0.6.5(2023-12-01); websocket 1.4.4(2025-04-10); withr 3.0.2(2024-10-28); xfun 0.52(2025-04-02); XML 3.99-0.18(2025-01-01); xml2 1.3.8(2025-03-14); yaml 2.3.10(2024-07-26); zip 2.3.2(2025-02-01)
[2025-10-13 20:20:22] [INFO]    [OmnipathR] CURL: version: 8.12.1; headers: 8.4.0; ssl_version: OpenSSL/3.4.1; libz_version: 1.3.1; libssh_version: libssh2/1.11.1; libidn_version: NA; host: aarch64-conda-linux-gnu; protocols: dict, file, ftp, ftps, gopher, gophers, http, https, imap, imaps, mqtt, pop3, pop3s, rtsp, scp, sftp, smb, smbs, smtp, smtps, telnet, tftp, ws, wss; ipv6: TRUE; http2: TRUE; idn: FALSE; url_parser: TRUE
[2025-10-13 20:20:22] [TRACE]   [OmnipathR] Running on a build server, wiping cache.
[2025-10-13 20:20:22] [TRACE]   [OmnipathR] Cache is at `/home/biocbuild/.cache/OmnipathR`.
[2025-10-13 20:20:22] [TRACE]   [OmnipathR] Contains 1 files.
[2025-10-13 20:20:22] [TRACE]   [OmnipathR] Cache is locked: FALSE.
[2025-10-13 20:20:22] [TRACE]   [OmnipathR] Reading JSON from `/home/biocbuild/.cache/OmnipathR/cache.json` (encoding: UTF-8).
[2025-10-13 20:20:22] [TRACE]   [OmnipathR] JSON validation successful: TRUE
[2025-10-13 20:20:22] [SUCCESS] [OmnipathR] Removing all cache contents from `/home/biocbuild/.cache/OmnipathR`.
[2025-10-13 20:20:22] [TRACE]   [OmnipathR] Pandoc version: `2.12`.
[2025-10-13 20:20:22] [TRACE]   [OmnipathR] Reading JSON from `/home/biocbuild/R/R-devel_2025-02-19/site-library/OmnipathR/db/db_def.json` (encoding: UTF-8).
[2025-10-13 20:20:22] [TRACE]   [OmnipathR] JSON validation successful: TRUE
[2025-10-13 20:20:22] [TRACE]   [OmnipathR] Reading JSON from `/home/biocbuild/R/R-devel_2025-02-19/site-library/OmnipathR/internal/magic_bytes.json` (encoding: UTF-8).
[2025-10-13 20:20:22] [TRACE]   [OmnipathR] JSON validation successful: TRUE
[2025-10-13 20:20:22] [TRACE]   [OmnipathR] Reading JSON from `/home/biocbuild/R/R-devel_2025-02-19/site-library/OmnipathR/internal/urls.json` (encoding: UTF-8).
[2025-10-13 20:20:23] [TRACE]   [OmnipathR] JSON validation successful: TRUE
[2025-10-13 20:20:23] [TRACE]   [OmnipathR] Reading JSON from `/home/biocbuild/R/R-devel_2025-02-19/site-library/OmnipathR/internal/id_types.json` (encoding: UTF-8).
[2025-10-13 20:20:23] [TRACE]   [OmnipathR] JSON validation successful: TRUE
[2025-10-13 20:20:23] [TRACE]   [OmnipathR] Cache locked: FALSE
** testing if installed package keeps a record of temporary installation path
* DONE (OmnipathR)

Tests output

OmnipathR.Rcheck/tests/testthat.Rout


R Under development (unstable) (2025-02-19 r87757) -- "Unsuffered Consequences"
Copyright (C) 2025 The R Foundation for Statistical Computing
Platform: aarch64-unknown-linux-gnu

R is free software and comes with ABSOLUTELY NO WARRANTY.
You are welcome to redistribute it under certain conditions.
Type 'license()' or 'licence()' for distribution details.

R is a collaborative project with many contributors.
Type 'contributors()' for more information and
'citation()' on how to cite R or R packages in publications.

Type 'demo()' for some demos, 'help()' for on-line help, or
'help.start()' for an HTML browser interface to help.
Type 'q()' to quit R.

> #!/usr/bin/env Rscript
> 
> #
> #  This file is part of the `OmnipathR` R package
> #
> #  Copyright
> #  2018-2024
> #  Saez Lab, Uniklinik RWTH Aachen, Heidelberg University
> #
> #  File author(s): Alberto Valdeolivas
> #                  Dénes Türei (turei.denes@gmail.com)
> #                  Attila Gábor
> #
> #  Distributed under the MIT (Expat) License.
> #  See accompanying file `LICENSE` or find a copy at
> #      https://directory.fsf.org/wiki/License:Expat
> #
> #  Website: https://r.omnipathdb.org/
> #  Git repo: https://github.com/saezlab/OmnipathR
> #
> 
> 
> library(testthat)
> library(OmnipathR)
[2025-10-14 12:30:12] [TRACE]   [OmnipathR] Reading JSON from `/home/biocbuild/.cache/OmnipathR/cache.json` (encoding: UTF-8).
[2025-10-14 12:30:12] [TRACE]   [OmnipathR] JSON validation successful: TRUE
[2025-10-14 12:30:12] [INFO]    [OmnipathR] Initialized cache: `/home/biocbuild/.cache/OmnipathR`.
[2025-10-14 12:30:12] [INFO]    [OmnipathR] Package `OmnipathR` packaged: NA
[2025-10-14 12:30:12] [INFO]    [OmnipathR] Package `OmnipathR` date/publication: 2025-10-13
[2025-10-14 12:30:12] [INFO]    [OmnipathR] Package `OmnipathR` built: R 4.5.0; ; 2025-10-13 20:19:57 UTC; unix
[2025-10-14 12:30:12] [INFO]    [OmnipathR] Package `OmnipathR` version: 3.16.2
[2025-10-14 12:30:12] [INFO]    [OmnipathR] Package `OmnipathR` repository: Bioconductor 3.21
[2025-10-14 12:30:12] [INFO]    [OmnipathR] Session info: [version=R Under development (unstable) (2025-02-19 r87757); os=openEuler 24.03 (LTS-SP1); system=aarch64, linux-gnu; ui=X11; language=C; collate=C; ctype=en_US.UTF-8; tz=UTC; date=2025-10-14; pandoc=2.12 @ /home/biocbuild/bin/ (via rmarkdown); quarto=1.7.32 @ /home/biocbuild/bioconductor/quarto-1.7.32/bin/quarto]
[2025-10-14 12:30:13] [INFO]    [OmnipathR] External libraries: [cairo=1.18.0; cairoFT=; pango=1.51.0; png=1.6.47; jpeg=6.2; tiff=LIBTIFF, Version 4.7.0; tcl=8.6.14; curl=8.12.1; zlib=1.3.1; bzlib=1.0.8, 13-Jul-2019; xz=5.6.4; deflate=; PCRE=10.44 2024-06-07; ICU=74.1; TRE=TRE 0.8.0 R_fixes (BSD); iconv=glibc 2.38; readline=8.2; BLAS=/home/biocbuild/R/R-devel_2025-02-19/lib/libRblas.so; lapack=/home/biocbuild/R/R-devel_2025-02-19/lib/libRlapack.so; lapack_version=3.12.0]
[2025-10-14 12:30:13] [INFO]    [OmnipathR] Loaded packages: backports 1.5.0(2024-05-23); bit 4.6.0(2025-03-06); bit64 4.6.0-1(2025-01-16); blob 1.2.4(2023-03-17); brio 1.1.5(2024-04-24); cachem 1.1.0(2024-05-16); cellranger 1.1.0(2016-07-27); checkmate 2.3.2(2024-07-29); cli 3.6.4(2025-02-13); crayon 1.5.3(2024-06-20); curl 6.2.2(2025-03-24); DBI 1.2.3(2024-06-02); digest 0.6.37(2024-08-19); dplyr 1.1.4(2023-11-17); evaluate 1.0.3(2025-01-10); fastmap 1.2.0(2024-05-15); fs 1.6.6(2025-04-12); generics 0.1.3(2022-07-05); glue 1.8.0(2024-09-30); hms 1.1.3(2023-03-21); htmltools 0.5.8.1(2024-04-04); httr 1.4.7(2023-08-15); httr2 1.1.2(2025-03-26); igraph 2.1.4(2025-01-23); jsonlite 2.0.0(2025-03-27); knitr 1.50(2025-03-16); later 1.4.2(2025-04-08); lifecycle 1.0.4(2023-11-07); logger 0.4.0(2024-10-22); lubridate 1.9.4(2024-12-08); magrittr 2.0.3(2022-03-30); memoise 2.0.1(2021-11-26); OmnipathR 3.16.2(2025-10-13); pillar 1.10.2(2025-04-05); pkgconfig 2.0.3(2019-09-22); prettyunits 1.2.0(2023-09-24); progress 1.2.3(2023-12-06); purrr 1.0.4(2025-02-05); R.methodsS3 1.8.2(2022-06-13); R.oo 1.27.0(2024-11-01); R.utils 2.13.0(2025-02-24); R6 2.6.1(2025-02-15); rappdirs 0.3.3(2021-01-31); Rcpp 1.0.14(2025-01-12); readr 2.1.5(2024-01-10); readxl 1.4.5(2025-03-07); rlang 1.1.6(2025-04-11); rmarkdown 2.29(2024-11-04); RSQLite 2.3.9(2024-12-03); rvest 1.0.4(2024-02-12); sessioninfo 1.2.3(2025-02-05); stringi 1.8.7(2025-03-27); stringr 1.5.1(2023-11-14); testthat 3.2.3(2025-01-13); tibble 3.2.1(2023-03-20); tidyr 1.3.1(2024-01-24); tidyselect 1.2.1(2024-03-11); timechange 0.3.0(2024-01-18); tzdb 0.5.0(2025-03-15); vctrs 0.6.5(2023-12-01); withr 3.0.2(2024-10-28); xfun 0.52(2025-04-02); XML 3.99-0.18(2025-01-01); xml2 1.3.8(2025-03-14); yaml 2.3.10(2024-07-26); zip 2.3.2(2025-02-01)
[2025-10-14 12:30:13] [INFO]    [OmnipathR] CURL: version: 8.12.1; headers: 8.4.0; ssl_version: OpenSSL/3.4.1; libz_version: 1.3.1; libssh_version: libssh2/1.11.1; libidn_version: NA; host: aarch64-conda-linux-gnu; protocols: dict, file, ftp, ftps, gopher, gophers, http, https, imap, imaps, mqtt, pop3, pop3s, rtsp, scp, sftp, smb, smbs, smtp, smtps, telnet, tftp, ws, wss; ipv6: TRUE; http2: TRUE; idn: FALSE; url_parser: TRUE
[2025-10-14 12:30:13] [TRACE]   [OmnipathR] Running on a build server, wiping cache.
[2025-10-14 12:30:13] [TRACE]   [OmnipathR] Cache is at `/home/biocbuild/.cache/OmnipathR`.
[2025-10-14 12:30:13] [TRACE]   [OmnipathR] Contains 21 files.
[2025-10-14 12:30:13] [TRACE]   [OmnipathR] Cache is locked: FALSE.
[2025-10-14 12:30:13] [TRACE]   [OmnipathR] Reading JSON from `/home/biocbuild/.cache/OmnipathR/cache.json` (encoding: UTF-8).
[2025-10-14 12:30:13] [TRACE]   [OmnipathR] JSON validation successful: TRUE
[2025-10-14 12:30:13] [SUCCESS] [OmnipathR] Removing all cache contents from `/home/biocbuild/.cache/OmnipathR`.
[2025-10-14 12:30:13] [TRACE]   [OmnipathR] Pandoc version: `2.12`.
[2025-10-14 12:30:13] [TRACE]   [OmnipathR] Reading JSON from `/home/biocbuild/R/R-devel_2025-02-19/site-library/OmnipathR/db/db_def.json` (encoding: UTF-8).
[2025-10-14 12:30:13] [TRACE]   [OmnipathR] JSON validation successful: TRUE
[2025-10-14 12:30:13] [TRACE]   [OmnipathR] Reading JSON from `/home/biocbuild/R/R-devel_2025-02-19/site-library/OmnipathR/internal/magic_bytes.json` (encoding: UTF-8).
[2025-10-14 12:30:13] [TRACE]   [OmnipathR] JSON validation successful: TRUE
[2025-10-14 12:30:13] [TRACE]   [OmnipathR] Reading JSON from `/home/biocbuild/R/R-devel_2025-02-19/site-library/OmnipathR/internal/urls.json` (encoding: UTF-8).
[2025-10-14 12:30:13] [TRACE]   [OmnipathR] JSON validation successful: TRUE
[2025-10-14 12:30:13] [TRACE]   [OmnipathR] Reading JSON from `/home/biocbuild/R/R-devel_2025-02-19/site-library/OmnipathR/internal/id_types.json` (encoding: UTF-8).
[2025-10-14 12:30:13] [TRACE]   [OmnipathR] JSON validation successful: TRUE
[2025-10-14 12:30:13] [TRACE]   [OmnipathR] Cache locked: FALSE
> 
> test_check('OmnipathR')
[ FAIL 0 | WARN 11 | SKIP 0 | PASS 38 ]

[ FAIL 0 | WARN 11 | SKIP 0 | PASS 38 ]
> 
> proc.time()
   user  system elapsed 
 17.704   2.779 181.938 

Example timings

OmnipathR.Rcheck/OmnipathR-Ex.timings

nameusersystemelapsed
OmnipathR0.0000.0000.001
all_uniprot_acs0.0240.0000.025
all_uniprots 1.747 0.11515.212
ancestors0.0210.0050.050
annotated_network1.3490.1355.934
annotation_categories109.221 0.004122.800
annotation_resources0.0780.0201.104
annotations0.6100.0612.687
biomart_query1.2850.1203.582
bioplex10.0120.0000.012
bioplex20.0120.0000.012
bioplex30.0120.0000.012
bioplex_all0.0110.0000.011
bioplex_hct116_10.0120.0000.011
bma_motif_es0.6740.0882.736
bma_motif_vs0.2070.0601.264
chalmers_gem0.0090.0040.014
chalmers_gem_id_mapping_table0.0080.0040.013
chalmers_gem_id_type0.0020.0000.003
chalmers_gem_metabolites0.0080.0040.012
chalmers_gem_network0.0080.0040.012
chalmers_gem_raw0.0120.0000.012
chalmers_gem_reactions0.0120.0000.012
common_name0.0380.0040.043
complex_genes0.7340.0653.279
complex_resources0.0900.0001.088
complexes0.1890.0363.216
consensuspathdb_download000
consensuspathdb_raw_table0.0140.0000.014
cosmos_pkn000
curated_ligand_receptor_interactions 7.506 0.83528.341
curated_ligrec_stats 42.046 5.093183.000
database_summary1.9530.1583.608
descendants0.0090.0050.014
ensembl_dataset0.0130.0040.017
ensembl_id_mapping_table 2.689 0.13922.813
ensembl_id_type0.0030.0000.003
ensembl_name0.0730.0080.081
ensembl_organisms0.1950.0160.212
ensembl_organisms_raw0.1470.0080.156
ensembl_orthology0.0000.0000.001
enzsub_graph2.6100.1237.410
enzsub_resources0.0940.0061.115
enzyme_substrate1.3690.0622.521
evex_download0.0150.0000.015
evidences000
extra_attr_values16.564 1.40621.023
extra_attrs 9.365 1.06412.056
extra_attrs_to_cols19.471 1.30322.586
filter_by_resource11.770 0.33622.022
filter_extra_attrs37.985 3.77678.248
filter_intercell 8.516 0.41329.617
filter_intercell_network0.0250.0050.034
find_all_paths 7.682 0.23110.996
from_evidences000
get_db000
get_ontology_db0.0130.0000.013
giant_component13.448 0.36923.025
go_annot_download15.793 0.52738.422
go_annot_slim0.0010.0000.001
go_ontology_download0.0140.0000.014
guide2pharma_download0.0100.0040.013
harmonizome_download0.0130.0000.014
has_extra_attrs10.500 1.12311.675
hmdb_id_mapping_table0.0120.0000.012
hmdb_id_type0.0030.0000.003
hmdb_metabolite_fields000
hmdb_protein_fields0.0010.0000.000
hmdb_table0.0120.0000.013
homologene_download0.0120.0000.013
homologene_raw0.0220.0040.026
homologene_uniprot_orthology0.0120.0000.013
hpo_download 3.205 0.72227.624
htridb_download0.0130.0000.014
id_translation_resources0.0010.0000.000
id_types0.0560.0080.064
inbiomap_download000
inbiomap_raw000
interaction_datasets0.7570.1371.396
interaction_graph0.4140.1221.517
interaction_resources0.0830.0161.049
interaction_types0.1080.0120.121
intercell0.8850.2922.241
intercell_categories0.6870.2191.409
intercell_consensus_filter1.6290.2804.361
intercell_generic_categories0.0530.0160.070
intercell_network0.0150.0000.015
intercell_resources0.0810.0131.017
intercell_summary0.0660.0040.071
is_ontology_id0.0000.0000.001
is_swissprot0.0410.0000.041
is_trembl0.0410.0000.041
is_uniprot0.0160.0000.015
kegg_api_templates0.0010.0000.001
kegg_conv1.4300.5684.688
kegg_databases000
kegg_ddi0.6510.0741.590
kegg_find0.6340.3732.097
kegg_info0.0130.0000.014
kegg_link0.7520.0942.399
kegg_list0.6680.0441.224
kegg_open0.0130.0000.014
kegg_operations0.0000.0000.001
kegg_organism_codes0.0120.0130.024
kegg_organisms0.030.000.03
kegg_pathway_annotations000
kegg_pathway_download0.0130.0000.014
kegg_pathway_list0.0090.0040.013
kegg_pathways_download000
kegg_picture1.0250.0421.837
kegg_process0.0210.0040.025
kegg_query0.0120.0000.012
kegg_request0.0820.0000.082
kegg_rm_prefix0.8440.0822.254
latin_name0.0880.0000.088
load_db0.1050.0290.135
metalinksdb_sqlite 1.060 0.54813.206
metalinksdb_table0.2730.0630.335
metalinksdb_tables0.0260.0040.030
ncbi_taxid0.0910.0040.095
nichenet_build_model000
nichenet_expression_data0.0150.0000.016
nichenet_gr_network0.0270.0220.049
nichenet_gr_network_evex0.0080.0080.016
nichenet_gr_network_harmonizome0.0170.0000.017
nichenet_gr_network_htridb0.0130.0040.018
nichenet_gr_network_omnipath20.853 1.15927.305
nichenet_gr_network_pathwaycommons0.0130.0000.012
nichenet_gr_network_regnetwork0.0120.0000.012
nichenet_gr_network_remap0.0120.0000.013
nichenet_gr_network_trrust0.0120.0000.012
nichenet_ligand_activities000
nichenet_ligand_target_links000
nichenet_ligand_target_matrix000
nichenet_lr_network0.0330.0020.035
nichenet_lr_network_guide2pharma0.0110.0000.011
nichenet_lr_network_omnipath0.0300.0040.034
nichenet_lr_network_ramilowski0.0120.0000.012
nichenet_main000
nichenet_networks0.0540.0040.058
nichenet_optimization000
nichenet_remove_orphan_ligands0.0350.0000.035
nichenet_results_dir0.0010.0000.000
nichenet_signaling_network0.0380.0000.038
nichenet_signaling_network_cpdb0.0120.0000.012
nichenet_signaling_network_evex0.0090.0040.013
nichenet_signaling_network_harmonizome0.0080.0040.012
nichenet_signaling_network_inbiomap000
nichenet_signaling_network_omnipath15.347 0.79319.467
nichenet_signaling_network_pathwaycommons0.0140.0000.014
nichenet_signaling_network_vinayagam0.0130.0000.013
nichenet_test000
nichenet_workarounds0.0010.0000.001
obo_parser0.1170.0040.867
oma_code0.0380.0040.042
oma_organisms0.0900.0040.096
oma_pairwise0.0130.0000.013
oma_pairwise_genesymbols0.0130.0000.014
oma_pairwise_translated0.0130.0000.014
omnipath-interactions36.435 3.26878.589
omnipath_cache_autoclean000
omnipath_cache_clean0.0070.0070.013
omnipath_cache_clean_db0.1360.0120.148
omnipath_cache_download_ready0.6520.1340.811
omnipath_cache_filter_versions0.1360.0210.188
omnipath_cache_get0.1170.0160.135
omnipath_cache_key0.0020.0000.001
omnipath_cache_latest_or_new0.1390.0330.175
omnipath_cache_load0.5270.0543.864
omnipath_cache_move_in0.1900.0370.238
omnipath_cache_remove0.1180.0200.147
omnipath_cache_save0.1880.0250.230
omnipath_cache_search0.0000.0010.001
omnipath_cache_set_ext0.1010.0150.127
omnipath_cache_update_status0.1110.0130.125
omnipath_cache_wipe000
omnipath_config_path0.0010.0000.001
omnipath_for_cosmos12.068 1.16439.431
omnipath_load_config000
omnipath_log0.0010.0000.000
omnipath_logfile0.0000.0020.002
omnipath_msg0.0490.0010.051
omnipath_query4.7450.2495.018
omnipath_reset_config0.0010.0000.000
omnipath_save_config000
omnipath_set_cachedir0.0360.0000.037
omnipath_set_console_loglevel0.0050.0000.006
omnipath_set_logfile_loglevel0.0050.0000.006
omnipath_set_loglevel0.0030.0000.003
omnipath_show_db0.0790.0120.091
omnipath_unlock_cache_db000
only_from000
ontology_ensure_id0.0000.0000.001
ontology_ensure_name0.0010.0000.001
ontology_name_id0.0010.0000.001
organism_for0.0600.0050.064
pathwaycommons_download0.0000.0000.001
pivot_annotations11.704 0.44228.323
preppi_download0.0010.0000.001
preppi_filter0.0010.0010.001
print_bma_motif_es0.4940.0311.969
print_bma_motif_vs0.1440.0171.100
print_interactions 7.792 1.03315.206
print_path_es0.9150.2263.299
print_path_vs2.9130.3976.548
pubmed_open5.0970.2275.336
query_info0.4200.0280.953
ramilowski_download0.0010.0000.001
ramp_id_mapping_table0.0000.0000.001
ramp_id_type0.0030.0000.003
ramp_sqlite0.0010.0000.001
ramp_table0.0000.0000.001
ramp_tables0.0000.0000.001
regnetwork_directions0.0010.0000.001
regnetwork_download0.0010.0000.000
relations_list_to_table0.1100.0120.713
relations_table_to_graph000
relations_table_to_list0.0840.0080.315
remap_dorothea_download0.0010.0000.000
remap_filtered000
remap_tf_target_download0.0000.0000.001
resource_info0.4250.0690.999
resources0.0730.0041.001
resources_colname1.1150.0503.520
resources_in4.8110.3185.179
show_network000
signed_ptms6.4200.3868.288
simplify_intercell_network0.0000.0010.001
static_table 6.783 0.55212.650
static_tables0.0580.0250.252
stitch_actions0.0010.0000.001
stitch_links0.0010.0000.001
stitch_network0.0010.0000.001
stitch_remove_prefixes0.0030.0080.011
swap_relations0.1040.0130.329
swissprots_only0.0430.0080.051
tfcensus_download0.6790.0360.730
translate_ids 1.393 0.17811.559
translate_ids_multi10.630 1.22833.525
trembls_only0.0440.0000.045
trrust_download0.0010.0000.001
uniprot_full_id_mapping_table 1.065 0.06415.497
uniprot_genesymbol_cleanup000
uniprot_id_mapping_table0.0010.0000.001
uniprot_id_type0.0030.0000.003
uniprot_idmapping_id_types0.5210.0191.366
unique_intercell_network0.0010.0000.001
unnest_evidences000
uploadlists_id_type0.0030.0000.003
vinayagam_download0.0000.0000.001
walk_ontology_tree0.0010.0000.002
with_extra_attrs16.119 1.82619.734
with_references0.8830.0682.943
zenodo_download0.0010.0000.001