| Back to Multiple platform build/check report for BioC 3.21: simplified long |
|
This page was generated on 2025-03-22 11:47 -0400 (Sat, 22 Mar 2025).
| Hostname | OS | Arch (*) | R version | Installed pkgs |
|---|---|---|---|---|
| nebbiolo1 | Linux (Ubuntu 24.04.1 LTS) | x86_64 | R Under development (unstable) (2025-03-13 r87965) -- "Unsuffered Consequences" | 4777 |
| palomino7 | Windows Server 2022 Datacenter | x64 | R Under development (unstable) (2025-03-01 r87860 ucrt) -- "Unsuffered Consequences" | 4547 |
| lconway | macOS 12.7.1 Monterey | x86_64 | R Under development (unstable) (2025-03-02 r87868) -- "Unsuffered Consequences" | 4576 |
| kjohnson3 | macOS 13.7.1 Ventura | arm64 | R Under development (unstable) (2025-03-02 r87868) -- "Unsuffered Consequences" | 4528 |
| kunpeng2 | Linux (openEuler 24.03 LTS) | aarch64 | R Under development (unstable) (2025-02-19 r87757) -- "Unsuffered Consequences" | 4458 |
| Click on any hostname to see more info about the system (e.g. compilers) (*) as reported by 'uname -p', except on Windows and Mac OS X | ||||
| Package 1436/2313 | Hostname | OS / Arch | INSTALL | BUILD | CHECK | BUILD BIN | ||||||||
| NoRCE 1.19.0 (landing page) Gulden Olgun
| nebbiolo1 | Linux (Ubuntu 24.04.1 LTS) / x86_64 | OK | OK | OK | |||||||||
| palomino7 | Windows Server 2022 Datacenter / x64 | OK | OK | OK | OK | |||||||||
| lconway | macOS 12.7.1 Monterey / x86_64 | OK | OK | OK | OK | |||||||||
| kjohnson3 | macOS 13.7.1 Ventura / arm64 | OK | OK | OK | OK | |||||||||
| kunpeng2 | Linux (openEuler 24.03 LTS) / aarch64 | OK | OK | OK | ||||||||||
|
To the developers/maintainers of the NoRCE package: - Allow up to 24 hours (and sometimes 48 hours) for your latest push to git@git.bioconductor.org:packages/NoRCE.git to reflect on this report. See Troubleshooting Build Report for more information. - Use the following Renviron settings to reproduce errors and warnings. - If 'R CMD check' started to fail recently on the Linux builder(s) over a missing dependency, add the missing dependency to 'Suggests:' in your DESCRIPTION file. See Renviron.bioc for more information. - See Martin Grigorov's blog post for how to debug Linux ARM64 related issues on a x86_64 host. |
| Package: NoRCE |
| Version: 1.19.0 |
| Command: /home/biocbuild/R/R/bin/R CMD check --install=check:NoRCE.install-out.txt --library=/home/biocbuild/R/R/site-library --no-vignettes --timings NoRCE_1.19.0.tar.gz |
| StartedAt: 2025-03-22 09:18:10 -0000 (Sat, 22 Mar 2025) |
| EndedAt: 2025-03-22 09:25:41 -0000 (Sat, 22 Mar 2025) |
| EllapsedTime: 450.9 seconds |
| RetCode: 0 |
| Status: OK |
| CheckDir: NoRCE.Rcheck |
| Warnings: 0 |
##############################################################################
##############################################################################
###
### Running command:
###
### /home/biocbuild/R/R/bin/R CMD check --install=check:NoRCE.install-out.txt --library=/home/biocbuild/R/R/site-library --no-vignettes --timings NoRCE_1.19.0.tar.gz
###
##############################################################################
##############################################################################
* using log directory ‘/home/biocbuild/bbs-3.21-bioc/meat/NoRCE.Rcheck’
* using R Under development (unstable) (2025-02-19 r87757)
* using platform: aarch64-unknown-linux-gnu
* R was compiled by
aarch64-unknown-linux-gnu-gcc (GCC) 14.2.0
GNU Fortran (GCC) 14.2.0
* running under: openEuler 24.03 (LTS-SP1)
* using session charset: UTF-8
* using option ‘--no-vignettes’
* checking for file ‘NoRCE/DESCRIPTION’ ... OK
* checking extension type ... Package
* this is package ‘NoRCE’ version ‘1.19.0’
* package encoding: UTF-8
* checking package namespace information ... NOTE
Found export directive that requires package ‘methods’:
‘exportClasses’
Remove all such namespace directives (if obsolete) or ensure that the
DESCRIPTION Depends or Imports field contains ‘methods’.
* checking package dependencies ... INFO
Imports includes 26 non-default packages.
Importing from so many packages makes the package vulnerable to any of
them becoming unavailable. Move as many as possible to Suggests and
use conditionally.
* checking if this is a source package ... OK
* checking if there is a namespace ... OK
* checking for hidden files and directories ... OK
* checking for portable file names ... OK
* checking for sufficient/correct file permissions ... OK
* checking whether package ‘NoRCE’ can be installed ... OK
* checking installed package size ... OK
* checking package directory ... OK
* checking ‘build’ directory ... OK
* checking DESCRIPTION meta-information ... OK
* checking top-level files ... OK
* checking for left-over files ... OK
* checking index information ... OK
* checking package subdirectories ... OK
* checking code files for non-ASCII characters ... OK
* checking R files for syntax errors ... OK
* checking whether the package can be loaded ... OK
* checking whether the package can be loaded with stated dependencies ... OK
* checking whether the package can be unloaded cleanly ... OK
* checking whether the namespace can be loaded with stated dependencies ... OK
* checking whether the namespace can be unloaded cleanly ... OK
* checking loading without being on the library search path ... OK
* checking whether startup messages can be suppressed ... OK
* checking dependencies in R code ... OK
* checking S3 generic/method consistency ... OK
* checking replacement functions ... OK
* checking foreign function calls ... OK
* checking R code for possible problems ... OK
* checking Rd files ... NOTE
checkRd: (-1) createNetwork.Rd:27: Escaped LaTeX specials: \& \&
checkRd: (-1) createNetwork.Rd:28: Escaped LaTeX specials: \&
checkRd: (-1) createNetwork.Rd:29: Escaped LaTeX specials: \&
* checking Rd metadata ... OK
* checking Rd cross-references ... OK
* checking for missing documentation entries ... OK
* checking for code/documentation mismatches ... OK
* checking Rd \usage sections ... OK
* checking Rd contents ... OK
* checking for unstated dependencies in examples ... OK
* checking contents of ‘data’ directory ... OK
* checking data for non-ASCII characters ... OK
* checking LazyData ... OK
* checking data for ASCII and uncompressed saves ... OK
* checking files in ‘vignettes’ ... OK
* checking examples ... OK
* checking for unstated dependencies in ‘tests’ ... OK
* checking tests ...
Running ‘testthat.R’
OK
* checking for unstated dependencies in vignettes ... OK
* checking package vignettes ... OK
* checking running R code from vignettes ... SKIPPED
* checking re-building of vignette outputs ... SKIPPED
* checking PDF version of manual ... OK
* DONE
Status: 2 NOTEs
See
‘/home/biocbuild/bbs-3.21-bioc/meat/NoRCE.Rcheck/00check.log’
for details.
NoRCE.Rcheck/00install.out
############################################################################## ############################################################################## ### ### Running command: ### ### /home/biocbuild/R/R/bin/R CMD INSTALL NoRCE ### ############################################################################## ############################################################################## * installing to library ‘/home/biocbuild/R/R-devel_2025-02-19/site-library’ * installing *source* package ‘NoRCE’ ... ** this is package ‘NoRCE’ version ‘1.19.0’ ** using staged installation ** R ** data *** moving datasets to lazyload DB ** inst ** byte-compile and prepare package for lazy loading ** help *** installing help indices ** building package indices ** installing vignettes ** testing if installed package can be loaded from temporary location ** testing if installed package can be loaded from final location ** testing if installed package keeps a record of temporary installation path * DONE (NoRCE)
NoRCE.Rcheck/tests/testthat.Rout
R Under development (unstable) (2025-02-19 r87757) -- "Unsuffered Consequences"
Copyright (C) 2025 The R Foundation for Statistical Computing
Platform: aarch64-unknown-linux-gnu
R is free software and comes with ABSOLUTELY NO WARRANTY.
You are welcome to redistribute it under certain conditions.
Type 'license()' or 'licence()' for distribution details.
R is a collaborative project with many contributors.
Type 'contributors()' for more information and
'citation()' on how to cite R or R packages in publications.
Type 'demo()' for some demos, 'help()' for on-line help, or
'help.start()' for an HTML browser interface to help.
Type 'q()' to quit R.
> library(testthat)
> library(NoRCE)
>
> test_check("NoRCE")
[ FAIL 0 | WARN 0 | SKIP 0 | PASS 1 ]
>
> proc.time()
user system elapsed
16.319 0.674 20.490
NoRCE.Rcheck/NoRCE-Ex.timings
| name | user | system | elapsed | |
| KeggEnrichment | 0 | 0 | 0 | |
| assembly | 0 | 0 | 0 | |
| brain_disorder_ncRNA | 0.002 | 0.000 | 0.002 | |
| brain_mirna | 0.001 | 0.000 | 0.001 | |
| breastmRNA | 0.001 | 0.000 | 0.001 | |
| calculateCorr | 0 | 0 | 0 | |
| convertGeneID | 0 | 0 | 0 | |
| extractBiotype | 0 | 0 | 0 | |
| filterBiotype | 0 | 0 | 0 | |
| geneGOEnricher | 0 | 0 | 0 | |
| genePathwayEnricher | 0 | 0 | 0 | |
| geneRegionGOEnricher | 0 | 0 | 0 | |
| geneRegionPathwayEnricher | 0 | 0 | 0 | |
| getGoDag | 0 | 0 | 0 | |
| getKeggDiagram | 0 | 0 | 0 | |
| getNearToExon | 0 | 0 | 0 | |
| getNearToIntron | 0.000 | 0.000 | 0.001 | |
| getReactomeDiagram | 0 | 0 | 0 | |
| getTADOverlap | 0 | 0 | 0 | |
| getUCSC | 0.000 | 0.001 | 0.000 | |
| goEnrichment | 0 | 0 | 0 | |
| listTAD | 0 | 0 | 0 | |
| mirna | 0.000 | 0.001 | 0.001 | |
| mirnaGOEnricher | 0 | 0 | 0 | |
| mirnaPathwayEnricher | 0 | 0 | 0 | |
| mirnaRegionGOEnricher | 0 | 0 | 0 | |
| mirnaRegionPathwayEnricher | 0 | 0 | 0 | |
| mrna | 0.001 | 0.000 | 0.001 | |
| ncRegion | 0.000 | 0.001 | 0.001 | |
| predictmiTargets | 0 | 0 | 0 | |
| reactomeEnrichment | 0 | 0 | 0 | |
| setParameters | 0 | 0 | 0 | |
| tad_dmel | 0.000 | 0.001 | 0.001 | |
| tad_hg19 | 0.001 | 0.000 | 0.001 | |
| tad_hg38 | 0.001 | 0.000 | 0.001 | |
| tad_mm10 | 0.000 | 0.000 | 0.001 | |
| topEnrichment | 0 | 0 | 0 | |
| writeEnrichment | 0.000 | 0.001 | 0.000 | |