Back to Multiple platform build/check report for BioC 3.21:   simplified   long
ABCDEFGH[I]JKLMNOPQRSTUVWXYZ

This page was generated on 2025-10-16 11:39 -0400 (Thu, 16 Oct 2025).

HostnameOSArch (*)R versionInstalled pkgs
nebbiolo1Linux (Ubuntu 24.04.3 LTS)x86_644.5.1 (2025-06-13) -- "Great Square Root" 4833
merida1macOS 12.7.6 Montereyx86_644.5.1 RC (2025-06-05 r88288) -- "Great Square Root" 4614
kjohnson1macOS 13.7.5 Venturaarm644.5.1 Patched (2025-06-14 r88325) -- "Great Square Root" 4555
kunpeng2Linux (openEuler 24.03 LTS)aarch64R Under development (unstable) (2025-02-19 r87757) -- "Unsuffered Consequences" 4586
Click on any hostname to see more info about the system (e.g. compilers)      (*) as reported by 'uname -p', except on Windows and Mac OS X

Package 1070/2341HostnameOS / ArchINSTALLBUILDCHECKBUILD BIN
ISAnalytics 1.18.0  (landing page)
Francesco Gazzo
Snapshot Date: 2025-10-13 13:40 -0400 (Mon, 13 Oct 2025)
git_url: https://git.bioconductor.org/packages/ISAnalytics
git_branch: RELEASE_3_21
git_last_commit: 6c72216
git_last_commit_date: 2025-04-15 12:07:52 -0400 (Tue, 15 Apr 2025)
nebbiolo1Linux (Ubuntu 24.04.3 LTS) / x86_64  OK    OK    OK  UNNEEDED, same version is already published
merida1macOS 12.7.6 Monterey / x86_64  OK    OK    OK    OK  UNNEEDED, same version is already published
kjohnson1macOS 13.7.5 Ventura / arm64  OK    OK    OK    OK  UNNEEDED, same version is already published
kunpeng2Linux (openEuler 24.03 LTS) / aarch64  OK    OK    OK  


CHECK results for ISAnalytics on merida1

To the developers/maintainers of the ISAnalytics package:
- Allow up to 24 hours (and sometimes 48 hours) for your latest push to git@git.bioconductor.org:packages/ISAnalytics.git to reflect on this report. See Troubleshooting Build Report for more information.
- Use the following Renviron settings to reproduce errors and warnings.
- If 'R CMD check' started to fail recently on the Linux builder(s) over a missing dependency, add the missing dependency to 'Suggests:' in your DESCRIPTION file. See Renviron.bioc for more information.

raw results


Summary

Package: ISAnalytics
Version: 1.18.0
Command: /Library/Frameworks/R.framework/Resources/bin/R CMD check --install=check:ISAnalytics.install-out.txt --library=/Library/Frameworks/R.framework/Resources/library --no-vignettes --timings ISAnalytics_1.18.0.tar.gz
StartedAt: 2025-10-14 05:27:53 -0400 (Tue, 14 Oct 2025)
EndedAt: 2025-10-14 05:48:59 -0400 (Tue, 14 Oct 2025)
EllapsedTime: 1265.4 seconds
RetCode: 0
Status:   OK  
CheckDir: ISAnalytics.Rcheck
Warnings: 0

Command output

##############################################################################
##############################################################################
###
### Running command:
###
###   /Library/Frameworks/R.framework/Resources/bin/R CMD check --install=check:ISAnalytics.install-out.txt --library=/Library/Frameworks/R.framework/Resources/library --no-vignettes --timings ISAnalytics_1.18.0.tar.gz
###
##############################################################################
##############################################################################


* using log directory ‘/Users/biocbuild/bbs-3.21-bioc/meat/ISAnalytics.Rcheck’
* using R version 4.5.1 RC (2025-06-05 r88288)
* using platform: x86_64-apple-darwin20
* R was compiled by
    Apple clang version 14.0.0 (clang-1400.0.29.202)
    GNU Fortran (GCC) 14.2.0
* running under: macOS Monterey 12.7.6
* using session charset: UTF-8
* using option ‘--no-vignettes’
* checking for file ‘ISAnalytics/DESCRIPTION’ ... OK
* this is package ‘ISAnalytics’ version ‘1.18.0’
* package encoding: UTF-8
* checking package namespace information ... OK
* checking package dependencies ... OK
* checking if this is a source package ... OK
* checking if there is a namespace ... OK
* checking for hidden files and directories ... OK
* checking for portable file names ... OK
* checking for sufficient/correct file permissions ... OK
* checking whether package ‘ISAnalytics’ can be installed ... OK
* checking installed package size ... OK
* checking package directory ... OK
* checking ‘build’ directory ... OK
* checking DESCRIPTION meta-information ... OK
* checking top-level files ... OK
* checking for left-over files ... OK
* checking index information ... OK
* checking package subdirectories ... OK
* checking code files for non-ASCII characters ... OK
* checking R files for syntax errors ... OK
* checking whether the package can be loaded ... OK
* checking whether the package can be loaded with stated dependencies ... OK
* checking whether the package can be unloaded cleanly ... OK
* checking whether the namespace can be loaded with stated dependencies ... OK
* checking whether the namespace can be unloaded cleanly ... OK
* checking whether startup messages can be suppressed ... OK
* checking dependencies in R code ... OK
* checking S3 generic/method consistency ... OK
* checking replacement functions ... OK
* checking foreign function calls ... OK
* checking R code for possible problems ... OK
* checking Rd files ... NOTE
checkRd: (-1) refGenes_hg19.Rd:21: Lost braces; missing escapes or markup?
    21 | \item Download from {http://hgdownload.soe.ucsc.edu/goldenPath/hg19/database/}
       |                     ^
* checking Rd metadata ... OK
* checking Rd cross-references ... OK
* checking for missing documentation entries ... OK
* checking for code/documentation mismatches ... OK
* checking Rd \usage sections ... OK
* checking Rd contents ... OK
* checking for unstated dependencies in examples ... OK
* checking contents of ‘data’ directory ... OK
* checking data for non-ASCII characters ... OK
* checking data for ASCII and uncompressed saves ... OK
* checking files in ‘vignettes’ ... OK
* checking examples ... OK
Examples with CPU (user + system) or elapsed time > 5s
                                user system elapsed
sharing_venn                   8.321  0.336  83.180
integration_alluvial_plot      8.056  0.271  24.210
import_parallel_Vispa2Matrices 4.695  0.274  34.090
sharing_heatmap                3.996  0.091  25.477
CIS_grubbs_overtime            3.034  0.333  16.341
import_Vispa2_stats            2.910  0.228  16.431
top_cis_overtime_heatmap       2.991  0.130  21.606
iss_source                     2.429  0.072  18.829
HSC_population_plot            2.392  0.070  14.485
is_sharing                     2.175  0.098  20.029
realign_after_collisions       1.958  0.058  16.516
remove_collisions              1.904  0.051  15.704
compute_near_integrations      1.531  0.092  22.561
HSC_population_size_estimate   1.501  0.055  13.587
* checking for unstated dependencies in ‘tests’ ... OK
* checking tests ...
  Running ‘testthat.R’
 OK
* checking for unstated dependencies in vignettes ... OK
* checking package vignettes ... OK
* checking running R code from vignettes ... SKIPPED
* checking re-building of vignette outputs ... SKIPPED
* checking PDF version of manual ... OK
* DONE

Status: 1 NOTE
See
  ‘/Users/biocbuild/bbs-3.21-bioc/meat/ISAnalytics.Rcheck/00check.log’
for details.


Installation output

ISAnalytics.Rcheck/00install.out

##############################################################################
##############################################################################
###
### Running command:
###
###   /Library/Frameworks/R.framework/Resources/bin/R CMD INSTALL ISAnalytics
###
##############################################################################
##############################################################################


* installing to library ‘/Library/Frameworks/R.framework/Versions/4.5-x86_64/Resources/library’
* installing *source* package ‘ISAnalytics’ ...
** this is package ‘ISAnalytics’ version ‘1.18.0’
** using staged installation
** R
** data
** inst
** byte-compile and prepare package for lazy loading
** help
*** installing help indices
*** copying figures
** building package indices
** installing vignettes
** testing if installed package can be loaded from temporary location
** testing if installed package can be loaded from final location
** testing if installed package keeps a record of temporary installation path
* DONE (ISAnalytics)

Tests output

ISAnalytics.Rcheck/tests/testthat.Rout


R version 4.5.1 RC (2025-06-05 r88288) -- "Great Square Root"
Copyright (C) 2025 The R Foundation for Statistical Computing
Platform: x86_64-apple-darwin20

R is free software and comes with ABSOLUTELY NO WARRANTY.
You are welcome to redistribute it under certain conditions.
Type 'license()' or 'licence()' for distribution details.

R is a collaborative project with many contributors.
Type 'contributors()' for more information and
'citation()' on how to cite R or R packages in publications.

Type 'demo()' for some demos, 'help()' for on-line help, or
'help.start()' for an HTML browser interface to help.
Type 'q()' to quit R.

> library(testthat)
> library(ISAnalytics)
> 
> test_check("ISAnalytics")
Loading required namespace: plotly
Loading required namespace: rmarkdown
2025-10-14 05:39:04.383 R[69220:6137210] XType: com.apple.fonts is not accessible.
2025-10-14 05:39:04.384 R[69220:6137210] XType: XTFontStaticRegistry is enabled.
Report correctly saved
i Report saved to: /tmp/RtmpoMgglf/file10e643ebf4473/2025-10-14_collision_removal_report.html
Report correctly saved
i Report saved to: /tmp/RtmpoMgglf/file10e6455b4590c/2025-10-14_outlier_test_pool_fragments_report.html
[ FAIL 0 | WARN 0 | SKIP 0 | PASS 834 ]
> 
> proc.time()
   user  system elapsed 
208.618   8.068 727.049 

Example timings

ISAnalytics.Rcheck/ISAnalytics-Ex.timings

nameusersystemelapsed
CIS_grubbs2.0650.0942.219
CIS_grubbs_overtime 3.034 0.33316.341
CIS_volcano_plot3.6880.0773.898
HSC_population_plot 2.392 0.07014.485
HSC_population_size_estimate 1.501 0.05513.587
NGSdataExplorer0.0000.0000.001
aggregate_metadata0.2380.0050.245
aggregate_values_by_key0.1320.0090.142
annotation_issues0.0570.0040.061
as_sparse_matrix0.1060.0050.110
available_outlier_tests0.0000.0000.001
available_tags0.0500.0060.056
blood_lineages_default0.0620.0010.063
circos_genomic_density0.0010.0000.000
clinical_relevant_suspicious_genes0.0270.0000.027
comparison_matrix0.0620.0010.064
compute_abundance0.0740.0060.081
compute_near_integrations 1.531 0.09222.561
cumulative_count_union0.0010.0010.001
cumulative_is0.3510.0110.364
date_formats0.0000.0000.001
default_af_transform0.0010.0000.001
default_iss_file_prefixes0.0000.0000.001
default_meta_agg0.0380.0000.038
default_rec_agg_lambdas0.0010.0010.002
default_report_path0.0130.0010.016
default_stats2.1620.0462.351
enable_progress_bars0.0300.0040.034
export_ISA_settings0.1720.0020.176
fisher_scatterplot2.8370.1643.041
gene_frequency_fisher2.5290.0522.619
generate_Vispa2_launch_AF0.4420.0390.487
generate_blank_association_file0.0280.0030.032
generate_default_folder_structure0.8130.1520.899
import_ISA_settings0.1340.0020.137
import_Vispa2_stats 2.910 0.22816.431
import_association_file1.2900.1861.452
import_parallel_Vispa2Matrices 4.695 0.27434.090
import_single_Vispa2Matrix1.5470.1871.688
inspect_tags0.0300.0010.031
integration_alluvial_plot 8.056 0.27124.210
is_sharing 2.175 0.09820.029
iss_source 2.429 0.07218.829
known_clinical_oncogenes0.0260.0010.029
mandatory_IS_vars0.2140.0060.236
matching_options0.0010.0000.000
outlier_filter0.3370.0190.391
outliers_by_pool_fragments0.3550.0060.392
pcr_id_column0.0410.0010.046
purity_filter0.7850.0140.863
quantification_types0.0000.0010.001
realign_after_collisions 1.958 0.05816.516
reduced_AF_columns0.0950.0010.105
refGene_table_cols0.0000.0010.001
remove_collisions 1.904 0.05115.704
reset_mandatory_IS_vars0.0110.0020.017
sample_statistics0.8260.1401.044
separate_quant_matrices0.0300.0050.037
set_mandatory_IS_vars0.1920.0040.209
set_matrix_file_suffixes0.0400.0010.042
sharing_heatmap 3.996 0.09125.477
sharing_venn 8.321 0.33683.180
threshold_filter0.0000.0020.003
top_abund_tableGrob1.5860.0191.767
top_cis_overtime_heatmap 2.991 0.13021.606
top_integrations0.0610.0010.069
top_targeted_genes1.1150.0151.150
transform_columns0.0430.0010.044