Back to Multiple platform build/check report for BioC 3.21:   simplified   long
ABCDE[F]GHIJKLMNOPQRSTUVWXYZ

This page was generated on 2025-10-16 11:40 -0400 (Thu, 16 Oct 2025).

HostnameOSArch (*)R versionInstalled pkgs
nebbiolo1Linux (Ubuntu 24.04.3 LTS)x86_644.5.1 (2025-06-13) -- "Great Square Root" 4833
merida1macOS 12.7.6 Montereyx86_644.5.1 RC (2025-06-05 r88288) -- "Great Square Root" 4614
kjohnson1macOS 13.7.5 Venturaarm644.5.1 Patched (2025-06-14 r88325) -- "Great Square Root" 4555
kunpeng2Linux (openEuler 24.03 LTS)aarch64R Under development (unstable) (2025-02-19 r87757) -- "Unsuffered Consequences" 4586
Click on any hostname to see more info about the system (e.g. compilers)      (*) as reported by 'uname -p', except on Windows and Mac OS X

Package 756/2341HostnameOS / ArchINSTALLBUILDCHECKBUILD BIN
FlowSOM 2.16.0  (landing page)
Sofie Van Gassen
Snapshot Date: 2025-10-13 13:40 -0400 (Mon, 13 Oct 2025)
git_url: https://git.bioconductor.org/packages/FlowSOM
git_branch: RELEASE_3_21
git_last_commit: 4bdaa3d
git_last_commit_date: 2025-04-15 10:36:59 -0400 (Tue, 15 Apr 2025)
nebbiolo1Linux (Ubuntu 24.04.3 LTS) / x86_64  OK    OK    OK  UNNEEDED, same version is already published
merida1macOS 12.7.6 Monterey / x86_64  OK    OK    OK    OK  UNNEEDED, same version is already published
kjohnson1macOS 13.7.5 Ventura / arm64  OK    OK    OK    OK  UNNEEDED, same version is already published
kunpeng2Linux (openEuler 24.03 LTS) / aarch64  OK    OK    OK  


CHECK results for FlowSOM on kjohnson1

To the developers/maintainers of the FlowSOM package:
- Allow up to 24 hours (and sometimes 48 hours) for your latest push to git@git.bioconductor.org:packages/FlowSOM.git to reflect on this report. See Troubleshooting Build Report for more information.
- Use the following Renviron settings to reproduce errors and warnings.
- If 'R CMD check' started to fail recently on the Linux builder(s) over a missing dependency, add the missing dependency to 'Suggests:' in your DESCRIPTION file. See Renviron.bioc for more information.

raw results


Summary

Package: FlowSOM
Version: 2.16.0
Command: /Library/Frameworks/R.framework/Resources/bin/R CMD check --install=check:FlowSOM.install-out.txt --library=/Library/Frameworks/R.framework/Resources/library --no-vignettes --timings FlowSOM_2.16.0.tar.gz
StartedAt: 2025-10-14 21:53:26 -0400 (Tue, 14 Oct 2025)
EndedAt: 2025-10-14 22:04:14 -0400 (Tue, 14 Oct 2025)
EllapsedTime: 647.8 seconds
RetCode: 0
Status:   OK  
CheckDir: FlowSOM.Rcheck
Warnings: 0

Command output

##############################################################################
##############################################################################
###
### Running command:
###
###   /Library/Frameworks/R.framework/Resources/bin/R CMD check --install=check:FlowSOM.install-out.txt --library=/Library/Frameworks/R.framework/Resources/library --no-vignettes --timings FlowSOM_2.16.0.tar.gz
###
##############################################################################
##############################################################################


* using log directory ‘/Users/biocbuild/bbs-3.21-bioc/meat/FlowSOM.Rcheck’
* using R version 4.5.1 Patched (2025-06-14 r88325)
* using platform: aarch64-apple-darwin20
* R was compiled by
    Apple clang version 16.0.0 (clang-1600.0.26.6)
    GNU Fortran (GCC) 14.2.0
* running under: macOS Ventura 13.7.5
* using session charset: UTF-8
* using option ‘--no-vignettes’
* checking for file ‘FlowSOM/DESCRIPTION’ ... OK
* this is package ‘FlowSOM’ version ‘2.16.0’
* package encoding: UTF-8
* checking package namespace information ... OK
* checking package dependencies ... OK
* checking if this is a source package ... OK
* checking if there is a namespace ... OK
* checking for hidden files and directories ... OK
* checking for portable file names ... OK
* checking for sufficient/correct file permissions ... OK
* checking whether package ‘FlowSOM’ can be installed ... OK
* used C compiler: ‘Apple clang version 15.0.0 (clang-1500.0.40.1)’
* used SDK: ‘MacOSX11.3.sdk’
* checking installed package size ... OK
* checking package directory ... OK
* checking ‘build’ directory ... OK
* checking DESCRIPTION meta-information ... OK
* checking top-level files ... OK
* checking for left-over files ... OK
* checking index information ... OK
* checking package subdirectories ... OK
* checking code files for non-ASCII characters ... OK
* checking R files for syntax errors ... OK
* checking whether the package can be loaded ... OK
* checking whether the package can be loaded with stated dependencies ... OK
* checking whether the package can be unloaded cleanly ... OK
* checking whether the namespace can be loaded with stated dependencies ... OK
* checking whether the namespace can be unloaded cleanly ... OK
* checking whether startup messages can be suppressed ... OK
* checking dependencies in R code ... OK
* checking S3 generic/method consistency ... OK
* checking replacement functions ... OK
* checking foreign function calls ... OK
* checking R code for possible problems ... OK
* checking Rd files ... NOTE
checkRd: (-1) PlotDimRed.Rd:55: Lost braces
    55 | of the dimred default = function(dimred){dimred$Y}.}
       |                                         ^
* checking Rd metadata ... OK
* checking Rd cross-references ... NOTE
Non-topic package-anchored link(s) in Rd file 'pipe.Rd':
  ‘[magrittr:pipe]{%>%}’

See section 'Cross-references' in the 'Writing R Extensions' manual.
* checking for missing documentation entries ... OK
* checking for code/documentation mismatches ... OK
* checking Rd \usage sections ... OK
* checking Rd contents ... OK
* checking for unstated dependencies in examples ... OK
* checking line endings in C/C++/Fortran sources/headers ... OK
* checking compiled code ... NOTE
Note: information on .o files is not available
* checking sizes of PDF files under ‘inst/doc’ ... OK
* checking files in ‘vignettes’ ... OK
* checking examples ... OK
Examples with CPU (user + system) or elapsed time > 5s
                                    user system elapsed
FlowSOMmary                       62.252  3.216  66.252
PlotDimRed                        52.095  4.098  56.952
PlotOutliers                      29.531  0.774  30.431
PlotMarker                        19.321  1.618  21.245
UpdateMetaclusters                17.614  1.416  19.163
PlotStars                         15.297  0.976  16.318
GroupStats                        12.996  1.359  14.663
FlowSOM                           12.832  1.014  14.011
PlotGroups                        11.680  1.457  13.290
QueryMultiple                     10.980  0.685  11.788
query_multiple                    10.701  0.623  11.343
Plot2DScatters                    10.620  0.645  11.386
AddAnnotation                      9.747  0.727  10.665
PlotManualBars                     9.221  0.992  10.368
GetFlowJoLabels                    8.686  0.752   9.482
PlotPies                           8.529  0.695   9.266
PlotNode                           7.800  1.017   8.929
PlotVariable                       7.765  0.879   8.662
QueryStarPlot                      8.126  0.446   8.590
PlotNumbers                        6.900  0.705   7.646
PlotFlowSOM                        6.394  1.183   7.711
CountGroups                        6.863  0.623   7.539
PlotOverview2D                     6.857  0.598   7.469
NClusters                          5.749  1.168   7.033
PlotLabels                         6.102  0.677   6.833
SaveClustersToFCS                  6.044  0.691   6.748
NMetaclusters                      5.454  1.244   6.779
GetMetaclusterMFIs                 5.660  0.957   6.686
GetFeatures                        5.942  0.655   6.674
print.FlowSOM                      5.752  0.773   6.550
UpdateNodeSize                     6.143  0.300   6.468
TestOutliers                       5.587  0.782   6.411
MetaclusterMFIs                    5.690  0.670   6.407
GetMetaclusterCVs                  5.199  0.989   6.244
GetClusterMFIs                     5.400  0.491   6.154
MetaclusterCVs                     5.284  0.572   5.901
GetClusters                        5.278  0.568   5.868
GetCounts                          4.998  0.831   5.904
GetMetaclusters                    5.192  0.624   5.855
GetPercentages                     5.172  0.625   5.846
GetMFIs                            5.155  0.619   5.811
GetMetaclusterPercentagesPositive  5.029  0.580   5.646
NewData                            5.037  0.464   5.555
GetClusterPercentagesPositive      4.923  0.550   5.509
FlowSOMSubset                      4.746  0.660   5.553
* checking for unstated dependencies in vignettes ... OK
* checking package vignettes ... OK
* checking running R code from vignettes ... SKIPPED
* checking re-building of vignette outputs ... SKIPPED
* checking PDF version of manual ... OK
* DONE

Status: 3 NOTEs
See
  ‘/Users/biocbuild/bbs-3.21-bioc/meat/FlowSOM.Rcheck/00check.log’
for details.


Installation output

FlowSOM.Rcheck/00install.out

##############################################################################
##############################################################################
###
### Running command:
###
###   /Library/Frameworks/R.framework/Resources/bin/R CMD INSTALL FlowSOM
###
##############################################################################
##############################################################################


* installing to library ‘/Library/Frameworks/R.framework/Versions/4.5-arm64/Resources/library’
* installing *source* package ‘FlowSOM’ ...
** this is package ‘FlowSOM’ version ‘2.16.0’
** using staged installation
** libs
using C compiler: ‘Apple clang version 15.0.0 (clang-1500.0.40.1)’
using SDK: ‘MacOSX11.3.sdk’
clang -arch arm64 -std=gnu2x -I"/Library/Frameworks/R.framework/Resources/include" -DNDEBUG   -I/opt/R/arm64/include    -fPIC  -falign-functions=64 -Wall -g -O2  -c som.c -o som.o
clang -arch arm64 -std=gnu2x -dynamiclib -Wl,-headerpad_max_install_names -undefined dynamic_lookup -L/Library/Frameworks/R.framework/Resources/lib -L/opt/R/arm64/lib -o FlowSOM.so som.o -F/Library/Frameworks/R.framework/.. -framework R
installing to /Library/Frameworks/R.framework/Versions/4.5-arm64/Resources/library/00LOCK-FlowSOM/00new/FlowSOM/libs
** R
** inst
** byte-compile and prepare package for lazy loading
** help
*** installing help indices
** building package indices
** installing vignettes
** testing if installed package can be loaded from temporary location
** checking absolute paths in shared objects and dynamic libraries
** testing if installed package can be loaded from final location
** testing if installed package keeps a record of temporary installation path
* DONE (FlowSOM)

Tests output


Example timings

FlowSOM.Rcheck/FlowSOM-Ex.timings

nameusersystemelapsed
AddAnnotation 9.747 0.72710.665
AggregateFlowFrames0.1030.0120.116
BuildMST1.7620.1281.917
BuildSOM1.2770.1031.419
CountGroups6.8630.6237.539
FMeasure0.0010.0000.002
FlowSOM12.832 1.01414.011
FlowSOMSubset4.7460.6605.553
FlowSOMmary62.252 3.21666.252
GetChannels0.0410.0030.045
GetClusterMFIs5.4000.4916.154
GetClusterPercentagesPositive4.9230.5505.509
GetClusters5.2780.5685.868
GetCounts4.9980.8315.904
GetFeatures5.9420.6556.674
GetFlowJoLabels8.6860.7529.482
GetMFIs5.1550.6195.811
GetMarkers0.0420.0030.045
GetMetaclusterCVs5.1990.9896.244
GetMetaclusterMFIs5.6600.9576.686
GetMetaclusterPercentagesPositive5.0290.5805.646
GetMetaclusters5.1920.6245.855
GetPercentages5.1720.6255.846
GroupStats12.996 1.35914.663
Initialize_KWSP0.0040.0000.004
Initialize_PCA0.0010.0010.002
MetaClustering3.3480.4913.879
MetaclusterCVs5.2840.5725.901
MetaclusterMFIs5.6900.6706.407
NClusters5.7491.1687.033
NMetaclusters5.4541.2446.779
NewData5.0370.4645.555
Plot2DScatters10.620 0.64511.386
PlotCenters1.3920.1111.518
PlotClusters2D1.3100.1831.507
PlotDimRed52.095 4.09856.952
PlotFileScatters1.2500.0321.296
PlotFlowSOM6.3941.1837.711
PlotGroups11.680 1.45713.290
PlotLabels6.1020.6776.833
PlotManualBars 9.221 0.99210.368
PlotMarker19.321 1.61821.245
PlotNode7.8001.0178.929
PlotNumbers6.9000.7057.646
PlotOutliers29.531 0.77430.431
PlotOverview2D6.8570.5987.469
PlotPies8.5290.6959.266
PlotSD2.1140.2082.423
PlotStars15.297 0.97616.318
PlotVariable7.7650.8798.662
Purity0.0010.0010.002
QueryMultiple10.980 0.68511.788
QueryStarPlot8.1260.4468.590
ReadInput3.1180.6683.797
SaveClustersToFCS6.0440.6916.748
TestOutliers5.5870.7826.411
UpdateMetaclusters17.614 1.41619.163
UpdateNodeSize6.1430.3006.468
get_channels0.0420.0070.052
get_markers0.0420.0040.047
metaClustering_consensus2.7390.5563.345
plotStarLegend0.5570.0060.564
print.FlowSOM5.7520.7736.550
query_multiple10.701 0.62311.343