Back to Multiple platform build/check report for BioC 3.21:   simplified   long
ABC[D]EFGHIJKLMNOPQRSTUVWXYZ

This page was generated on 2025-10-16 11:38 -0400 (Thu, 16 Oct 2025).

HostnameOSArch (*)R versionInstalled pkgs
nebbiolo1Linux (Ubuntu 24.04.3 LTS)x86_644.5.1 (2025-06-13) -- "Great Square Root" 4833
merida1macOS 12.7.6 Montereyx86_644.5.1 RC (2025-06-05 r88288) -- "Great Square Root" 4614
kjohnson1macOS 13.7.5 Venturaarm644.5.1 Patched (2025-06-14 r88325) -- "Great Square Root" 4555
kunpeng2Linux (openEuler 24.03 LTS)aarch64R Under development (unstable) (2025-02-19 r87757) -- "Unsuffered Consequences" 4586
Click on any hostname to see more info about the system (e.g. compilers)      (*) as reported by 'uname -p', except on Windows and Mac OS X

Package 515/2341HostnameOS / ArchINSTALLBUILDCHECKBUILD BIN
DAPAR 1.40.0  (landing page)
Samuel Wieczorek
Snapshot Date: 2025-10-13 13:40 -0400 (Mon, 13 Oct 2025)
git_url: https://git.bioconductor.org/packages/DAPAR
git_branch: RELEASE_3_21
git_last_commit: e38913f
git_last_commit_date: 2025-04-15 10:53:48 -0400 (Tue, 15 Apr 2025)
nebbiolo1Linux (Ubuntu 24.04.3 LTS) / x86_64  OK    OK    OK  UNNEEDED, same version is already published
merida1macOS 12.7.6 Monterey / x86_64  OK    OK    OK    OK  UNNEEDED, same version is already published
kjohnson1macOS 13.7.5 Ventura / arm64  OK    OK    OK    OK  UNNEEDED, same version is already published
kunpeng2Linux (openEuler 24.03 LTS) / aarch64  OK    OK    OK  


CHECK results for DAPAR on merida1

To the developers/maintainers of the DAPAR package:
- Allow up to 24 hours (and sometimes 48 hours) for your latest push to git@git.bioconductor.org:packages/DAPAR.git to reflect on this report. See Troubleshooting Build Report for more information.
- Use the following Renviron settings to reproduce errors and warnings.
- If 'R CMD check' started to fail recently on the Linux builder(s) over a missing dependency, add the missing dependency to 'Suggests:' in your DESCRIPTION file. See Renviron.bioc for more information.

raw results


Summary

Package: DAPAR
Version: 1.40.0
Command: /Library/Frameworks/R.framework/Resources/bin/R CMD check --install=check:DAPAR.install-out.txt --library=/Library/Frameworks/R.framework/Resources/library --no-vignettes --timings DAPAR_1.40.0.tar.gz
StartedAt: 2025-10-14 02:26:02 -0400 (Tue, 14 Oct 2025)
EndedAt: 2025-10-14 02:46:19 -0400 (Tue, 14 Oct 2025)
EllapsedTime: 1217.6 seconds
RetCode: 0
Status:   OK  
CheckDir: DAPAR.Rcheck
Warnings: 0

Command output

##############################################################################
##############################################################################
###
### Running command:
###
###   /Library/Frameworks/R.framework/Resources/bin/R CMD check --install=check:DAPAR.install-out.txt --library=/Library/Frameworks/R.framework/Resources/library --no-vignettes --timings DAPAR_1.40.0.tar.gz
###
##############################################################################
##############################################################################


* using log directory ‘/Users/biocbuild/bbs-3.21-bioc/meat/DAPAR.Rcheck’
* using R version 4.5.1 RC (2025-06-05 r88288)
* using platform: x86_64-apple-darwin20
* R was compiled by
    Apple clang version 14.0.0 (clang-1400.0.29.202)
    GNU Fortran (GCC) 14.2.0
* running under: macOS Monterey 12.7.6
* using session charset: UTF-8
* using option ‘--no-vignettes’
* checking for file ‘DAPAR/DESCRIPTION’ ... OK
* checking extension type ... Package
* this is package ‘DAPAR’ version ‘1.40.0’
* package encoding: UTF-8
* checking package namespace information ... OK
* checking package dependencies ... INFO
Vignette dependency required without any vignettes: ‘knitr’
* checking if this is a source package ... OK
* checking if there is a namespace ... OK
* checking for hidden files and directories ... OK
* checking for portable file names ... OK
* checking for sufficient/correct file permissions ... OK
* checking whether package ‘DAPAR’ can be installed ... OK
* checking installed package size ... OK
* checking package directory ... OK
* checking DESCRIPTION meta-information ... OK
* checking top-level files ... OK
* checking for left-over files ... OK
* checking index information ... OK
* checking package subdirectories ... OK
* checking code files for non-ASCII characters ... OK
* checking R files for syntax errors ... OK
* checking whether the package can be loaded ... OK
* checking whether the package can be loaded with stated dependencies ... OK
* checking whether the package can be unloaded cleanly ... OK
* checking whether the namespace can be loaded with stated dependencies ... OK
* checking whether the namespace can be unloaded cleanly ... OK
* checking whether startup messages can be suppressed ... OK
* checking dependencies in R code ... OK
* checking S3 generic/method consistency ... OK
* checking replacement functions ... OK
* checking foreign function calls ... OK
* checking R code for possible problems ... NOTE
Check_Dataset_Validity: no visible global function definition for
  ‘exprs’
OWAnova: no visible global function definition for ‘aov’
aggregateIterParallel: no visible binding for global variable ‘cond’
averageIntensities: no visible binding for global variable ‘condition’
averageIntensities: no visible binding for global variable ‘feature’
averageIntensities: no visible binding for global variable ‘intensity’
createMSnset: no visible global function definition for
  ‘installed.packages’
createMSnset: no visible binding for global variable ‘Prostar.loc’
createMSnset2: no visible global function definition for
  ‘installed.packages’
createMSnset2: no visible binding for global variable ‘Prostar.loc’
diffAnaVolcanoplot_rCharts: no visible binding for global variable ‘x’
diffAnaVolcanoplot_rCharts: no visible binding for global variable ‘y’
diffAnaVolcanoplot_rCharts: no visible binding for global variable ‘g’
display.CC.visNet: no visible binding for global variable
  ‘layout_nicely’
getTextForGOAnalysis: no visible binding for global variable
  ‘textGOParams’
getTextForGOAnalysis: no visible binding for global variable ‘input’
globalAdjPval: no visible global function definition for ‘stack’
heatmapForMissingValues: no visible binding for global variable ‘par’
limmaCompleteTest: no visible binding for global variable ‘A’
limmaCompleteTest: no visible binding for global variable ‘B’
limmaCompleteTest: no visible binding for global variable ‘P.Value’
pepa.test: no visible global function definition for ‘nodes<-’
testAnovaModels : <anonymous>: no visible global function definition
  for ‘TukeyHSD’
visualizeClusters: no visible binding for global variable
  ‘adjusted_pvalues’
visualizeClusters: no visible binding for global variable ‘Condition’
visualizeClusters: no visible binding for global variable ‘Intensity’
visualizeClusters: no visible binding for global variable
  ‘FDR_threshold’
visualizeClusters: no visible binding for global variable ‘feature’
wrapperClassic1wayAnova: no visible binding for global variable
  ‘Pr(>F)1’
wrapperRunClustering: no visible global function definition for ‘str_c’
Undefined global functions or variables:
  A B Condition FDR_threshold Intensity P.Value Pr(>F)1 Prostar.loc
  TukeyHSD adjusted_pvalues aov cond condition exprs feature g input
  installed.packages intensity layout_nicely nodes<- par stack str_c
  textGOParams x y
Consider adding
  importFrom("graphics", "par")
  importFrom("stats", "TukeyHSD", "aov")
  importFrom("utils", "installed.packages", "stack")
to your NAMESPACE file.
* checking Rd files ... OK
* checking Rd metadata ... OK
* checking Rd cross-references ... OK
* checking for missing documentation entries ... OK
* checking for code/documentation mismatches ... OK
* checking Rd \usage sections ... OK
* checking Rd contents ... OK
* checking for unstated dependencies in examples ... OK
* checking examples ... OK
Examples with CPU (user + system) or elapsed time > 5s
                                    user system elapsed
wrapper.compareNormalizationD_HC 106.930 46.700 175.537
wrapper.dapar.impute.mi           30.274  2.196  40.694
barplotEnrichGO_HC                14.915  3.000  20.007
checkClusterability                6.268  3.794  11.221
barplotGroupGO_HC                  8.708  1.251  11.420
enrich_GO                          8.833  1.058  11.530
group_GO                           8.802  1.038  11.769
scatterplotEnrichGO_HC             8.726  1.005  12.074
densityPlotD_HC                    6.391  2.414   9.931
wrapperRunClustering               6.372  1.640   9.561
CVDistD_HC                         6.211  0.284   7.009
wrapper.CVDistD_HC                 4.717  1.727   7.606
mvImage                            5.833  0.298   7.060
* checking for unstated dependencies in ‘tests’ ... OK
* checking tests ...
  Running ‘testthat.R’
 OK
* checking PDF version of manual ... OK
* DONE

Status: 1 NOTE
See
  ‘/Users/biocbuild/bbs-3.21-bioc/meat/DAPAR.Rcheck/00check.log’
for details.


Installation output

DAPAR.Rcheck/00install.out

##############################################################################
##############################################################################
###
### Running command:
###
###   /Library/Frameworks/R.framework/Resources/bin/R CMD INSTALL DAPAR
###
##############################################################################
##############################################################################


* installing to library ‘/Library/Frameworks/R.framework/Versions/4.5-x86_64/Resources/library’
* installing *source* package ‘DAPAR’ ...
** this is package ‘DAPAR’ version ‘1.40.0’
** using staged installation
** R
** inst
** byte-compile and prepare package for lazy loading
** help
*** installing help indices
** building package indices
** testing if installed package can be loaded from temporary location
** testing if installed package can be loaded from final location
** testing if installed package keeps a record of temporary installation path
* DONE (DAPAR)

Tests output

DAPAR.Rcheck/tests/testthat.Rout


R version 4.5.1 RC (2025-06-05 r88288) -- "Great Square Root"
Copyright (C) 2025 The R Foundation for Statistical Computing
Platform: x86_64-apple-darwin20

R is free software and comes with ABSOLUTELY NO WARRANTY.
You are welcome to redistribute it under certain conditions.
Type 'license()' or 'licence()' for distribution details.

R is a collaborative project with many contributors.
Type 'contributors()' for more information and
'citation()' on how to cite R or R packages in publications.

Type 'demo()' for some demos, 'help()' for on-line help, or
'help.start()' for an HTML browser interface to help.
Type 'q()' to quit R.

> library(testthat)
> library(DAPAR)

This is the 'DAPAR' version 1.40.0.

  To get started, visit
    http://www.prostar-proteomics.org/


> 
> test_check("DAPAR")

 Iterations: 

 1 / 1  - Imputation MNAR OK - 
Imputation MCAR in progress - 
3 % - 6 % - 9 % - 12 % - 15 % - 18 % - 21 % - 24 % - 27 % - 30 % - 33 % - 36 % - 39 % - 42 % - 45 % - 48 % - 51 % - 54 % - 57 % - 60 % - 63 % - 66 % - 69 % - 72 % - 75 % - 78 % - 81 % - 84 % - 87 % - 90 % - 93 % - 96 % - 99 % - 
 Iterations: 

 1 / 1  - Imputation MNAR OK - 
Imputation MCAR in progress - 
3 % - 6 % - 9 % - 12 % - 15 % - 18 % - 21 % - 24 % - 27 % - 30 % - 33 % - 36 % - 39 % - 42 % - 45 % - 48 % - 51 % - 54 % - 57 % - 60 % - 63 % - 66 % - 69 % - 72 % - 75 % - 78 % - 81 % - 84 % - 87 % - 90 % - 93 % - 96 % - 99 % - 
 Imputation in condition  1 ...
 In progress: 10 % - 20 % - 30 % - 40 % - 50 % - 60 % - 70 % - 80 % - 90 % - 100 % - 
 Imputation in condition  2 ...
 In progress: 10 % - 20 % - 30 % - 40 % - 50 % - 60 % - 70 % - 80 % - 90 % - 100 % - [ FAIL 0 | WARN 17 | SKIP 0 | PASS 66 ]

[ FAIL 0 | WARN 17 | SKIP 0 | PASS 66 ]
> 
> proc.time()
   user  system elapsed 
 69.754   2.726  78.246 

Example timings

DAPAR.Rcheck/DAPAR-Ex.timings

nameusersystemelapsed
AggregateMetacell1.0530.0361.181
BuildAdjacencyMatrix0.8550.0160.940
BuildColumnToProteinDataset1.0730.0201.229
BuildMetaCell1.9780.0392.185
CVDistD_HC6.2110.2847.009
Children0.0120.0010.013
CountPep0.8820.0130.951
ExtendPalette0.0580.0030.068
GOAnalysisSave0.0010.0000.000
GetCC3.2200.0683.447
GetColorsForConditions0.7980.0120.889
GetDetailedNbPeptides0.8470.0110.905
GetDetailedNbPeptidesUsed0.0000.0010.001
GetIndices_BasedOnConditions0.8420.0130.911
GetIndices_MetacellFiltering0.8560.0170.944
GetIndices_WholeLine0.8450.0130.894
GetIndices_WholeMatrix0.8350.0130.891
GetKeyId0.7980.0130.817
GetMatAdj0.9310.0170.974
GetMetacell0.0010.0000.000
GetMetacellTags0.8280.0180.856
GetNbPeptidesUsed0.8330.0170.855
GetNbTags000
GetSoftAvailables0.0010.0000.001
GetTypeofData0.7910.0150.833
Get_AllComparisons0.5220.0270.590
GlobalQuantileAlignment0.8250.0120.885
GraphPepProt0.8460.0130.901
LH00.0010.0000.001
LH0.lm0.0000.0010.000
LH1000
LH1.lm0.0000.0010.001
LOESS2.0270.0432.179
MeanCentering0.8070.0130.880
MetaCellFiltering1.1930.0201.284
MetacellFilteringScope0.0000.0000.001
Metacell_DIA_NN0.8610.0200.902
Metacell_generic0.8370.0290.999
Metacell_maxquant0.7670.0210.919
Metacell_proline0.7460.0240.795
NumericalFiltering0.9290.0211.005
NumericalgetIndicesOfLinesToRemove0.7890.0170.851
OWAnova0.0100.0010.011
QuantileCentering0.7650.0180.838
SetCC2.8680.0272.997
SetMatAdj0.9070.0130.955
Set_POV_MEC_tags0.8220.0120.870
StringBasedFiltering0.8870.0150.932
StringBasedFiltering20.8770.0110.898
SumByColumns3.6980.2113.928
SymFilteringOperators0.0000.0010.001
UpdateMetacellAfterImputation0.8490.0140.877
aggregateIter1.0210.0331.195
aggregateIterParallel0.0000.0010.002
aggregateMean1.0090.0201.150
aggregateSum1.0900.0171.154
aggregateTopn0.9780.0181.021
applyAnovasOnProteins0.2320.0110.256
averageIntensities1.1450.2471.583
barplotEnrichGO_HC14.915 3.00020.007
barplotGroupGO_HC 8.708 1.25111.420
boxPlotD_HC0.4910.1540.762
buildGraph2.2100.0832.500
check.conditions0.7760.0160.823
check.design0.7810.0150.833
checkClusterability 6.268 3.79411.221
classic1wayAnova0.0010.0010.001
compareNormalizationD_HC0.3070.0970.508
compute.selection.table1.6210.2932.304
compute_t_tests2.5030.3543.192
corrMatrixD_HC0.9800.1271.247
createMSnset3.2550.1933.825
createMSnset23.2190.1883.630
dapar_hc_ExportMenu0.2730.2470.549
dapar_hc_chart0.1150.0840.224
deleteLinesFromIndices0.9410.0481.008
densityPlotD_HC6.3912.4149.931
diffAnaComputeAdjustedPValues0.3560.0770.523
diffAnaComputeFDR0.0000.0000.001
diffAnaGetSignificant0.5540.1060.703
diffAnaSave0.5180.0950.780
diffAnaVolcanoplot0.3470.0510.534
diffAnaVolcanoplot_rCharts0.7550.2101.188
display.CC.visNet2.4590.1472.995
enrich_GO 8.833 1.05811.530
finalizeAggregation0.0000.0000.001
findMECBlock0.8700.0271.052
formatHSDResults0.0000.0010.001
formatLimmaResult0.3290.0470.486
formatPHResults0.0010.0000.001
formatPHTResults000
fudge2LRT0.0000.0000.001
get.pep.prot.cc2.1200.0472.530
getDesignLevel0.7680.0140.854
getIndicesConditions0.7840.0120.882
getIndicesOfLinesToRemove0.8330.0271.060
getListNbValuesInLines0.7800.0130.867
getNumberOf0.8320.0271.010
getNumberOfEmptyLines0.8620.0190.996
getPourcentageOfMV0.8300.0280.966
getProcessingInfo0.7930.0130.890
getProteinsStats0.8560.0310.924
getQuantile4Imp0.1860.0090.209
getTextForAggregation0.0010.0000.001
getTextForAnaDiff0.0000.0010.001
getTextForFiltering0.0010.0000.001
getTextForGOAnalysis0.0000.0000.001
getTextForHypothesisTest0.0010.0010.001
getTextForNewDataset0.0040.0000.005
getTextForNormalization0.0000.0010.001
getTextForpeptideImputation0.0010.0010.002
getTextForproteinImputation0.0010.0010.002
globalAdjPval0.9840.0961.363
group_GO 8.802 1.03811.769
hc_logFC_DensityPlot1.4230.5202.317
hc_mvTypePlot21.8970.4992.798
heatmapD1.3090.1051.565
heatmapForMissingValues0.3550.0460.477
histPValue_HC0.4660.1400.725
impute.pa20.9220.0511.050
inner.aggregate.iter0.9420.0451.061
inner.aggregate.topn0.8970.0331.032
inner.mean0.8720.0300.955
inner.sum0.9230.0351.083
is.subset0.0010.0010.002
limmaCompleteTest3.6440.1154.264
listSheets0.0000.0010.001
make.contrast0.8170.0150.922
make.design.10.8160.0170.918
make.design.20.8200.0170.931
make.design.30.8210.0170.928
make.design0.8550.0190.970
match.metacell0.8710.0281.075
metacell.def0.0110.0050.017
metacellHisto_HC0.9300.1071.237
metacellPerLinesHistoPerCondition_HC1.1660.2001.779
metacellPerLinesHisto_HC1.4270.4742.521
metacombine0.4770.0250.555
mvImage5.8330.2987.060
my_hc_ExportMenu0.2810.2440.653
my_hc_chart0.2810.2510.695
nonzero0.0310.0030.043
normalizeMethods.dapar0.0000.0000.001
pepa.test0.8720.0301.203
pkgs.require0.0000.0010.001
plotJitter2.2360.0742.807
plotJitter_rCharts2.2050.1522.788
plotPCA_Eigen0.9730.0761.210
plotPCA_Eigen_hc0.7850.0140.904
plotPCA_Ind0.8030.0170.976
plotPCA_Var0.7820.0140.919
postHocTest000
proportionConRev_HC0.1010.0930.265
rbindMSnset0.9940.0711.303
reIntroduceMEC0.9220.0491.170
readExcel0.0000.0010.000
removeLines0.8910.0451.105
samLRT0.0000.0000.001
saveParameters0.7890.0170.939
scatterplotEnrichGO_HC 8.726 1.00512.074
search.metacell.tags0.0160.0040.020
separateAdjPval0.3370.0270.482
splitAdjacencyMat0.8760.0281.179
test.design0.8190.0141.029
testAnovaModels0.2480.0260.366
thresholdpval4fdr0.0000.0000.001
translatedRandomBeta0.0070.0280.034
univ_AnnotDbPkg0.3370.1860.736
violinPlotD0.6030.0480.897
visualizeClusters3.1870.3894.698
vsn1.2630.0361.579
wrapper.CVDistD_HC4.7171.7277.606
wrapper.compareNormalizationD_HC106.930 46.700175.537
wrapper.corrMatrixD_HC0.9760.1942.552
wrapper.dapar.impute.mi30.274 2.19640.694
wrapper.heatmapD1.1830.1031.450
wrapper.impute.KNN0.9260.0541.105
wrapper.impute.detQuant0.9660.0641.247
wrapper.impute.fixedValue0.9840.0751.409
wrapper.impute.mle0.8710.0531.036
wrapper.impute.pa0.2880.0480.469
wrapper.impute.pa20.8980.0611.142
wrapper.impute.slsa1.2820.1041.548
wrapper.mvImage0.3370.0500.478
wrapper.normalizeD0.8170.0170.929
wrapper.pca0.3250.0490.465
wrapperCalibrationPlot0.3840.0630.562
wrapperClassic1wayAnova0.0010.0000.001
wrapperRunClustering6.3721.6409.561
write.excel1.6520.2772.361
writeMSnsetToCSV0.8370.0481.060
writeMSnsetToExcel2.1460.4353.030