Back to Multiple platform build/check report for BioC 3.21:   simplified   long
A[B]CDEFGHIJKLMNOPQRSTUVWXYZ

This page was generated on 2025-10-16 11:37 -0400 (Thu, 16 Oct 2025).

HostnameOSArch (*)R versionInstalled pkgs
nebbiolo1Linux (Ubuntu 24.04.3 LTS)x86_644.5.1 (2025-06-13) -- "Great Square Root" 4833
merida1macOS 12.7.6 Montereyx86_644.5.1 RC (2025-06-05 r88288) -- "Great Square Root" 4614
kjohnson1macOS 13.7.5 Venturaarm644.5.1 Patched (2025-06-14 r88325) -- "Great Square Root" 4555
kunpeng2Linux (openEuler 24.03 LTS)aarch64R Under development (unstable) (2025-02-19 r87757) -- "Unsuffered Consequences" 4586
Click on any hostname to see more info about the system (e.g. compilers)      (*) as reported by 'uname -p', except on Windows and Mac OS X

Package 255/2341HostnameOS / ArchINSTALLBUILDCHECKBUILD BIN
BulkSignalR 1.0.5  (landing page)
Jean-Philippe Villemin
Snapshot Date: 2025-10-13 13:40 -0400 (Mon, 13 Oct 2025)
git_url: https://git.bioconductor.org/packages/BulkSignalR
git_branch: RELEASE_3_21
git_last_commit: 84707b3
git_last_commit_date: 2025-09-27 05:41:27 -0400 (Sat, 27 Sep 2025)
nebbiolo1Linux (Ubuntu 24.04.3 LTS) / x86_64  OK    OK    OK  UNNEEDED, same version is already published
merida1macOS 12.7.6 Monterey / x86_64  OK    OK    OK    OK  UNNEEDED, same version is already published
kjohnson1macOS 13.7.5 Ventura / arm64  OK    OK    OK    OK  UNNEEDED, same version is already published
kunpeng2Linux (openEuler 24.03 LTS) / aarch64  OK    OK    OK  


CHECK results for BulkSignalR on nebbiolo1

To the developers/maintainers of the BulkSignalR package:
- Allow up to 24 hours (and sometimes 48 hours) for your latest push to git@git.bioconductor.org:packages/BulkSignalR.git to reflect on this report. See Troubleshooting Build Report for more information.
- Use the following Renviron settings to reproduce errors and warnings.
- If 'R CMD check' started to fail recently on the Linux builder(s) over a missing dependency, add the missing dependency to 'Suggests:' in your DESCRIPTION file. See Renviron.bioc for more information.

raw results


Summary

Package: BulkSignalR
Version: 1.0.5
Command: /home/biocbuild/bbs-3.21-bioc/R/bin/R CMD check --install=check:BulkSignalR.install-out.txt --library=/home/biocbuild/bbs-3.21-bioc/R/site-library --timings BulkSignalR_1.0.5.tar.gz
StartedAt: 2025-10-15 21:22:40 -0400 (Wed, 15 Oct 2025)
EndedAt: 2025-10-15 21:33:20 -0400 (Wed, 15 Oct 2025)
EllapsedTime: 639.8 seconds
RetCode: 0
Status:   OK  
CheckDir: BulkSignalR.Rcheck
Warnings: 0

Command output

##############################################################################
##############################################################################
###
### Running command:
###
###   /home/biocbuild/bbs-3.21-bioc/R/bin/R CMD check --install=check:BulkSignalR.install-out.txt --library=/home/biocbuild/bbs-3.21-bioc/R/site-library --timings BulkSignalR_1.0.5.tar.gz
###
##############################################################################
##############################################################################


* using log directory ‘/home/biocbuild/bbs-3.21-bioc/meat/BulkSignalR.Rcheck’
* using R version 4.5.1 (2025-06-13)
* using platform: x86_64-pc-linux-gnu
* R was compiled by
    gcc (Ubuntu 13.3.0-6ubuntu2~24.04) 13.3.0
    GNU Fortran (Ubuntu 13.3.0-6ubuntu2~24.04) 13.3.0
* running under: Ubuntu 24.04.3 LTS
* using session charset: UTF-8
* checking for file ‘BulkSignalR/DESCRIPTION’ ... OK
* checking extension type ... Package
* this is package ‘BulkSignalR’ version ‘1.0.5’
* package encoding: UTF-8
* checking package namespace information ... OK
* checking package dependencies ... INFO
Imports includes 26 non-default packages.
Importing from so many packages makes the package vulnerable to any of
them becoming unavailable.  Move as many as possible to Suggests and
use conditionally.
* checking if this is a source package ... OK
* checking if there is a namespace ... OK
* checking for hidden files and directories ... OK
* checking for portable file names ... OK
* checking for sufficient/correct file permissions ... OK
* checking whether package ‘BulkSignalR’ can be installed ... OK
* checking installed package size ... OK
* checking package directory ... OK
* checking ‘build’ directory ... OK
* checking DESCRIPTION meta-information ... OK
* checking top-level files ... OK
* checking for left-over files ... OK
* checking index information ... OK
* checking package subdirectories ... OK
* checking code files for non-ASCII characters ... OK
* checking R files for syntax errors ... OK
* checking whether the package can be loaded ... OK
* checking whether the package can be loaded with stated dependencies ... OK
* checking whether the package can be unloaded cleanly ... OK
* checking whether the namespace can be loaded with stated dependencies ... OK
* checking whether the namespace can be unloaded cleanly ... OK
* checking loading without being on the library search path ... OK
* checking whether startup messages can be suppressed ... OK
* checking dependencies in R code ... OK
* checking S3 generic/method consistency ... OK
* checking replacement functions ... OK
* checking foreign function calls ... OK
* checking R code for possible problems ... OK
* checking Rd files ... OK
* checking Rd metadata ... OK
* checking Rd cross-references ... OK
* checking for missing documentation entries ... OK
* checking for code/documentation mismatches ... OK
* checking Rd \usage sections ... OK
* checking Rd contents ... OK
* checking for unstated dependencies in examples ... OK
* checking contents of ‘data’ directory ... OK
* checking data for non-ASCII characters ... OK
* checking data for ASCII and uncompressed saves ... OK
* checking files in ‘vignettes’ ... OK
* checking examples ... OK
Examples with CPU (user + system) or elapsed time > 5s
               user system elapsed
simpleHeatmap 6.689  0.678   7.367
cacheClear    3.287  0.415   5.855
* checking for unstated dependencies in ‘tests’ ... OK
* checking tests ...
  Running ‘testthat.R’
 OK
* checking for unstated dependencies in vignettes ... OK
* checking package vignettes ... OK
* checking re-building of vignette outputs ... OK
* checking PDF version of manual ... OK
* DONE

Status: OK


Installation output

BulkSignalR.Rcheck/00install.out

##############################################################################
##############################################################################
###
### Running command:
###
###   /home/biocbuild/bbs-3.21-bioc/R/bin/R CMD INSTALL BulkSignalR
###
##############################################################################
##############################################################################


* installing to library ‘/home/biocbuild/bbs-3.21-bioc/R/site-library’
* installing *source* package ‘BulkSignalR’ ...
** this is package ‘BulkSignalR’ version ‘1.0.5’
** using staged installation
** R
** data
** inst
** byte-compile and prepare package for lazy loading
** help
*** installing help indices
*** copying figures
** building package indices
** installing vignettes
** testing if installed package can be loaded from temporary location
** testing if installed package can be loaded from final location
** testing if installed package keeps a record of temporary installation path
* DONE (BulkSignalR)

Tests output

BulkSignalR.Rcheck/tests/testthat.Rout


R version 4.5.1 (2025-06-13) -- "Great Square Root"
Copyright (C) 2025 The R Foundation for Statistical Computing
Platform: x86_64-pc-linux-gnu

R is free software and comes with ABSOLUTELY NO WARRANTY.
You are welcome to redistribute it under certain conditions.
Type 'license()' or 'licence()' for distribution details.

R is a collaborative project with many contributors.
Type 'contributors()' for more information and
'citation()' on how to cite R or R packages in publications.

Type 'demo()' for some demos, 'help()' for on-line help, or
'help.start()' for an HTML browser interface to help.
Type 'q()' to quit R.

> library(testthat)
> library(BulkSignalR)
Local "resources" are up to date.

> test_check("BulkSignalR")
[ FAIL 0 | WARN 0 | SKIP 0 | PASS 1 ]
> 
> proc.time()
   user  system elapsed 
 14.049   0.928  15.929 

Example timings

BulkSignalR.Rcheck/BulkSignalR-Ex.timings

nameusersystemelapsed
BSRClusterComp-class0.0020.0000.003
BSRClusterComp0.2280.0130.241
BSRDataModel-class0.0360.0050.041
BSRDataModel0.1490.0030.153
BSRDataModelComp-class0.0040.0010.005
BSRDataModelComp0.1520.0050.157
BSRInference-class0.0050.0010.004
BSRInference3.1150.1793.294
BSRInferenceComp-class0.0050.0010.007
BSRInferenceComp1.0740.0791.153
BSRSignature-class0.0020.0000.002
BSRSignature0.0290.0000.029
BSRSignatureComp-class0.0040.0000.004
BSRSignatureComp0.0120.0010.013
LRinter0.0010.0000.001
LRinterScore0.0020.0010.003
LRinterShort0.0010.0020.003
addClusterComp0.1980.0020.200
alluvialPlot0.5310.0020.533
assignCellTypesToInteractions0.6320.0100.642
bubblePlotPathwaysLR0.4520.0210.472
cacheClear3.2870.4155.855
cacheInfo0.0990.0030.103
cacheVersion0.2580.0080.608
cellTypeFrequency0.6700.1280.798
cellularNetwork0.5670.0680.634
cellularNetworkTable0.5570.0310.588
chordDiagramLR1.1670.0831.250
coerce0.0010.0000.002
colClusterA000
colClusterB000
comparison000
comparisonName000
convertToHuman0.2170.0612.257
createResources0.2800.0390.929
differentialStats0.0010.0010.001
findOrthoGenes0.1390.0620.462
generateSpatialPlots1.7940.5012.295
getLRIntracellNetwork1.7730.1031.877
getLRNetwork0.0330.0020.034
getPathwayStats0.0130.0030.016
getResource0.2750.0180.293
inferenceParameters0.0010.0000.000
initialOrganism0.0010.0010.002
initialOrthologs0.0020.0010.002
learnParameters2.5150.1172.634
ligands0.0010.0000.001
logTransformed0.0010.0010.002
maxLigandSpatialCounts0.0470.0070.054
mu000
ncounts0.0000.0010.001
normalization0.0010.0000.001
parameters0.0010.0000.001
pathways000
receptors0.0000.0010.001
reduceToBestPathway0.0810.0030.084
reduceToLigand0.0330.0010.034
reduceToPathway0.0710.0010.072
reduceToReceptor0.0130.0010.014
relateToGeneSet0.0710.0000.072
removeClusterComp0.2140.0070.221
rescoreInference0.0320.0010.033
resetLRdb0.0110.0030.014
resetNetwork0.0070.0000.007
resetPathways0.2670.0070.274
resetToInitialOrganism0.1480.0040.152
scoreLRGeneSignatures1.2280.1031.332
scoreSignatures0.2650.0020.267
separatedLRPlot1.6170.0091.626
signatureHeatmaps0.0220.0000.023
simpleHeatmap6.6890.6787.367
smoothSpatialCounts0.0480.0010.048
sourceComparisonName000
spatialAssociation0.0520.0010.053
spatialAssociationPlot3.5530.0893.643
spatialDiversityPlot0.9160.0110.927
spatialIndexPlot1.4040.0141.418
spatialPlot1.1180.0041.123
summarizedCellularNetwork0.5700.0020.571
tgCorr0.0010.0000.000
tgExpr000
tgGenes000
tgLogFC0.0000.0000.001
tgPval000
updateInference0.0840.0020.086