Back to Multiple platform build/check report for BioC 3.21:   simplified   long
A[B]CDEFGHIJKLMNOPQRSTUVWXYZ

This page was generated on 2025-10-16 11:37 -0400 (Thu, 16 Oct 2025).

HostnameOSArch (*)R versionInstalled pkgs
nebbiolo1Linux (Ubuntu 24.04.3 LTS)x86_644.5.1 (2025-06-13) -- "Great Square Root" 4833
merida1macOS 12.7.6 Montereyx86_644.5.1 RC (2025-06-05 r88288) -- "Great Square Root" 4614
kjohnson1macOS 13.7.5 Venturaarm644.5.1 Patched (2025-06-14 r88325) -- "Great Square Root" 4555
kunpeng2Linux (openEuler 24.03 LTS)aarch64R Under development (unstable) (2025-02-19 r87757) -- "Unsuffered Consequences" 4586
Click on any hostname to see more info about the system (e.g. compilers)      (*) as reported by 'uname -p', except on Windows and Mac OS X

Package 217/2341HostnameOS / ArchINSTALLBUILDCHECKBUILD BIN
BioNAR 1.10.0  (landing page)
Anatoly Sorokin
Snapshot Date: 2025-10-13 13:40 -0400 (Mon, 13 Oct 2025)
git_url: https://git.bioconductor.org/packages/BioNAR
git_branch: RELEASE_3_21
git_last_commit: d3036b1
git_last_commit_date: 2025-04-15 12:58:11 -0400 (Tue, 15 Apr 2025)
nebbiolo1Linux (Ubuntu 24.04.3 LTS) / x86_64  OK    OK    ERROR  
merida1macOS 12.7.6 Monterey / x86_64  OK    OK    ERROR    OK  
kjohnson1macOS 13.7.5 Ventura / arm64  OK    OK    ERROR    OK  
kunpeng2Linux (openEuler 24.03 LTS) / aarch64  OK    ERROR  skipped


CHECK results for BioNAR on nebbiolo1

To the developers/maintainers of the BioNAR package:
- Allow up to 24 hours (and sometimes 48 hours) for your latest push to git@git.bioconductor.org:packages/BioNAR.git to reflect on this report. See Troubleshooting Build Report for more information.
- Use the following Renviron settings to reproduce errors and warnings.
- If 'R CMD check' started to fail recently on the Linux builder(s) over a missing dependency, add the missing dependency to 'Suggests:' in your DESCRIPTION file. See Renviron.bioc for more information.

raw results


Summary

Package: BioNAR
Version: 1.10.0
Command: /home/biocbuild/bbs-3.21-bioc/R/bin/R CMD check --install=check:BioNAR.install-out.txt --library=/home/biocbuild/bbs-3.21-bioc/R/site-library --timings BioNAR_1.10.0.tar.gz
StartedAt: 2025-10-15 21:13:47 -0400 (Wed, 15 Oct 2025)
EndedAt: 2025-10-15 21:21:45 -0400 (Wed, 15 Oct 2025)
EllapsedTime: 478.6 seconds
RetCode: 1
Status:   ERROR  
CheckDir: BioNAR.Rcheck
Warnings: NA

Command output

##############################################################################
##############################################################################
###
### Running command:
###
###   /home/biocbuild/bbs-3.21-bioc/R/bin/R CMD check --install=check:BioNAR.install-out.txt --library=/home/biocbuild/bbs-3.21-bioc/R/site-library --timings BioNAR_1.10.0.tar.gz
###
##############################################################################
##############################################################################


* using log directory ‘/home/biocbuild/bbs-3.21-bioc/meat/BioNAR.Rcheck’
* using R version 4.5.1 (2025-06-13)
* using platform: x86_64-pc-linux-gnu
* R was compiled by
    gcc (Ubuntu 13.3.0-6ubuntu2~24.04) 13.3.0
    GNU Fortran (Ubuntu 13.3.0-6ubuntu2~24.04) 13.3.0
* running under: Ubuntu 24.04.3 LTS
* using session charset: UTF-8
* checking for file ‘BioNAR/DESCRIPTION’ ... OK
* this is package ‘BioNAR’ version ‘1.10.0’
* package encoding: UTF-8
* checking package namespace information ... OK
* checking package dependencies ... OK
* checking if this is a source package ... OK
* checking if there is a namespace ... OK
* checking for hidden files and directories ... OK
* checking for portable file names ... OK
* checking for sufficient/correct file permissions ... OK
* checking whether package ‘BioNAR’ can be installed ... OK
* checking installed package size ... OK
* checking package directory ... OK
* checking ‘build’ directory ... OK
* checking DESCRIPTION meta-information ... OK
* checking top-level files ... OK
* checking for left-over files ... OK
* checking index information ... OK
* checking package subdirectories ... OK
* checking code files for non-ASCII characters ... OK
* checking R files for syntax errors ... OK
* checking whether the package can be loaded ... OK
* checking whether the package can be loaded with stated dependencies ... OK
* checking whether the package can be unloaded cleanly ... OK
* checking whether the namespace can be loaded with stated dependencies ... OK
* checking whether the namespace can be unloaded cleanly ... OK
* checking loading without being on the library search path ... OK
* checking dependencies in R code ... NOTE
Package in Depends field not imported from: ‘Rdpack’
  These packages need to be imported from (in the NAMESPACE file)
  for when this namespace is loaded but not attached.
There are ::: calls to the package's namespace in its code. A package
  almost never needs to use ::: for its own objects:
  ‘addNoise’ ‘gofs’ ‘highlightRate’ ‘plotSigmoid’
* checking S3 generic/method consistency ... OK
* checking replacement functions ... OK
* checking foreign function calls ... OK
* checking R code for possible problems ... OK
* checking Rd files ... OK
* checking Rd metadata ... OK
* checking Rd cross-references ... NOTE
Unknown package ‘clusterCons’ in Rd xrefs
* checking for missing documentation entries ... OK
* checking for code/documentation mismatches ... OK
* checking Rd \usage sections ... OK
* checking Rd contents ... OK
* checking for unstated dependencies in examples ... OK
* checking contents of ‘data’ directory ... OK
* checking data for non-ASCII characters ... OK
* checking LazyData ... OK
* checking data for ASCII and uncompressed saves ... OK
* checking files in ‘vignettes’ ... OK
* checking examples ... OK
Examples with CPU (user + system) or elapsed time > 5s
                           user system elapsed
clusteringSummary        11.981  0.026  12.237
plotEntropy               9.268  0.154   9.423
calcEntropy               8.393  0.207   8.601
addEdgeAtts               7.743  0.285   8.035
getCentralityMatrix       7.883  0.145   8.032
getGraphCentralityECDF    7.964  0.035   7.999
getEntropy                7.919  0.067   7.986
annotateTopOntoOVG        7.097  0.135   7.233
runPermDisease            6.012  0.091   6.103
FitDegree                 0.896  0.013   5.194
getRandomGraphCentrality  0.614  0.008   9.959
* checking for unstated dependencies in ‘tests’ ... OK
* checking tests ...
  Running ‘testthat.R’
 ERROR
Running the tests in ‘tests/testthat.R’ failed.
Last 13 lines of output:
  [ FAIL 1 | WARN 0 | SKIP 2 | PASS 124 ]
  
  ══ Skipped tests (2) ═══════════════════════════════════════════════════════════
  • On CRAN (2): 'test_bridgeness.R:38:5', 'test_bridgeness.R:81:5'
  
  ══ Failed tests ════════════════════════════════════════════════════════════════
  ── Failure ('test_bridgeness.R:101:5'): Norm Modularity ────────────────────────
  `nm` (`actual`) not equal to 0.009390085 (`expected`).
  
    `actual`: 0.0070
  `expected`: 0.0094
  
  [ FAIL 1 | WARN 0 | SKIP 2 | PASS 124 ]
  Error: Test failures
  Execution halted
* checking for unstated dependencies in vignettes ... OK
* checking package vignettes ... OK
* checking re-building of vignette outputs ... OK
* checking PDF version of manual ... OK
* DONE

Status: 1 ERROR, 2 NOTEs
See
  ‘/home/biocbuild/bbs-3.21-bioc/meat/BioNAR.Rcheck/00check.log’
for details.


Installation output

BioNAR.Rcheck/00install.out

##############################################################################
##############################################################################
###
### Running command:
###
###   /home/biocbuild/bbs-3.21-bioc/R/bin/R CMD INSTALL BioNAR
###
##############################################################################
##############################################################################


* installing to library ‘/home/biocbuild/bbs-3.21-bioc/R/site-library’
* installing *source* package ‘BioNAR’ ...
** this is package ‘BioNAR’ version ‘1.10.0’
** using staged installation
** R
** data
*** moving datasets to lazyload DB
** inst
** byte-compile and prepare package for lazy loading
** help
*** installing help indices
** building package indices
** installing vignettes
** testing if installed package can be loaded from temporary location
** testing if installed package can be loaded from final location
** testing if installed package keeps a record of temporary installation path
* DONE (BioNAR)

Tests output

BioNAR.Rcheck/tests/testthat.Rout.fail


R version 4.5.1 (2025-06-13) -- "Great Square Root"
Copyright (C) 2025 The R Foundation for Statistical Computing
Platform: x86_64-pc-linux-gnu

R is free software and comes with ABSOLUTELY NO WARRANTY.
You are welcome to redistribute it under certain conditions.
Type 'license()' or 'licence()' for distribution details.

R is a collaborative project with many contributors.
Type 'contributors()' for more information and
'citation()' on how to cite R or R packages in publications.

Type 'demo()' for some demos, 'help()' for on-line help, or
'help.start()' for an HTML browser interface to help.
Type 'q()' to quit R.

> library(testthat)
> library(BioNAR)
Loading required package: igraph

Attaching package: 'igraph'

The following object is masked from 'package:testthat':

    compare

The following objects are masked from 'package:stats':

    decompose, spectrum

The following object is masked from 'package:base':

    union

Loading required package: poweRlaw
Loading required package: latex2exp
Loading required package: RSpectra
Loading required package: Rdpack



Attaching package: 'BioNAR'

The following object is masked from 'package:igraph':

    permute

> 
> test_check("BioNAR")
[ FAIL 1 | WARN 0 | SKIP 2 | PASS 124 ]

══ Skipped tests (2) ═══════════════════════════════════════════════════════════
• On CRAN (2): 'test_bridgeness.R:38:5', 'test_bridgeness.R:81:5'

══ Failed tests ════════════════════════════════════════════════════════════════
── Failure ('test_bridgeness.R:101:5'): Norm Modularity ────────────────────────
`nm` (`actual`) not equal to 0.009390085 (`expected`).

  `actual`: 0.0070
`expected`: 0.0094

[ FAIL 1 | WARN 0 | SKIP 2 | PASS 124 ]
Error: Test failures
Execution halted

Example timings

BioNAR.Rcheck/BioNAR-Ex.timings

nameusersystemelapsed
FitDegree0.8960.0135.194
addEdgeAtts7.7430.2858.035
annotateGOont3.5830.2063.789
annotateGeneNames0.2350.0050.240
annotateGoBP4.3320.0994.432
annotateGoCC3.3290.0393.368
annotateGoMF3.4920.0473.540
annotatePresynaptic1.9220.0972.019
annotateSCHanno4.5330.0234.558
annotateTopOntoOVG7.0970.1357.233
annotateVertex0.0030.0010.003
applpMatrixToGraph0.0010.0010.002
buildNetwork0.0030.0000.003
calcAllClustering4.6930.0294.722
calcBridgeness0.0660.0120.079
calcCentrality0.1160.0270.143
calcCentralityExternalDistances0.5200.0410.561
calcCentralityInternalDistances0.5140.0620.577
calcClustering0.0040.0010.004
calcDiseasePairs0.4960.0340.530
calcEntropy8.3930.2078.601
calcMembership0.0050.0010.006
calcReclusterMatrix0.0370.0010.039
calcSparsness3.2360.0443.281
clusterORA0.3620.0210.383
clusteringSummary11.981 0.02612.237
degreeBinnedGDAs0.2640.0310.295
escapeAnnotation0.0010.0000.001
evalCentralitySignificance0.5990.0580.659
findLCC0.0030.0020.005
getAnnotationList0.0750.0010.077
getAnnotationVertexList0.0860.0060.092
getBridgeness0.0580.0070.065
getCentralityMatrix7.8830.1458.032
getClusterSubgraphByID0.0180.0010.019
getClustering0.0190.0010.021
getCommunityGraph0.0220.0100.031
getDType0.0010.0000.000
getDYNAMO0.0310.0050.035
getDiseases0.0010.0000.000
getEntropy7.9190.0677.986
getEntropyRate0.0050.0000.005
getGNP0.0180.0000.019
getGraphCentralityECDF7.9640.0357.999
getPA0.0190.0000.019
getRandomGraphCentrality0.6140.0089.959
getRobustness0.4720.0050.476
layoutByCluster0.1130.0000.113
layoutByRecluster0.0990.0020.100
makeConsensusMatrix0.4740.0210.496
makeMembership0.0030.0000.002
metlMatrix0.0090.0000.008
normModularity3.6760.0543.729
permute0.0000.0000.001
plotBridgeness0.4560.0350.491
plotEntropy9.2680.1549.423
prepareGDA0.2290.0040.233
recluster0.0330.0010.034
removeVertexTerm0.0040.0000.005
runPermDisease6.0120.0916.103
sampleDegBinnedGDA0.2950.0070.303
sampleGraphClust0.0240.0010.025
unescapeAnnotation0.0010.0000.001
zeroNA0.0000.0010.000