Back to Multiple platform build/check report for BioC 3.21:   simplified   long
[A]BCDEFGHIJKLMNOPQRSTUVWXYZ

This page was generated on 2025-10-16 11:37 -0400 (Thu, 16 Oct 2025).

HostnameOSArch (*)R versionInstalled pkgs
nebbiolo1Linux (Ubuntu 24.04.3 LTS)x86_644.5.1 (2025-06-13) -- "Great Square Root" 4833
merida1macOS 12.7.6 Montereyx86_644.5.1 RC (2025-06-05 r88288) -- "Great Square Root" 4614
kjohnson1macOS 13.7.5 Venturaarm644.5.1 Patched (2025-06-14 r88325) -- "Great Square Root" 4555
kunpeng2Linux (openEuler 24.03 LTS)aarch64R Under development (unstable) (2025-02-19 r87757) -- "Unsuffered Consequences" 4586
Click on any hostname to see more info about the system (e.g. compilers)      (*) as reported by 'uname -p', except on Windows and Mac OS X

Package 59/2341HostnameOS / ArchINSTALLBUILDCHECKBUILD BIN
AlpsNMR 4.10.1  (landing page)
Sergio Oller Moreno
Snapshot Date: 2025-10-13 13:40 -0400 (Mon, 13 Oct 2025)
git_url: https://git.bioconductor.org/packages/AlpsNMR
git_branch: RELEASE_3_21
git_last_commit: ba4d4d4
git_last_commit_date: 2025-09-24 17:42:22 -0400 (Wed, 24 Sep 2025)
nebbiolo1Linux (Ubuntu 24.04.3 LTS) / x86_64  OK    OK    OK  UNNEEDED, same version is already published
merida1macOS 12.7.6 Monterey / x86_64  OK    OK    OK    OK  UNNEEDED, same version is already published
kjohnson1macOS 13.7.5 Ventura / arm64  OK    OK    OK    OK  UNNEEDED, same version is already published
kunpeng2Linux (openEuler 24.03 LTS) / aarch64  OK    ERROR  skipped


CHECK results for AlpsNMR on nebbiolo1

To the developers/maintainers of the AlpsNMR package:
- Allow up to 24 hours (and sometimes 48 hours) for your latest push to git@git.bioconductor.org:packages/AlpsNMR.git to reflect on this report. See Troubleshooting Build Report for more information.
- Use the following Renviron settings to reproduce errors and warnings.
- If 'R CMD check' started to fail recently on the Linux builder(s) over a missing dependency, add the missing dependency to 'Suggests:' in your DESCRIPTION file. See Renviron.bioc for more information.

raw results


Summary

Package: AlpsNMR
Version: 4.10.1
Command: /home/biocbuild/bbs-3.21-bioc/R/bin/R CMD check --install=check:AlpsNMR.install-out.txt --library=/home/biocbuild/bbs-3.21-bioc/R/site-library --timings AlpsNMR_4.10.1.tar.gz
StartedAt: 2025-10-15 20:44:28 -0400 (Wed, 15 Oct 2025)
EndedAt: 2025-10-15 20:49:15 -0400 (Wed, 15 Oct 2025)
EllapsedTime: 287.4 seconds
RetCode: 0
Status:   OK  
CheckDir: AlpsNMR.Rcheck
Warnings: 0

Command output

##############################################################################
##############################################################################
###
### Running command:
###
###   /home/biocbuild/bbs-3.21-bioc/R/bin/R CMD check --install=check:AlpsNMR.install-out.txt --library=/home/biocbuild/bbs-3.21-bioc/R/site-library --timings AlpsNMR_4.10.1.tar.gz
###
##############################################################################
##############################################################################


* using log directory ‘/home/biocbuild/bbs-3.21-bioc/meat/AlpsNMR.Rcheck’
* using R version 4.5.1 (2025-06-13)
* using platform: x86_64-pc-linux-gnu
* R was compiled by
    gcc (Ubuntu 13.3.0-6ubuntu2~24.04) 13.3.0
    GNU Fortran (Ubuntu 13.3.0-6ubuntu2~24.04) 13.3.0
* running under: Ubuntu 24.04.3 LTS
* using session charset: UTF-8
* checking for file ‘AlpsNMR/DESCRIPTION’ ... OK
* checking extension type ... Package
* this is package ‘AlpsNMR’ version ‘4.10.1’
* package encoding: UTF-8
* checking package namespace information ... OK
* checking package dependencies ... INFO
Imports includes 26 non-default packages.
Importing from so many packages makes the package vulnerable to any of
them becoming unavailable.  Move as many as possible to Suggests and
use conditionally.
* checking if this is a source package ... OK
* checking if there is a namespace ... OK
* checking for hidden files and directories ... OK
* checking for portable file names ... OK
* checking for sufficient/correct file permissions ... OK
* checking whether package ‘AlpsNMR’ can be installed ... OK
* checking installed package size ... OK
* checking package directory ... OK
* checking ‘build’ directory ... OK
* checking DESCRIPTION meta-information ... OK
* checking top-level files ... OK
* checking for left-over files ... OK
* checking index information ... OK
* checking package subdirectories ... OK
* checking code files for non-ASCII characters ... OK
* checking R files for syntax errors ... OK
* checking whether the package can be loaded ... OK
* checking whether the package can be loaded with stated dependencies ... OK
* checking whether the package can be unloaded cleanly ... OK
* checking whether the namespace can be loaded with stated dependencies ... OK
* checking whether the namespace can be unloaded cleanly ... OK
* checking loading without being on the library search path ... OK
* checking dependencies in R code ... OK
* checking S3 generic/method consistency ... OK
* checking replacement functions ... OK
* checking foreign function calls ... OK
* checking R code for possible problems ... OK
* checking Rd files ... OK
* checking Rd metadata ... OK
* checking Rd cross-references ... NOTE
Non-topic package-anchored link(s) in Rd file 'reexports.Rd':
  ‘[magrittr:pipe]{%>%}’

See section 'Cross-references' in the 'Writing R Extensions' manual.

Found the following Rd file(s) with Rd \link{} targets missing package
anchors:
  filter.nmr_dataset_family.Rd: dplyr
Please provide package anchors for all Rd \link{} targets not in the
package itself and the base packages.
* checking for missing documentation entries ... OK
* checking for code/documentation mismatches ... OK
* checking Rd \usage sections ... OK
* checking Rd contents ... OK
* checking for unstated dependencies in examples ... OK
* checking contents of ‘data’ directory ... OK
* checking data for non-ASCII characters ... OK
* checking data for ASCII and uncompressed saves ... OK
* checking files in ‘vignettes’ ... OK
* checking examples ... OK
Examples with CPU (user + system) or elapsed time > 5s
                                     user system elapsed
Peak_detection                      8.075  1.851   7.135
SummarizedExperiment_to_nmr_data_1r 6.566  0.860   6.803
permutation_test_plot               4.091  2.008   1.557
nmr_pca_outliers_robust             4.983  1.037   5.234
* checking for unstated dependencies in ‘tests’ ... OK
* checking tests ...
  Running ‘testthat.R’
 OK
* checking for unstated dependencies in vignettes ... OK
* checking package vignettes ... OK
* checking re-building of vignette outputs ... OK
* checking PDF version of manual ... OK
* DONE

Status: 1 NOTE
See
  ‘/home/biocbuild/bbs-3.21-bioc/meat/AlpsNMR.Rcheck/00check.log’
for details.


Installation output

AlpsNMR.Rcheck/00install.out

##############################################################################
##############################################################################
###
### Running command:
###
###   /home/biocbuild/bbs-3.21-bioc/R/bin/R CMD INSTALL AlpsNMR
###
##############################################################################
##############################################################################


* installing to library ‘/home/biocbuild/bbs-3.21-bioc/R/site-library’
* installing *source* package ‘AlpsNMR’ ...
** this is package ‘AlpsNMR’ version ‘4.10.1’
** using staged installation
** R
** data
** inst
** byte-compile and prepare package for lazy loading
** help
*** installing help indices
*** copying figures
** building package indices
** installing vignettes
** testing if installed package can be loaded from temporary location
** testing if installed package can be loaded from final location
** testing if installed package keeps a record of temporary installation path
* DONE (AlpsNMR)

Tests output

AlpsNMR.Rcheck/tests/testthat.Rout


R version 4.5.1 (2025-06-13) -- "Great Square Root"
Copyright (C) 2025 The R Foundation for Statistical Computing
Platform: x86_64-pc-linux-gnu

R is free software and comes with ABSOLUTELY NO WARRANTY.
You are welcome to redistribute it under certain conditions.
Type 'license()' or 'licence()' for distribution details.

R is a collaborative project with many contributors.
Type 'contributors()' for more information and
'citation()' on how to cite R or R packages in publications.

Type 'demo()' for some demos, 'help()' for on-line help, or
'help.start()' for an HTML browser interface to help.
Type 'q()' to quit R.

> library(testthat)
> library(AlpsNMR)

Attaching package: 'AlpsNMR'

The following object is masked from 'package:stats':

    filter

> 
> test_check("AlpsNMR")
[ FAIL 0 | WARN 0 | SKIP 1 | PASS 93 ]

══ Skipped tests (1) ═══════════════════════════════════════════════════════════
• On Bioconductor (1): 'test_rDolphin.R:2:5'

[ FAIL 0 | WARN 0 | SKIP 1 | PASS 93 ]
> 
> proc.time()
   user  system elapsed 
 20.987   6.680  20.424 

Example timings

AlpsNMR.Rcheck/AlpsNMR-Ex.timings

nameusersystemelapsed
AlpsNMR-package1.8010.3191.611
HMDB_blood0.0040.0020.007
HMDB_cell0.0000.0020.003
HMDB_urine0.0040.0010.005
Parameters_blood0.0010.0010.002
Parameters_cell0.0020.0000.002
Parameters_urine0.0000.0020.002
Peak_detection8.0751.8517.135
Pipelines0.0000.0020.002
ROI_blood0.0020.0010.003
ROI_cell0.0030.0000.003
ROI_urine0.0020.0010.003
SummarizedExperiment_to_nmr_data_1r6.5660.8606.803
SummarizedExperiment_to_nmr_dataset_peak_table1.0360.5260.897
bp_VIP_analysis2.6181.5782.628
bp_kfold_VIP_analysis0.8610.6440.642
download_MTBLS242000
file_lister0.0590.0120.070
files_to_rDolphin0.0000.0010.001
filter.nmr_dataset_family0.6880.3760.539
format.nmr_dataset0.7090.5220.537
format.nmr_dataset_1D0.7520.5220.590
format.nmr_dataset_peak_table0.8580.6780.779
get_integration_with_metadata0.0290.0090.038
hmdb0.0440.0120.056
is.nmr_dataset0.7310.5830.580
is.nmr_dataset_1D0.7750.6420.661
is.nmr_dataset_peak_table0.9320.6870.757
load_and_save_functions0.6470.5770.521
models_stability_plot_bootstrap0.0020.0000.002
models_stability_plot_plsda0.3390.4120.381
new_nmr_dataset0.0010.0010.002
new_nmr_dataset_1D0.0240.0380.002
new_nmr_dataset_peak_table0.8410.6080.709
nmr_autophase0.2350.1120.320
nmr_baseline_estimation0.0100.0010.011
nmr_baseline_removal0.0040.0010.005
nmr_baseline_threshold0.0000.0010.001
nmr_baseline_threshold_plot0.3100.0570.367
nmr_batman0.0040.0020.005
nmr_batman_options000
nmr_build_peak_table0.0370.0170.054
nmr_data0.0510.0040.054
nmr_data_1r_to_SummarizedExperiment1.0040.6390.930
nmr_data_analysis0.4340.5880.485
nmr_dataset0.0000.0010.002
nmr_dataset_1D0.0010.0010.001
nmr_dataset_peak_table_to_SummarizedExperiment1.0210.6740.942
nmr_exclude_region0.0060.0010.007
nmr_export_data_1r0.7680.6240.641
nmr_get_peak_distances0.0100.0000.011
nmr_identify_regions_blood0.0100.0040.015
nmr_identify_regions_cell0.0090.0000.009
nmr_identify_regions_urine0.0110.0030.014
nmr_integrate_regions0.0060.0020.008
nmr_interpolate_1D1.5661.4151.446
nmr_meta_add1.8691.4111.692
nmr_meta_export0.7750.6710.615
nmr_meta_get0.7360.6250.598
nmr_meta_get_column0.6990.5050.550
nmr_meta_groups0.7770.6210.622
nmr_normalize0.3150.0410.356
nmr_pca_build_model2.5831.6852.676
nmr_pca_outliers0.8000.4880.652
nmr_pca_outliers_filter0.9020.4620.719
nmr_pca_outliers_plot000
nmr_pca_outliers_robust4.9831.0375.234
nmr_pca_plots0.5000.0590.559
nmr_peak_clustering0.0710.0010.072
nmr_ppm_resolution0.0080.0010.008
nmr_read_bruker_fid000
nmr_read_samples1.3291.1091.057
nmr_zip_bruker_samples0.2510.0130.265
peaklist_accept_peaks0.0030.0000.003
permutation_test_model0.7150.7161.572
permutation_test_plot4.0912.0081.557
plot.nmr_dataset_1D0.0030.0010.003
plot_bootstrap_multimodel0.0050.0000.004
plot_interactive1.6610.9300.720
plot_plsda_multimodel0.2010.4250.329
plot_plsda_samples0.1180.1570.206
plot_vip_scores0.0010.0010.003
plot_webgl0.0020.0000.002
plsda_auroc_vip_compare0.5370.4310.782
plsda_auroc_vip_method000
ppm_resolution0.0030.0000.003
print.nmr_dataset0.6760.5520.529
print.nmr_dataset_1D0.8380.6570.689
print.nmr_dataset_peak_table0.8720.5920.707
random_subsampling0.0020.0020.004
save_files_to_rDolphin0.0000.0010.000
save_profiling_output0.0000.0000.001
sub-.nmr_dataset0.7920.5400.567
sub-.nmr_dataset_1D0.7170.5380.604
sub-.nmr_dataset_peak_table0.8990.6520.849
tidy.nmr_dataset_1D0.8690.7430.793
to_ASICS0.8710.1321.003
to_ChemoSpec0.8650.5820.808
validate_nmr_dataset1.5551.2821.248
validate_nmr_dataset_family0.8720.7170.736
validate_nmr_dataset_peak_table0.0010.0010.001
zzz0.0000.0002.002