| Back to Books build report for BioC 3.20 |
This page was generated on 2025-04-02 14:30 -0400 (Wed, 02 Apr 2025).
| Hostname | OS | Arch (*) | R version | Installed pkgs |
|---|---|---|---|---|
| nebbiolo2 | Linux (Ubuntu 24.04.1 LTS) | x86_64 | 4.4.3 (2025-02-28) -- "Trophy Case" | 4764 |
| Click on any hostname to see more info about the system (e.g. compilers) (*) as reported by 'uname -p', except on Windows and Mac OS X | ||||
| Package 10/10 | Hostname | OS / Arch | INSTALL | BUILD | CHECK | ||||||||
| SingleRBook 1.16.0 (landing page) Aaron Lun
| nebbiolo2 | Linux (Ubuntu 24.04.1 LTS) / x86_64 | OK | OK | OK | ||||||||
|
To the developers/maintainers of the SingleRBook package: - Use the following Renviron settings to reproduce errors and warnings. - If 'R CMD check' started to fail recently on the Linux builder(s) over a missing dependency, add the missing dependency to 'Suggests:' in your DESCRIPTION file. See Renviron.bioc for more information. |
| Package: SingleRBook |
| Version: 1.16.0 |
| Command: rm -rf SingleRBook.book && mkdir SingleRBook.book && /home/biocbuild/BBS/utils/deploy_book.py SingleRBook_1.16.0.tar.gz SingleRBook.book |
| StartedAt: 2025-04-02 08:34:50 -0400 (Wed, 02 Apr 2025) |
| EndedAt: 2025-04-02 08:34:52 -0400 (Wed, 02 Apr 2025) |
| EllapsedTime: 2.1 seconds |
| RetCode: 0 |
| Status: OK |
| DeployDestDir: SingleRBook.book |
| Warnings: 0 |
############################################################################## ############################################################################## ### ### Running command: ### ### rm -rf SingleRBook.book && mkdir SingleRBook.book && /home/biocbuild/BBS/utils/deploy_book.py SingleRBook_1.16.0.tar.gz SingleRBook.book ### ############################################################################## ############################################################################## Deploying content from book tarball 'SingleRBook_1.16.0.tar.gz' to 'SingleRBook.book/SingleRBook/' ... OK