| Back to Multiple platform build/check report for BioC 3.20: simplified long | 
 | 
This page was generated on 2025-04-02 19:31 -0400 (Wed, 02 Apr 2025).
| Hostname | OS | Arch (*) | R version | Installed pkgs | 
|---|---|---|---|---|
| nebbiolo2 | Linux (Ubuntu 24.04.1 LTS) | x86_64 | 4.4.3 (2025-02-28) -- "Trophy Case" | 4764 | 
| palomino8 | Windows Server 2022 Datacenter | x64 | 4.4.3 (2025-02-28 ucrt) -- "Trophy Case" | 4495 | 
| merida1 | macOS 12.7.5 Monterey | x86_64 | 4.4.3 (2025-02-28) -- "Trophy Case" | 4522 | 
| kjohnson1 | macOS 13.6.6 Ventura | arm64 | 4.4.3 (2025-02-28) -- "Trophy Case" | 4449 | 
| taishan | Linux (openEuler 24.03 LTS) | aarch64 | 4.4.3 (2025-02-28) -- "Trophy Case" | 4426 | 
| Click on any hostname to see more info about the system (e.g. compilers) (*) as reported by 'uname -p', except on Windows and Mac OS X | ||||
| Package 2256/2289 | Hostname | OS / Arch | INSTALL | BUILD | CHECK | BUILD BIN | ||||||||
| vsclust 1.8.0  (landing page) Veit Schwaemmle 
 | nebbiolo2 | Linux (Ubuntu 24.04.1 LTS) / x86_64 | OK | OK | WARNINGS |  | ||||||||
| palomino8 | Windows Server 2022 Datacenter / x64 | OK | OK | WARNINGS | OK |  | ||||||||
| merida1 | macOS 12.7.5 Monterey / x86_64 | OK | OK | WARNINGS | OK |  | ||||||||
| kjohnson1 | macOS 13.6.6 Ventura / arm64 | OK | OK | WARNINGS | OK |  | ||||||||
| taishan | Linux (openEuler 24.03 LTS) / aarch64 | OK | OK | WARNINGS | ||||||||||
| To the developers/maintainers of the vsclust package: - Allow up to 24 hours (and sometimes 48 hours) for your latest push to git@git.bioconductor.org:packages/vsclust.git to reflect on this report. See Troubleshooting Build Report for more information. - Use the following Renviron settings to reproduce errors and warnings. - If 'R CMD check' started to fail recently on the Linux builder(s) over a missing dependency, add the missing dependency to 'Suggests:' in your DESCRIPTION file. See Renviron.bioc for more information. | 
| Package: vsclust | 
| Version: 1.8.0 | 
| Command: rm -rf vsclust.buildbin-libdir && mkdir vsclust.buildbin-libdir && F:\biocbuild\bbs-3.20-bioc\R\bin\R.exe CMD INSTALL --build --library=vsclust.buildbin-libdir vsclust_1.8.0.tar.gz | 
| StartedAt: 2025-04-01 09:28:32 -0400 (Tue, 01 Apr 2025) | 
| EndedAt: 2025-04-01 09:29:16 -0400 (Tue, 01 Apr 2025) | 
| EllapsedTime: 43.3 seconds | 
| RetCode: 0 | 
| Status: OK | 
| PackageFile: vsclust_1.8.0.zip | 
| PackageFileSize: 2.258 MiB | 
##############################################################################
##############################################################################
###
### Running command:
###
###   rm -rf vsclust.buildbin-libdir && mkdir vsclust.buildbin-libdir && F:\biocbuild\bbs-3.20-bioc\R\bin\R.exe CMD INSTALL --build --library=vsclust.buildbin-libdir vsclust_1.8.0.tar.gz
###
##############################################################################
##############################################################################
* installing *source* package 'vsclust' ...
** using staged installation
** libs
using C++ compiler: 'G__~1.EXE (GCC) 13.3.0'
g++ -std=gnu++17  -I"F:/biocbuild/bbs-3.20-bioc/R/include" -DNDEBUG  -I'F:/biocbuild/bbs-3.20-bioc/R/library/Rcpp/include'   -I"C:/rtools44/x86_64-w64-mingw32.static.posix/include"     -O2 -Wall  -mfpmath=sse -msse2 -mstackrealign  -c RcppExports.cpp -o RcppExports.o
g++ -std=gnu++17  -I"F:/biocbuild/bbs-3.20-bioc/R/include" -DNDEBUG  -I'F:/biocbuild/bbs-3.20-bioc/R/library/Rcpp/include'   -I"C:/rtools44/x86_64-w64-mingw32.static.posix/include"     -O2 -Wall  -mfpmath=sse -msse2 -mstackrealign  -c vsclust_algo.cpp -o vsclust_algo.o
vsclust_algo.cpp: In function 'double c_plusplus_means(const Rcpp::NumericMatrix&, Rcpp::NumericMatrix&, Rcpp::NumericVector&, Rcpp::NumericVector&, int, int, double, int, Rcpp::NumericMatrix&, double, Rcpp::IntegerVector&, double, double)':
vsclust_algo.cpp:380:7: warning: this 'if' clause does not guard... [-Wmisleading-indentation]
  380 |       if(verbose)
      |       ^~
vsclust_algo.cpp:383:9: note: ...this statement, but the latter is misleadingly indented as if it were guarded by the 'if'
  383 |         ermin = new_fitness;
      |         ^~~~~
g++ -std=gnu++17 -shared -s -static-libgcc -o vsclust.dll tmp.def RcppExports.o vsclust_algo.o -LC:/rtools44/x86_64-w64-mingw32.static.posix/lib/x64 -LC:/rtools44/x86_64-w64-mingw32.static.posix/lib -LF:/biocbuild/bbs-3.20-bioc/R/bin/x64 -lR
installing to F:/biocbuild/bbs-3.20-bioc/meat/vsclust.buildbin-libdir/00LOCK-vsclust/00new/vsclust/libs/x64
** R
** data
** inst
** byte-compile and prepare package for lazy loading
** help
*** installing help indices
** building package indices
** installing vignettes
** testing if installed package can be loaded from temporary location
** testing if installed package can be loaded from final location
** testing if installed package keeps a record of temporary installation path
* MD5 sums
packaged installation of 'vsclust' as vsclust_1.8.0.zip
* DONE (vsclust)