| Back to Multiple platform build/check report for BioC 3.20: simplified long |
|
This page was generated on 2024-11-20 12:07 -0500 (Wed, 20 Nov 2024).
| Hostname | OS | Arch (*) | R version | Installed pkgs |
|---|---|---|---|---|
| teran2 | Linux (Ubuntu 24.04.1 LTS) | x86_64 | 4.4.2 (2024-10-31) -- "Pile of Leaves" | 4481 |
| nebbiolo2 | Linux (Ubuntu 24.04.1 LTS) | x86_64 | 4.4.2 (2024-10-31) -- "Pile of Leaves" | 4479 |
| palomino8 | Windows Server 2022 Datacenter | x64 | 4.4.2 (2024-10-31 ucrt) -- "Pile of Leaves" | 4359 |
| lconway | macOS 12.7.1 Monterey | x86_64 | 4.4.1 (2024-06-14) -- "Race for Your Life" | 4539 |
| kunpeng2 | Linux (openEuler 22.03 LTS-SP1) | aarch64 | 4.4.1 (2024-06-14) -- "Race for Your Life" | 4493 |
| Click on any hostname to see more info about the system (e.g. compilers) (*) as reported by 'uname -p', except on Windows and Mac OS X | ||||
| Package 2207/2289 | Hostname | OS / Arch | INSTALL | BUILD | CHECK | BUILD BIN | ||||||||
| ttgsea 1.14.0 (landing page) Dongmin Jung
| teran2 | Linux (Ubuntu 24.04.1 LTS) / x86_64 | OK | OK | OK | |||||||||
| nebbiolo2 | Linux (Ubuntu 24.04.1 LTS) / x86_64 | OK | OK | OK | ||||||||||
| palomino8 | Windows Server 2022 Datacenter / x64 | OK | ERROR | skipped | skipped | |||||||||
| lconway | macOS 12.7.1 Monterey / x86_64 | OK | OK | OK | OK | |||||||||
| kunpeng2 | Linux (openEuler 22.03 LTS-SP1) / aarch64 | OK | OK | OK | ||||||||||
|
To the developers/maintainers of the ttgsea package: - Allow up to 24 hours (and sometimes 48 hours) for your latest push to git@git.bioconductor.org:packages/ttgsea.git to reflect on this report. See Troubleshooting Build Report for more information. - Use the following Renviron settings to reproduce errors and warnings. - If 'R CMD check' started to fail recently on the Linux builder(s) over a missing dependency, add the missing dependency to 'Suggests:' in your DESCRIPTION file. See Renviron.bioc for more information. |
| Package: ttgsea |
| Version: 1.14.0 |
| Command: /Library/Frameworks/R.framework/Resources/bin/R CMD check --install=check:ttgsea.install-out.txt --library=/Library/Frameworks/R.framework/Resources/library --no-vignettes --timings ttgsea_1.14.0.tar.gz |
| StartedAt: 2024-11-20 03:40:24 -0500 (Wed, 20 Nov 2024) |
| EndedAt: 2024-11-20 03:46:10 -0500 (Wed, 20 Nov 2024) |
| EllapsedTime: 346.0 seconds |
| RetCode: 0 |
| Status: OK |
| CheckDir: ttgsea.Rcheck |
| Warnings: 0 |
##############################################################################
##############################################################################
###
### Running command:
###
### /Library/Frameworks/R.framework/Resources/bin/R CMD check --install=check:ttgsea.install-out.txt --library=/Library/Frameworks/R.framework/Resources/library --no-vignettes --timings ttgsea_1.14.0.tar.gz
###
##############################################################################
##############################################################################
* using log directory ‘/Users/biocbuild/bbs-3.20-bioc/meat/ttgsea.Rcheck’
* using R version 4.4.1 (2024-06-14)
* using platform: x86_64-apple-darwin20
* R was compiled by
Apple clang version 14.0.0 (clang-1400.0.29.202)
GNU Fortran (GCC) 12.2.0
* running under: macOS Monterey 12.7.6
* using session charset: UTF-8
* using option ‘--no-vignettes’
* checking for file ‘ttgsea/DESCRIPTION’ ... OK
* checking extension type ... Package
* this is package ‘ttgsea’ version ‘1.14.0’
* checking package namespace information ... OK
* checking package dependencies ...Warning: unable to access index for repository https://CRAN.R-project.org/src/contrib:
cannot open URL 'https://CRAN.R-project.org/src/contrib/PACKAGES'
OK
* checking if this is a source package ... OK
* checking if there is a namespace ... OK
* checking for hidden files and directories ... OK
* checking for portable file names ... OK
* checking for sufficient/correct file permissions ... OK
* checking whether package ‘ttgsea’ can be installed ... OK
* checking installed package size ... OK
* checking package directory ... OK
* checking ‘build’ directory ... OK
* checking DESCRIPTION meta-information ... OK
* checking top-level files ... OK
* checking for left-over files ... OK
* checking index information ... OK
* checking package subdirectories ... OK
* checking code files for non-ASCII characters ... OK
* checking R files for syntax errors ... OK
* checking whether the package can be loaded ... OK
* checking whether the package can be loaded with stated dependencies ... OK
* checking whether the package can be unloaded cleanly ... OK
* checking whether the namespace can be loaded with stated dependencies ... OK
* checking whether the namespace can be unloaded cleanly ... OK
* checking dependencies in R code ... OK
* checking S3 generic/method consistency ... OK
* checking replacement functions ... OK
* checking foreign function calls ... OK
* checking R code for possible problems ... OK
* checking Rd files ... OK
* checking Rd metadata ... OK
* checking Rd cross-references ... OK
* checking for missing documentation entries ... OK
* checking for code/documentation mismatches ... OK
* checking Rd \usage sections ... OK
* checking Rd contents ... OK
* checking for unstated dependencies in examples ... OK
* checking files in ‘vignettes’ ... OK
* checking examples ... OK
Examples with CPU (user + system) or elapsed time > 5s
user system elapsed
fit_model 17.090 4.262 12.182
predict_model 16.263 4.663 10.801
bi_gru 7.030 1.564 10.299
text_token 7.263 0.325 4.702
token_vector 7.068 0.329 4.635
* checking for unstated dependencies in ‘tests’ ... OK
* checking tests ...
Running ‘testthat.R’
OK
* checking for unstated dependencies in vignettes ... OK
* checking package vignettes ... OK
* checking running R code from vignettes ... SKIPPED
* checking re-building of vignette outputs ... SKIPPED
* checking PDF version of manual ... OK
* DONE
Status: OK
ttgsea.Rcheck/00install.out
############################################################################## ############################################################################## ### ### Running command: ### ### /Library/Frameworks/R.framework/Resources/bin/R CMD INSTALL ttgsea ### ############################################################################## ############################################################################## * installing to library ‘/Library/Frameworks/R.framework/Versions/4.4-x86_64/Resources/library’ * installing *source* package ‘ttgsea’ ... ** using staged installation ** R ** byte-compile and prepare package for lazy loading ** help *** installing help indices ** building package indices ** installing vignettes ** testing if installed package can be loaded from temporary location ** testing if installed package can be loaded from final location ** testing if installed package keeps a record of temporary installation path * DONE (ttgsea)
ttgsea.Rcheck/tests/testthat.Rout
R version 4.4.1 (2024-06-14) -- "Race for Your Life"
Copyright (C) 2024 The R Foundation for Statistical Computing
Platform: x86_64-apple-darwin20
R is free software and comes with ABSOLUTELY NO WARRANTY.
You are welcome to redistribute it under certain conditions.
Type 'license()' or 'licence()' for distribution details.
R is a collaborative project with many contributors.
Type 'contributors()' for more information and
'citation()' on how to cite R or R packages in publications.
Type 'demo()' for some demos, 'help()' for on-line help, or
'help.start()' for an HTML browser interface to help.
Type 'q()' to quit R.
> library(testthat)
> library(ttgsea)
Loading required package: keras
>
> test_check("ttgsea")
2024-11-20 03:45:50.762251: I tensorflow/core/platform/cpu_feature_guard.cc:182] This TensorFlow binary is optimized to use available CPU instructions in performance-critical operations.
To enable the following instructions: AVX2 AVX512F AVX512_VNNI FMA, in other operations, rebuild TensorFlow with the appropriate compiler flags.
/Library/Python/3.9/site-packages/urllib3/__init__.py:34: NotOpenSSLWarning: urllib3 v2 only supports OpenSSL 1.1.1+, currently the 'ssl' module is compiled with 'LibreSSL 2.8.3'. See: https://github.com/urllib3/urllib3/issues/3020
warnings.warn(
1/45 [..............................] - ETA: 2:02 - loss: 1.6272 - pearson_correlation: 0.0369
3/45 [=>............................] - ETA: 1s - loss: 1.5798 - pearson_correlation: -0.0404
6/45 [===>..........................] - ETA: 1s - loss: 1.5371 - pearson_correlation: 0.0079
9/45 [=====>........................] - ETA: 0s - loss: 1.5775 - pearson_correlation: 0.0048
12/45 [=======>......................] - ETA: 0s - loss: 1.5862 - pearson_correlation: -0.0133
15/45 [=========>....................] - ETA: 0s - loss: 1.5709 - pearson_correlation: -0.0017
18/45 [===========>..................] - ETA: 0s - loss: 1.6049 - pearson_correlation: 0.0212
21/45 [=============>................] - ETA: 0s - loss: 1.6314 - pearson_correlation: -0.0104
24/45 [===============>..............] - ETA: 0s - loss: 1.6003 - pearson_correlation: 0.0062
27/45 [=================>............] - ETA: 0s - loss: 1.5809 - pearson_correlation: 0.0039
30/45 [===================>..........] - ETA: 0s - loss: 1.5746 - pearson_correlation: 0.0054
33/45 [=====================>........] - ETA: 0s - loss: 1.5693 - pearson_correlation: 0.0293
36/45 [=======================>......] - ETA: 0s - loss: 1.5692 - pearson_correlation: 0.0368
39/45 [=========================>....] - ETA: 0s - loss: 1.5802 - pearson_correlation: 0.0432
42/45 [===========================>..] - ETA: 0s - loss: 1.5673 - pearson_correlation: 0.0437
45/45 [==============================] - ETA: 0s - loss: 1.5607 - pearson_correlation: 0.0735
45/45 [==============================] - 4s 22ms/step - loss: 1.5607 - pearson_correlation: 0.0735
1/4 [======>.......................] - ETA: 0s
4/4 [==============================] - 0s 7ms/step
1/1 [==============================] - ETA: 0s
1/1 [==============================] - 0s 21ms/step
1/32 [..............................] - ETA: 0s
10/32 [========>.....................] - ETA: 0s
18/32 [===============>..............] - ETA: 0s
26/32 [=======================>......] - ETA: 0s
32/32 [==============================] - 0s 6ms/step
1/32 [..............................] - ETA: 0s
10/32 [========>.....................] - ETA: 0s
20/32 [=================>............] - ETA: 0s
29/32 [==========================>...] - ETA: 0s
32/32 [==============================] - 0s 6ms/step
1/1 [==============================] - ETA: 0s
1/1 [==============================] - 0s 23ms/step
1/32 [..............................] - ETA: 0s
12/32 [==========>...................] - ETA: 0s
23/32 [====================>.........] - ETA: 0s
32/32 [==============================] - 0s 5ms/step
1/32 [..............................] - ETA: 0s
11/32 [=========>....................] - ETA: 0s
21/32 [==================>...........] - ETA: 0s
28/32 [=========================>....] - ETA: 0s
32/32 [==============================] - 0s 6ms/step
1/32 [..............................] - ETA: 0s
9/32 [=======>......................] - ETA: 0s
16/32 [==============>...............] - ETA: 0s
24/32 [=====================>........] - ETA: 0s
32/32 [==============================] - 0s 7ms/step
1/32 [..............................] - ETA: 0s
11/32 [=========>....................] - ETA: 0s
22/32 [===================>..........] - ETA: 0s
32/32 [==============================] - 0s 5ms/step
[ FAIL 0 | WARN 0 | SKIP 0 | PASS 13 ]
>
> proc.time()
user system elapsed
24.021 9.003 20.084
ttgsea.Rcheck/ttgsea-Ex.timings
| name | user | system | elapsed | |
| bi_gru | 7.030 | 1.564 | 10.299 | |
| bi_lstm | 0.184 | 0.013 | 0.193 | |
| fit_model | 17.090 | 4.262 | 12.182 | |
| metric_pearson_correlation | 0.012 | 0.001 | 0.013 | |
| plot_model | 0.156 | 0.028 | 0.174 | |
| predict_model | 16.263 | 4.663 | 10.801 | |
| sampling_generator | 0.001 | 0.001 | 0.001 | |
| text_token | 7.263 | 0.325 | 4.702 | |
| token_vector | 7.068 | 0.329 | 4.635 | |