| Back to Multiple platform build/check report for BioC 3.20: simplified long | 
 | 
This page was generated on 2025-04-02 19:29 -0400 (Wed, 02 Apr 2025).
| Hostname | OS | Arch (*) | R version | Installed pkgs | 
|---|---|---|---|---|
| nebbiolo2 | Linux (Ubuntu 24.04.1 LTS) | x86_64 | 4.4.3 (2025-02-28) -- "Trophy Case" | 4764 | 
| palomino8 | Windows Server 2022 Datacenter | x64 | 4.4.3 (2025-02-28 ucrt) -- "Trophy Case" | 4495 | 
| merida1 | macOS 12.7.5 Monterey | x86_64 | 4.4.3 (2025-02-28) -- "Trophy Case" | 4522 | 
| kjohnson1 | macOS 13.6.6 Ventura | arm64 | 4.4.3 (2025-02-28) -- "Trophy Case" | 4449 | 
| taishan | Linux (openEuler 24.03 LTS) | aarch64 | 4.4.3 (2025-02-28) -- "Trophy Case" | 4426 | 
| Click on any hostname to see more info about the system (e.g. compilers) (*) as reported by 'uname -p', except on Windows and Mac OS X | ||||
| Package 2191/2289 | Hostname | OS / Arch | INSTALL | BUILD | CHECK | BUILD BIN | ||||||||
| treekoR 1.14.0  (landing page) Adam Chan 
 | nebbiolo2 | Linux (Ubuntu 24.04.1 LTS) / x86_64 | OK | OK | OK |  | ||||||||
| palomino8 | Windows Server 2022 Datacenter / x64 | OK | OK | OK | OK |  | ||||||||
| merida1 | macOS 12.7.5 Monterey / x86_64 | OK | OK | OK | OK |  | ||||||||
| kjohnson1 | macOS 13.6.6 Ventura / arm64 | OK | OK | OK | OK |  | ||||||||
| taishan | Linux (openEuler 24.03 LTS) / aarch64 | OK | OK | OK | ||||||||||
| To the developers/maintainers of the treekoR package: - Allow up to 24 hours (and sometimes 48 hours) for your latest push to git@git.bioconductor.org:packages/treekoR.git to reflect on this report. See Troubleshooting Build Report for more information. - Use the following Renviron settings to reproduce errors and warnings. - If 'R CMD check' started to fail recently on the Linux builder(s) over a missing dependency, add the missing dependency to 'Suggests:' in your DESCRIPTION file. See Renviron.bioc for more information. | 
| Package: treekoR | 
| Version: 1.14.0 | 
| Command: /home/biocbuild/bbs-3.20-bioc/R/bin/R CMD check --install=check:treekoR.install-out.txt --library=/home/biocbuild/bbs-3.20-bioc/R/site-library --timings treekoR_1.14.0.tar.gz | 
| StartedAt: 2025-04-01 03:05:46 -0400 (Tue, 01 Apr 2025) | 
| EndedAt: 2025-04-01 03:10:41 -0400 (Tue, 01 Apr 2025) | 
| EllapsedTime: 295.3 seconds | 
| RetCode: 0 | 
| Status: OK | 
| CheckDir: treekoR.Rcheck | 
| Warnings: 0 | 
##############################################################################
##############################################################################
###
### Running command:
###
###   /home/biocbuild/bbs-3.20-bioc/R/bin/R CMD check --install=check:treekoR.install-out.txt --library=/home/biocbuild/bbs-3.20-bioc/R/site-library --timings treekoR_1.14.0.tar.gz
###
##############################################################################
##############################################################################
* using log directory ‘/home/biocbuild/bbs-3.20-bioc/meat/treekoR.Rcheck’
* using R version 4.4.3 (2025-02-28)
* using platform: x86_64-pc-linux-gnu
* R was compiled by
    gcc (Ubuntu 13.3.0-6ubuntu2~24.04) 13.3.0
    GNU Fortran (Ubuntu 13.3.0-6ubuntu2~24.04) 13.3.0
* running under: Ubuntu 24.04.2 LTS
* using session charset: UTF-8
* checking for file ‘treekoR/DESCRIPTION’ ... OK
* checking extension type ... Package
* this is package ‘treekoR’ version ‘1.14.0’
* package encoding: UTF-8
* checking package namespace information ... OK
* checking package dependencies ... OK
* checking if this is a source package ... OK
* checking if there is a namespace ... OK
* checking for hidden files and directories ... OK
* checking for portable file names ... OK
* checking for sufficient/correct file permissions ... OK
* checking whether package ‘treekoR’ can be installed ... OK
* checking installed package size ... OK
* checking package directory ... OK
* checking ‘build’ directory ... OK
* checking DESCRIPTION meta-information ... OK
* checking top-level files ... OK
* checking for left-over files ... OK
* checking index information ... OK
* checking package subdirectories ... OK
* checking code files for non-ASCII characters ... OK
* checking R files for syntax errors ... OK
* checking whether the package can be loaded ... OK
* checking whether the package can be loaded with stated dependencies ... OK
* checking whether the package can be unloaded cleanly ... OK
* checking whether the namespace can be loaded with stated dependencies ... OK
* checking whether the namespace can be unloaded cleanly ... OK
* checking loading without being on the library search path ... OK
* checking dependencies in R code ... OK
* checking S3 generic/method consistency ... OK
* checking replacement functions ... OK
* checking foreign function calls ... OK
* checking R code for possible problems ... NOTE
addFreqBars: no visible binding for global variable ‘freq’
addFreqBars: no visible binding for global variable ‘xmax’
addFreqBars: no visible binding for global variable ‘y’
addFreqBars: no visible binding for global variable ‘xmin’
addFreqBars: no visible binding for global variable ‘ymin’
addFreqBars: no visible binding for global variable ‘ymax’
addFreqBars: no visible binding for global variable ‘x_label’
addFreqBars: no visible binding for global variable ‘freq_label’
addHeatMap: no visible binding for global variable ‘variable’
addHeatMap: no visible binding for global variable ‘value’
addHeatMap: no visible binding for global variable ‘y’
addHeatMap: no visible binding for global variable ‘label’
addHeatMap: no visible binding for global variable ‘.’
addHeatMap: no visible binding for global variable ‘x’
colourTree: no visible binding for global variable ‘stat_parent’
colourTree: no visible binding for global variable ‘x’
colourTree: no visible binding for global variable ‘y’
colourTree: no visible binding for global variable ‘stat_total’
colourTree: no visible binding for global variable ‘label’
getCellGMeans: no visible binding for global variable ‘cluster_id’
getCellGMeans: no visible binding for global variable ‘sample_id’
getCellProp: no visible binding for global variable ‘cluster_id’
getCellProp: no visible binding for global variable ‘sample_id’
getCellProp: no visible binding for global variable ‘.’
getClusterTree: no visible binding for global variable ‘cluster_id’
plotInteractiveHeatmap: no visible binding for global variable ‘label’
plotInteractiveHeatmap: no visible binding for global variable ‘node’
plotSigScatter: no visible binding for global variable ‘stat_total’
plotSigScatter: no visible binding for global variable ‘stat_parent’
plotSigScatter: no visible binding for global variable ‘isTip’
plotSigScatter: no visible binding for global variable ‘label’
runEdgeRTests: no visible binding for global variable ‘PValue’
runEdgeRTests: no visible binding for global variable ‘logFC’
runEdgeRTests: no visible binding for global variable ‘node’
runEdgeRTests: no visible binding for global variable ‘stat_parent’
runEdgeRTests: no visible binding for global variable ‘pval_parent’
runEdgeRTests: no visible binding for global variable ‘FDR_parent’
runEdgeRTests: no visible binding for global variable ‘PValue_total’
runEdgeRTests: no visible binding for global variable ‘logFC_total’
runEdgeRTests: no visible binding for global variable ‘stat_total’
runEdgeRTests: no visible binding for global variable ‘pval_total’
runEdgeRTests: no visible binding for global variable ‘FDR_total’
runGLMMTests: no visible binding for global variable ‘isTip’
runGLMMTests: no visible binding for global variable ‘node’
Undefined global functions or variables:
  . FDR_parent FDR_total PValue PValue_total cluster_id freq freq_label
  isTip label logFC logFC_total node pval_parent pval_total sample_id
  stat_parent stat_total value variable x x_label xmax xmin y ymax ymin
* checking Rd files ... OK
* checking Rd metadata ... OK
* checking Rd cross-references ... OK
* checking for missing documentation entries ... OK
* checking for code/documentation mismatches ... OK
* checking Rd \usage sections ... OK
* checking Rd contents ... OK
* checking for unstated dependencies in examples ... OK
* checking contents of ‘data’ directory ... OK
* checking data for non-ASCII characters ... OK
* checking data for ASCII and uncompressed saves ... OK
* checking files in ‘vignettes’ ... OK
* checking examples ... OK
* checking for unstated dependencies in ‘tests’ ... OK
* checking tests ...
  Running ‘testthat.R’
 OK
* checking for unstated dependencies in vignettes ... OK
* checking package vignettes ... OK
* checking re-building of vignette outputs ... OK
* checking PDF version of manual ... OK
* DONE
Status: 1 NOTE
See
  ‘/home/biocbuild/bbs-3.20-bioc/meat/treekoR.Rcheck/00check.log’
for details.
treekoR.Rcheck/00install.out
############################################################################## ############################################################################## ### ### Running command: ### ### /home/biocbuild/bbs-3.20-bioc/R/bin/R CMD INSTALL treekoR ### ############################################################################## ############################################################################## * installing to library ‘/home/biocbuild/bbs-3.20-bioc/R/site-library’ * installing *source* package ‘treekoR’ ... ** using staged installation ** R ** data ** inst ** byte-compile and prepare package for lazy loading ** help *** installing help indices ** building package indices ** installing vignettes ** testing if installed package can be loaded from temporary location ** testing if installed package can be loaded from final location ** testing if installed package keeps a record of temporary installation path * DONE (treekoR)
treekoR.Rcheck/tests/testthat.Rout
R version 4.4.3 (2025-02-28) -- "Trophy Case"
Copyright (C) 2025 The R Foundation for Statistical Computing
Platform: x86_64-pc-linux-gnu
R is free software and comes with ABSOLUTELY NO WARRANTY.
You are welcome to redistribute it under certain conditions.
Type 'license()' or 'licence()' for distribution details.
R is a collaborative project with many contributors.
Type 'contributors()' for more information and
'citation()' on how to cite R or R packages in publications.
Type 'demo()' for some demos, 'help()' for on-line help, or
'help.start()' for an HTML browser interface to help.
Type 'q()' to quit R.
> library(testthat)
> library(treekoR)
> 
> test_check("treekoR")
[ FAIL 0 | WARN 0 | SKIP 0 | PASS 40 ]
> 
> proc.time()
   user  system elapsed 
 21.285   0.922  22.169 
treekoR.Rcheck/treekoR-Ex.timings
| name | user | system | elapsed | |
| DeBiasi_COVID_CD8_samp | 0.741 | 0.075 | 0.816 | |
| colourTree | 2.889 | 0.111 | 2.993 | |
| getCellGMeans | 2.380 | 0.041 | 2.415 | |
| getCellProp | 1.304 | 0.006 | 1.304 | |
| getClusterTree | 0.990 | 0.009 | 0.989 | |
| getTreeResults | 1.851 | 0.007 | 1.852 | |
| hopachToPhylo | 0.962 | 0.005 | 0.961 | |
| plotInteractiveHeatmap | 3.030 | 0.040 | 3.064 | |
| runHOPACH | 1.758 | 0.046 | 1.791 | |
| testTree | 1.816 | 0.004 | 1.805 | |