| Back to Multiple platform build/check report for BioC 3.20: simplified long | 
 | 
This page was generated on 2024-11-09 21:31 -0500 (Sat, 09 Nov 2024).
| Hostname | OS | Arch (*) | R version | Installed pkgs | 
|---|---|---|---|---|
| teran2 | Linux (Ubuntu 24.04.1 LTS) | x86_64 | 4.4.1 (2024-06-14) -- "Race for Your Life" | 4505 | 
| palomino8 | Windows Server 2022 Datacenter | x64 | 4.4.1 (2024-06-14 ucrt) -- "Race for Your Life" | 4506 | 
| lconway | macOS 12.7.1 Monterey | x86_64 | 4.4.1 (2024-06-14) -- "Race for Your Life" | 4538 | 
| kjohnson3 | macOS 13.6.5 Ventura | arm64 | 4.4.1 (2024-06-14) -- "Race for Your Life" | 4486 | 
| kunpeng2 | Linux (openEuler 22.03 LTS-SP1) | aarch64 | 4.4.1 (2024-06-14) -- "Race for Your Life" | 4493 | 
| Click on any hostname to see more info about the system (e.g. compilers) (*) as reported by 'uname -p', except on Windows and Mac OS X | ||||
| Package 2175/2289 | Hostname | OS / Arch | INSTALL | BUILD | CHECK | BUILD BIN | ||||||||
| tradeSeq 1.20.0  (landing page) Hector Roux de Bezieux 
 | teran2 | Linux (Ubuntu 24.04.1 LTS) / x86_64 | OK | OK | OK |  | ||||||||
| palomino8 | Windows Server 2022 Datacenter / x64 | OK | OK | OK | OK |  | ||||||||
| lconway | macOS 12.7.1 Monterey / x86_64 | OK | OK | OK | OK |  | ||||||||
| kjohnson3 | macOS 13.6.5 Ventura / arm64 | OK | OK | OK | OK |  | ||||||||
| kunpeng2 | Linux (openEuler 22.03 LTS-SP1) / aarch64 | OK | OK | OK | ||||||||||
| To the developers/maintainers of the tradeSeq package: - Allow up to 24 hours (and sometimes 48 hours) for your latest push to git@git.bioconductor.org:packages/tradeSeq.git to reflect on this report. See Troubleshooting Build Report for more information. - Use the following Renviron settings to reproduce errors and warnings. - If 'R CMD check' started to fail recently on the Linux builder(s) over a missing dependency, add the missing dependency to 'Suggests:' in your DESCRIPTION file. See Renviron.bioc for more information. | 
| Package: tradeSeq | 
| Version: 1.20.0 | 
| Command: /Library/Frameworks/R.framework/Resources/bin/R CMD check --install=check:tradeSeq.install-out.txt --library=/Library/Frameworks/R.framework/Resources/library --no-vignettes --timings tradeSeq_1.20.0.tar.gz | 
| StartedAt: 2024-11-09 15:28:44 -0500 (Sat, 09 Nov 2024) | 
| EndedAt: 2024-11-09 15:38:43 -0500 (Sat, 09 Nov 2024) | 
| EllapsedTime: 599.9 seconds | 
| RetCode: 0 | 
| Status: OK | 
| CheckDir: tradeSeq.Rcheck | 
| Warnings: 0 | 
##############################################################################
##############################################################################
###
### Running command:
###
###   /Library/Frameworks/R.framework/Resources/bin/R CMD check --install=check:tradeSeq.install-out.txt --library=/Library/Frameworks/R.framework/Resources/library --no-vignettes --timings tradeSeq_1.20.0.tar.gz
###
##############################################################################
##############################################################################
* using log directory ‘/Users/biocbuild/bbs-3.20-bioc/meat/tradeSeq.Rcheck’
* using R version 4.4.1 (2024-06-14)
* using platform: aarch64-apple-darwin20
* R was compiled by
    Apple clang version 14.0.0 (clang-1400.0.29.202)
    GNU Fortran (GCC) 12.2.0
* running under: macOS Ventura 13.6.7
* using session charset: UTF-8
* using option ‘--no-vignettes’
* checking for file ‘tradeSeq/DESCRIPTION’ ... OK
* checking extension type ... Package
* this is package ‘tradeSeq’ version ‘1.20.0’
* package encoding: UTF-8
* checking package namespace information ... OK
* checking package dependencies ...Warning: unable to access index for repository https://CRAN.R-project.org/src/contrib:
  cannot open URL 'https://CRAN.R-project.org/src/contrib/PACKAGES'
 OK
* checking if this is a source package ... OK
* checking if there is a namespace ... OK
* checking for hidden files and directories ... OK
* checking for portable file names ... OK
* checking for sufficient/correct file permissions ... OK
* checking whether package ‘tradeSeq’ can be installed ... OK
* checking installed package size ... OK
* checking package directory ... OK
* checking ‘build’ directory ... OK
* checking DESCRIPTION meta-information ... OK
* checking top-level files ... OK
* checking for left-over files ... OK
* checking index information ... OK
* checking package subdirectories ... OK
* checking code files for non-ASCII characters ... OK
* checking R files for syntax errors ... OK
* checking whether the package can be loaded ... OK
* checking whether the package can be loaded with stated dependencies ... OK
* checking whether the package can be unloaded cleanly ... OK
* checking whether the namespace can be loaded with stated dependencies ... OK
* checking whether the namespace can be unloaded cleanly ... OK
* checking dependencies in R code ... NOTE
Namespaces in Imports field not imported from:
  ‘Biobase’ ‘igraph’
  All declared Imports should be used.
* checking S3 generic/method consistency ... OK
* checking replacement functions ... OK
* checking foreign function calls ... OK
* checking R code for possible problems ... NOTE
.earlyDETest: no visible binding for global variable ‘X1’
.earlyDETest: no visible binding for global variable ‘X2’
.findKnots: no visible binding for global variable ‘t1’
.findKnots: no visible binding for global variable ‘l1’
.plotGeneCount: no visible binding for global variable ‘dim1’
.plotGeneCount: no visible binding for global variable ‘dim2’
.plotSmoothers: no visible binding for global variable ‘time’
.plotSmoothers: no visible binding for global variable ‘gene_count’
.plotSmoothers: no visible binding for global variable ‘lineage’
.plotSmoothers_conditions: no visible binding for global variable
  ‘time’
.plotSmoothers_conditions: no visible binding for global variable
  ‘gene_count’
.plotSmoothers_conditions: no visible binding for global variable
  ‘lineage’
.plotSmoothers_conditions: no visible binding for global variable
  ‘pCol’
.plotSmoothers_sce: no visible binding for global variable ‘time’
.plotSmoothers_sce: no visible binding for global variable ‘gene_count’
.plotSmoothers_sce: no visible binding for global variable ‘lineage’
.plotSmoothers_sce: no visible binding for global variable ‘pCol’
Undefined global functions or variables:
  X1 X2 dim1 dim2 gene_count l1 lineage pCol t1 time
Consider adding
  importFrom("stats", "time")
to your NAMESPACE file.
* checking Rd files ... NOTE
checkRd: (-1) fitGAM.Rd:151-154: Lost braces in \itemize; meant \describe ?
checkRd: (-1) fitGAM.Rd:155-156: Lost braces in \itemize; meant \describe ?
checkRd: (-1) fitGAM.Rd:157-158: Lost braces in \itemize; meant \describe ?
checkRd: (-1) fitGAM.Rd:159-160: Lost braces in \itemize; meant \describe ?
* checking Rd metadata ... OK
* checking Rd cross-references ... OK
* checking for missing documentation entries ... OK
* checking for code/documentation mismatches ... OK
* checking Rd \usage sections ... OK
* checking Rd contents ... OK
* checking for unstated dependencies in examples ... OK
* checking contents of ‘data’ directory ... OK
* checking data for non-ASCII characters ... OK
* checking data for ASCII and uncompressed saves ... OK
* checking files in ‘vignettes’ ... OK
* checking examples ... OK
Examples with CPU (user + system) or elapsed time > 5s
                          user system elapsed
conditionTest           45.129  2.250  47.380
associationTest         17.027  1.341  18.382
plotSmoothers           15.454  1.496  16.951
fitGAM                  15.294  0.662  15.964
plotGeneCount           12.110  2.353  14.463
evaluateK                5.686  0.049   5.736
plot_evalutateK_results  5.469  0.201   5.671
* checking for unstated dependencies in ‘tests’ ... OK
* checking tests ...
  Running ‘testthat.R’
 OK
* checking for unstated dependencies in vignettes ... OK
* checking package vignettes ... OK
* checking running R code from vignettes ... SKIPPED
* checking re-building of vignette outputs ... SKIPPED
* checking PDF version of manual ... OK
* DONE
Status: 3 NOTEs
See
  ‘/Users/biocbuild/bbs-3.20-bioc/meat/tradeSeq.Rcheck/00check.log’
for details.
tradeSeq.Rcheck/00install.out
############################################################################## ############################################################################## ### ### Running command: ### ### /Library/Frameworks/R.framework/Resources/bin/R CMD INSTALL tradeSeq ### ############################################################################## ############################################################################## * installing to library ‘/Library/Frameworks/R.framework/Versions/4.4-arm64/Resources/library’ * installing *source* package ‘tradeSeq’ ... ** using staged installation ** R ** data ** inst ** byte-compile and prepare package for lazy loading ** help *** installing help indices ** building package indices ** installing vignettes ** testing if installed package can be loaded from temporary location ** testing if installed package can be loaded from final location ** testing if installed package keeps a record of temporary installation path * DONE (tradeSeq)
tradeSeq.Rcheck/tests/testthat.Rout
R version 4.4.1 (2024-06-14) -- "Race for Your Life"
Copyright (C) 2024 The R Foundation for Statistical Computing
Platform: aarch64-apple-darwin20
R is free software and comes with ABSOLUTELY NO WARRANTY.
You are welcome to redistribute it under certain conditions.
Type 'license()' or 'licence()' for distribution details.
R is a collaborative project with many contributors.
Type 'contributors()' for more information and
'citation()' on how to cite R or R packages in publications.
Type 'demo()' for some demos, 'help()' for on-line help, or
'help.start()' for an HTML browser interface to help.
Type 'q()' to quit R.
> library(testthat)
> library(tradeSeq)
> library(SingleCellExperiment)
Loading required package: SummarizedExperiment
Loading required package: MatrixGenerics
Loading required package: matrixStats
Attaching package: 'MatrixGenerics'
The following objects are masked from 'package:matrixStats':
    colAlls, colAnyNAs, colAnys, colAvgsPerRowSet, colCollapse,
    colCounts, colCummaxs, colCummins, colCumprods, colCumsums,
    colDiffs, colIQRDiffs, colIQRs, colLogSumExps, colMadDiffs,
    colMads, colMaxs, colMeans2, colMedians, colMins, colOrderStats,
    colProds, colQuantiles, colRanges, colRanks, colSdDiffs, colSds,
    colSums2, colTabulates, colVarDiffs, colVars, colWeightedMads,
    colWeightedMeans, colWeightedMedians, colWeightedSds,
    colWeightedVars, rowAlls, rowAnyNAs, rowAnys, rowAvgsPerColSet,
    rowCollapse, rowCounts, rowCummaxs, rowCummins, rowCumprods,
    rowCumsums, rowDiffs, rowIQRDiffs, rowIQRs, rowLogSumExps,
    rowMadDiffs, rowMads, rowMaxs, rowMeans2, rowMedians, rowMins,
    rowOrderStats, rowProds, rowQuantiles, rowRanges, rowRanks,
    rowSdDiffs, rowSds, rowSums2, rowTabulates, rowVarDiffs, rowVars,
    rowWeightedMads, rowWeightedMeans, rowWeightedMedians,
    rowWeightedSds, rowWeightedVars
Loading required package: GenomicRanges
Loading required package: stats4
Loading required package: BiocGenerics
Attaching package: 'BiocGenerics'
The following objects are masked from 'package:stats':
    IQR, mad, sd, var, xtabs
The following objects are masked from 'package:base':
    Filter, Find, Map, Position, Reduce, anyDuplicated, aperm, append,
    as.data.frame, basename, cbind, colnames, dirname, do.call,
    duplicated, eval, evalq, get, grep, grepl, intersect, is.unsorted,
    lapply, mapply, match, mget, order, paste, pmax, pmax.int, pmin,
    pmin.int, rank, rbind, rownames, sapply, saveRDS, setdiff, table,
    tapply, union, unique, unsplit, which.max, which.min
Loading required package: S4Vectors
Attaching package: 'S4Vectors'
The following object is masked from 'package:utils':
    findMatches
The following objects are masked from 'package:base':
    I, expand.grid, unname
Loading required package: IRanges
Loading required package: GenomeInfoDb
Loading required package: Biobase
Welcome to Bioconductor
    Vignettes contain introductory material; view with
    'browseVignettes()'. To cite Bioconductor, see
    'citation("Biobase")', and for packages 'citation("pkgname")'.
Attaching package: 'Biobase'
The following object is masked from 'package:MatrixGenerics':
    rowMedians
The following objects are masked from 'package:matrixStats':
    anyMissing, rowMedians
> library(slingshot)
Loading required package: princurve
Loading required package: TrajectoryUtils
> 
> test_check("tradeSeq")
2 parameter combinations, 2 use sequential method, 2 use subsampling method
Running Clustering on Parameter Combinations...
done.
2 parameter combinations, 2 use sequential method, 2 use subsampling method
Running Clustering on Parameter Combinations...
done.
2 parameter combinations, 2 use sequential method, 2 use subsampling method
Running Clustering on Parameter Combinations...
done.
2 parameter combinations, 2 use sequential method, 2 use subsampling method
Running Clustering on Parameter Combinations...
done.
2 parameter combinations, 2 use sequential method, 2 use subsampling method
Running Clustering on Parameter Combinations...
done.
2 parameter combinations, 2 use sequential method, 2 use subsampling method
Running Clustering on Parameter Combinations...
done.
[ FAIL 0 | WARN 1 | SKIP 0 | PASS 208 ]
[ FAIL 0 | WARN 1 | SKIP 0 | PASS 208 ]
> 
> proc.time()
   user  system elapsed 
170.852   6.064 179.102 
tradeSeq.Rcheck/tradeSeq-Ex.timings
| name | user | system | elapsed | |
| associationTest | 17.027 | 1.341 | 18.382 | |
| clusterExpressionPatterns | 0 | 0 | 0 | |
| conditionTest | 45.129 | 2.250 | 47.380 | |
| diffEndTest | 0.012 | 0.001 | 0.012 | |
| earlyDETest | 0.011 | 0.000 | 0.011 | |
| evaluateK | 5.686 | 0.049 | 5.736 | |
| fitGAM | 15.294 | 0.662 | 15.964 | |
| getSmootherPvalues | 0.012 | 0.000 | 0.013 | |
| getSmootherTestStats | 0.012 | 0.000 | 0.012 | |
| nknots | 0.006 | 0.000 | 0.006 | |
| patternTest | 0.01 | 0.00 | 0.01 | |
| plotGeneCount | 12.110 | 2.353 | 14.463 | |
| plotSmoothers | 15.454 | 1.496 | 16.951 | |
| plot_evalutateK_results | 5.469 | 0.201 | 5.671 | |
| predictCells | 0.006 | 0.000 | 0.006 | |
| predictSmooth | 0.009 | 0.000 | 0.010 | |
| startVsEndTest | 0.014 | 0.001 | 0.014 | |