| Back to Multiple platform build/check report for BioC 3.20: simplified long |
|
This page was generated on 2024-11-20 12:02 -0500 (Wed, 20 Nov 2024).
| Hostname | OS | Arch (*) | R version | Installed pkgs |
|---|---|---|---|---|
| teran2 | Linux (Ubuntu 24.04.1 LTS) | x86_64 | 4.4.2 (2024-10-31) -- "Pile of Leaves" | 4481 |
| nebbiolo2 | Linux (Ubuntu 24.04.1 LTS) | x86_64 | 4.4.2 (2024-10-31) -- "Pile of Leaves" | 4479 |
| palomino8 | Windows Server 2022 Datacenter | x64 | 4.4.2 (2024-10-31 ucrt) -- "Pile of Leaves" | 4359 |
| lconway | macOS 12.7.1 Monterey | x86_64 | 4.4.1 (2024-06-14) -- "Race for Your Life" | 4539 |
| kunpeng2 | Linux (openEuler 22.03 LTS-SP1) | aarch64 | 4.4.1 (2024-06-14) -- "Race for Your Life" | 4493 |
| Click on any hostname to see more info about the system (e.g. compilers) (*) as reported by 'uname -p', except on Windows and Mac OS X | ||||
| Package 1983/2289 | Hostname | OS / Arch | INSTALL | BUILD | CHECK | BUILD BIN | ||||||||
| sitePath 1.22.0 (landing page) Chengyang Ji
| teran2 | Linux (Ubuntu 24.04.1 LTS) / x86_64 | OK | OK | OK | |||||||||
| nebbiolo2 | Linux (Ubuntu 24.04.1 LTS) / x86_64 | OK | OK | OK | ||||||||||
| palomino8 | Windows Server 2022 Datacenter / x64 | OK | OK | OK | OK | |||||||||
| lconway | macOS 12.7.1 Monterey / x86_64 | OK | OK | OK | OK | |||||||||
| kunpeng2 | Linux (openEuler 22.03 LTS-SP1) / aarch64 | OK | OK | OK | ||||||||||
|
To the developers/maintainers of the sitePath package: - Allow up to 24 hours (and sometimes 48 hours) for your latest push to git@git.bioconductor.org:packages/sitePath.git to reflect on this report. See Troubleshooting Build Report for more information. - Use the following Renviron settings to reproduce errors and warnings. - If 'R CMD check' started to fail recently on the Linux builder(s) over a missing dependency, add the missing dependency to 'Suggests:' in your DESCRIPTION file. See Renviron.bioc for more information. |
| Package: sitePath |
| Version: 1.22.0 |
| Command: /home/biocbuild/bbs-3.20-bioc/R/bin/R CMD check --install=check:sitePath.install-out.txt --library=/home/biocbuild/bbs-3.20-bioc/R/site-library --timings sitePath_1.22.0.tar.gz |
| StartedAt: 2024-11-20 09:52:45 -0500 (Wed, 20 Nov 2024) |
| EndedAt: 2024-11-20 09:58:06 -0500 (Wed, 20 Nov 2024) |
| EllapsedTime: 320.3 seconds |
| RetCode: 0 |
| Status: OK |
| CheckDir: sitePath.Rcheck |
| Warnings: 0 |
##############################################################################
##############################################################################
###
### Running command:
###
### /home/biocbuild/bbs-3.20-bioc/R/bin/R CMD check --install=check:sitePath.install-out.txt --library=/home/biocbuild/bbs-3.20-bioc/R/site-library --timings sitePath_1.22.0.tar.gz
###
##############################################################################
##############################################################################
* using log directory ‘/media/volume/teran2_disk/biocbuild/bbs-3.20-bioc/meat/sitePath.Rcheck’
* using R version 4.4.2 (2024-10-31)
* using platform: x86_64-pc-linux-gnu
* R was compiled by
gcc (Ubuntu 13.2.0-23ubuntu4) 13.2.0
GNU Fortran (Ubuntu 13.2.0-23ubuntu4) 13.2.0
* running under: Ubuntu 24.04.1 LTS
* using session charset: UTF-8
* checking for file ‘sitePath/DESCRIPTION’ ... OK
* checking extension type ... Package
* this is package ‘sitePath’ version ‘1.22.0’
* package encoding: UTF-8
* checking package namespace information ... OK
* checking package dependencies ... OK
* checking if this is a source package ... OK
* checking if there is a namespace ... OK
* checking for hidden files and directories ... OK
* checking for portable file names ... OK
* checking for sufficient/correct file permissions ... OK
* checking whether package ‘sitePath’ can be installed ... OK
* used C++ compiler: ‘g++ (Ubuntu 13.2.0-23ubuntu4) 13.2.0’
* checking installed package size ... NOTE
installed size is 7.5Mb
sub-directories of 1Mb or more:
extdata 1.3Mb
libs 5.4Mb
* checking package directory ... OK
* checking ‘build’ directory ... OK
* checking DESCRIPTION meta-information ... NOTE
License stub is invalid DCF.
* checking top-level files ... OK
* checking for left-over files ... OK
* checking index information ... OK
* checking package subdirectories ... OK
* checking code files for non-ASCII characters ... OK
* checking R files for syntax errors ... OK
* checking whether the package can be loaded ... OK
* checking whether the package can be loaded with stated dependencies ... OK
* checking whether the package can be unloaded cleanly ... OK
* checking whether the namespace can be loaded with stated dependencies ... OK
* checking whether the namespace can be unloaded cleanly ... OK
* checking loading without being on the library search path ... OK
* checking dependencies in R code ... OK
* checking S3 generic/method consistency ... OK
* checking replacement functions ... OK
* checking foreign function calls ... OK
* checking R code for possible problems ... NOTE
.createSNPplot: no visible binding for global variable ‘Pos’
.createSNPplot: no visible binding for global variable ‘Accession’
.createSNPplot: no visible binding for global variable ‘SNP’
plot.fixationPath: no visible binding for global variable ‘branch’
plot.fixationPath: no visible binding for global variable ‘SNPs’
plot.fixationSites: no visible binding for global variable ‘group’
plot.fixationSites: no visible binding for global variable ‘branch’
plot.fixationSites: no visible binding for global variable ‘SNPs’
plot.parallelSites: no visible binding for global variable ‘branch’
plot.parallelSites: no visible binding for global variable ‘SNPs’
plot.sitePath: no visible binding for global variable ‘branch’
plot.sitePath: no visible binding for global variable ‘SNPs’
plotMutSites.lineagePath: no visible binding for global variable ‘node’
plotMutSites.paraFixSites: no visible binding for global variable
‘group’
plotMutSites.paraFixSites: no visible binding for global variable
‘branch’
plotMutSites.paraFixSites: no visible binding for global variable
‘SNPs’
plotSingleSite.parallelSites: no visible binding for global variable
‘branch’
plotSingleSite.parallelSites: no visible binding for global variable
‘SNPs’
Undefined global functions or variables:
Accession Pos SNP SNPs branch group node
* checking Rd files ... OK
* checking Rd metadata ... OK
* checking Rd cross-references ... OK
* checking for missing documentation entries ... OK
* checking for code/documentation mismatches ... OK
* checking Rd \usage sections ... OK
* checking Rd contents ... OK
* checking for unstated dependencies in examples ... OK
* checking contents of ‘data’ directory ... OK
* checking data for non-ASCII characters ... OK
* checking data for ASCII and uncompressed saves ... OK
* checking line endings in C/C++/Fortran sources/headers ... OK
* checking compiled code ... NOTE
Note: information on .o files is not available
* checking files in ‘vignettes’ ... OK
* checking examples ... OK
Examples with CPU (user + system) or elapsed time > 5s
user system elapsed
plotFunctions 9.304 0.008 9.466
plotSingleSite 5.627 0.004 5.632
plotParallelSites 5.235 0.007 5.242
* checking for unstated dependencies in ‘tests’ ... OK
* checking tests ...
Running ‘testthat.R’
OK
* checking for unstated dependencies in vignettes ... OK
* checking package vignettes ... OK
* checking re-building of vignette outputs ... OK
* checking PDF version of manual ... OK
* DONE
Status: 4 NOTEs
See
‘/media/volume/teran2_disk/biocbuild/bbs-3.20-bioc/meat/sitePath.Rcheck/00check.log’
for details.
sitePath.Rcheck/00install.out
##############################################################################
##############################################################################
###
### Running command:
###
### /home/biocbuild/bbs-3.20-bioc/R/bin/R CMD INSTALL sitePath
###
##############################################################################
##############################################################################
* installing to library ‘/media/volume/teran2_disk/biocbuild/bbs-3.20-bioc/R/site-library’
* installing *source* package ‘sitePath’ ...
** using staged installation
** libs
using C++ compiler: ‘g++ (Ubuntu 13.2.0-23ubuntu4) 13.2.0’
g++ -std=gnu++17 -I"/home/biocbuild/bbs-3.20-bioc/R/include" -DNDEBUG -I'/media/volume/teran2_disk/biocbuild/bbs-3.20-bioc/R/site-library/Rcpp/include' -I/usr/local/include -fpic -g -O2 -Wall -c RcppExports.cpp -o RcppExports.o
g++ -std=gnu++17 -I"/home/biocbuild/bbs-3.20-bioc/R/include" -DNDEBUG -I'/media/volume/teran2_disk/biocbuild/bbs-3.20-bioc/R/site-library/Rcpp/include' -I/usr/local/include -fpic -g -O2 -Wall -c lumpyCluster.cpp -o lumpyCluster.o
lumpyCluster.cpp: In member function ‘void LumpyCluster::Base::mergeClusters(const Treemer::clusters&, int)’:
lumpyCluster.cpp:96:24: warning: comparison of integer expressions of different signedness: ‘std::vector<Treemer::TipSeqLinker*>::size_type’ {aka ‘long unsigned int’} and ‘const int’ [-Wsign-compare]
96 | if (allTips.size() >= m_maxSNPnum) {
| ~~~~~~~~~~~~~~~^~~~~~~~~~~~~~
g++ -std=gnu++17 -I"/home/biocbuild/bbs-3.20-bioc/R/include" -DNDEBUG -I'/media/volume/teran2_disk/biocbuild/bbs-3.20-bioc/R/site-library/Rcpp/include' -I/usr/local/include -fpic -g -O2 -Wall -c minEntropy.cpp -o minEntropy.o
g++ -std=gnu++17 -I"/home/biocbuild/bbs-3.20-bioc/R/include" -DNDEBUG -I'/media/volume/teran2_disk/biocbuild/bbs-3.20-bioc/R/site-library/Rcpp/include' -I/usr/local/include -fpic -g -O2 -Wall -c searchNode.cpp -o searchNode.o
g++ -std=gnu++17 -I"/home/biocbuild/bbs-3.20-bioc/R/include" -DNDEBUG -I'/media/volume/teran2_disk/biocbuild/bbs-3.20-bioc/R/site-library/Rcpp/include' -I/usr/local/include -fpic -g -O2 -Wall -c searchTree.cpp -o searchTree.o
g++ -std=gnu++17 -I"/home/biocbuild/bbs-3.20-bioc/R/include" -DNDEBUG -I'/media/volume/teran2_disk/biocbuild/bbs-3.20-bioc/R/site-library/Rcpp/include' -I/usr/local/include -fpic -g -O2 -Wall -c treemer.cpp -o treemer.o
g++ -std=gnu++17 -I"/home/biocbuild/bbs-3.20-bioc/R/include" -DNDEBUG -I'/media/volume/teran2_disk/biocbuild/bbs-3.20-bioc/R/site-library/Rcpp/include' -I/usr/local/include -fpic -g -O2 -Wall -c util.cpp -o util.o
g++ -std=gnu++17 -shared -L/home/biocbuild/bbs-3.20-bioc/R/lib -L/usr/local/lib -o sitePath.so RcppExports.o lumpyCluster.o minEntropy.o searchNode.o searchTree.o treemer.o util.o -L/home/biocbuild/bbs-3.20-bioc/R/lib -lR
installing to /media/volume/teran2_disk/biocbuild/bbs-3.20-bioc/R/site-library/00LOCK-sitePath/00new/sitePath/libs
** R
** data
** inst
** byte-compile and prepare package for lazy loading
** help
*** installing help indices
** building package indices
** installing vignettes
** testing if installed package can be loaded from temporary location
** checking absolute paths in shared objects and dynamic libraries
** testing if installed package can be loaded from final location
** testing if installed package keeps a record of temporary installation path
* DONE (sitePath)
sitePath.Rcheck/tests/testthat.Rout
R version 4.4.2 (2024-10-31) -- "Pile of Leaves"
Copyright (C) 2024 The R Foundation for Statistical Computing
Platform: x86_64-pc-linux-gnu
R is free software and comes with ABSOLUTELY NO WARRANTY.
You are welcome to redistribute it under certain conditions.
Type 'license()' or 'licence()' for distribution details.
R is a collaborative project with many contributors.
Type 'contributors()' for more information and
'citation()' on how to cite R or R packages in publications.
Type 'demo()' for some demos, 'help()' for on-line help, or
'help.start()' for an HTML browser interface to help.
Type 'q()' to quit R.
> library(testthat)
> library(sitePath)
>
> test_check("sitePath")
Using 2 cores..
Multiprocessing ended.
Using 2 cores..
Multiprocessing ended.
[ FAIL 0 | WARN 1 | SKIP 0 | PASS 2312 ]
[ FAIL 0 | WARN 1 | SKIP 0 | PASS 2312 ]
>
> proc.time()
user system elapsed
181.925 1.169 235.357
sitePath.Rcheck/sitePath-Ex.timings
| name | user | system | elapsed | |
| SNPsites | 0.361 | 0.005 | 0.365 | |
| addMSA | 1.138 | 0.003 | 1.144 | |
| allSitesName | 1.351 | 0.008 | 1.360 | |
| as.data.frame | 0.811 | 0.005 | 0.817 | |
| extractSite | 0.823 | 0.005 | 0.827 | |
| extractTips | 0.848 | 0.003 | 0.850 | |
| fixationIndels | 0.916 | 0.000 | 0.918 | |
| fixationPath | 0.791 | 0.002 | 0.794 | |
| fixationSites | 0.818 | 0.000 | 0.818 | |
| groupTips | 1.135 | 0.000 | 1.135 | |
| lineagePath | 2.150 | 0.038 | 2.189 | |
| paraFixSites | 0.870 | 0.015 | 0.883 | |
| parallelSites | 0.871 | 0.002 | 0.874 | |
| plotFixationSites | 1.170 | 0.002 | 1.174 | |
| plotFunctions | 9.304 | 0.008 | 9.466 | |
| plotMutSites | 0.735 | 0.005 | 0.740 | |
| plotParallelSites | 5.235 | 0.007 | 5.242 | |
| plotSingleSite | 5.627 | 0.004 | 5.632 | |
| setSiteNumbering | 1.428 | 0.001 | 1.429 | |
| similarityMatrix | 1.476 | 0.000 | 1.476 | |
| sitesMinEntropy | 0.783 | 0.001 | 0.784 | |