| Back to Multiple platform build/check report for BioC 3.20: simplified long |
|
This page was generated on 2024-11-20 12:02 -0500 (Wed, 20 Nov 2024).
| Hostname | OS | Arch (*) | R version | Installed pkgs |
|---|---|---|---|---|
| teran2 | Linux (Ubuntu 24.04.1 LTS) | x86_64 | 4.4.2 (2024-10-31) -- "Pile of Leaves" | 4481 |
| nebbiolo2 | Linux (Ubuntu 24.04.1 LTS) | x86_64 | 4.4.2 (2024-10-31) -- "Pile of Leaves" | 4479 |
| palomino8 | Windows Server 2022 Datacenter | x64 | 4.4.2 (2024-10-31 ucrt) -- "Pile of Leaves" | 4359 |
| lconway | macOS 12.7.1 Monterey | x86_64 | 4.4.1 (2024-06-14) -- "Race for Your Life" | 4539 |
| kunpeng2 | Linux (openEuler 22.03 LTS-SP1) | aarch64 | 4.4.1 (2024-06-14) -- "Race for Your Life" | 4493 |
| Click on any hostname to see more info about the system (e.g. compilers) (*) as reported by 'uname -p', except on Windows and Mac OS X | ||||
| Package 1934/2289 | Hostname | OS / Arch | INSTALL | BUILD | CHECK | BUILD BIN | ||||||||
| seqsetvis 1.26.0 (landing page) Joseph R Boyd
| teran2 | Linux (Ubuntu 24.04.1 LTS) / x86_64 | OK | OK | OK | |||||||||
| nebbiolo2 | Linux (Ubuntu 24.04.1 LTS) / x86_64 | OK | OK | OK | ||||||||||
| palomino8 | Windows Server 2022 Datacenter / x64 | OK | OK | OK | OK | |||||||||
| lconway | macOS 12.7.1 Monterey / x86_64 | OK | OK | OK | OK | |||||||||
| kunpeng2 | Linux (openEuler 22.03 LTS-SP1) / aarch64 | OK | OK | OK | ||||||||||
|
To the developers/maintainers of the seqsetvis package: - Allow up to 24 hours (and sometimes 48 hours) for your latest push to git@git.bioconductor.org:packages/seqsetvis.git to reflect on this report. See Troubleshooting Build Report for more information. - Use the following Renviron settings to reproduce errors and warnings. - If 'R CMD check' started to fail recently on the Linux builder(s) over a missing dependency, add the missing dependency to 'Suggests:' in your DESCRIPTION file. See Renviron.bioc for more information. |
| Package: seqsetvis |
| Version: 1.26.0 |
| Command: /home/biocbuild/bbs-3.20-bioc/R/bin/R CMD check --install=check:seqsetvis.install-out.txt --library=/home/biocbuild/bbs-3.20-bioc/R/site-library --timings seqsetvis_1.26.0.tar.gz |
| StartedAt: 2024-11-20 09:36:51 -0500 (Wed, 20 Nov 2024) |
| EndedAt: 2024-11-20 09:46:17 -0500 (Wed, 20 Nov 2024) |
| EllapsedTime: 565.8 seconds |
| RetCode: 0 |
| Status: OK |
| CheckDir: seqsetvis.Rcheck |
| Warnings: 0 |
##############################################################################
##############################################################################
###
### Running command:
###
### /home/biocbuild/bbs-3.20-bioc/R/bin/R CMD check --install=check:seqsetvis.install-out.txt --library=/home/biocbuild/bbs-3.20-bioc/R/site-library --timings seqsetvis_1.26.0.tar.gz
###
##############################################################################
##############################################################################
* using log directory ‘/media/volume/teran2_disk/biocbuild/bbs-3.20-bioc/meat/seqsetvis.Rcheck’
* using R version 4.4.2 (2024-10-31)
* using platform: x86_64-pc-linux-gnu
* R was compiled by
gcc (Ubuntu 13.2.0-23ubuntu4) 13.2.0
GNU Fortran (Ubuntu 13.2.0-23ubuntu4) 13.2.0
* running under: Ubuntu 24.04.1 LTS
* using session charset: UTF-8
* checking for file ‘seqsetvis/DESCRIPTION’ ... OK
* checking extension type ... Package
* this is package ‘seqsetvis’ version ‘1.26.0’
* package encoding: UTF-8
* checking package namespace information ... OK
* checking package dependencies ... OK
* checking if this is a source package ... OK
* checking if there is a namespace ... OK
* checking for hidden files and directories ... OK
* checking for portable file names ... OK
* checking for sufficient/correct file permissions ... OK
* checking whether package ‘seqsetvis’ can be installed ... OK
* checking installed package size ... OK
* checking package directory ... OK
* checking ‘build’ directory ... OK
* checking DESCRIPTION meta-information ... OK
* checking top-level files ... OK
* checking for left-over files ... OK
* checking index information ... OK
* checking package subdirectories ... OK
* checking code files for non-ASCII characters ... OK
* checking R files for syntax errors ... OK
* checking whether the package can be loaded ... OK
* checking whether the package can be loaded with stated dependencies ... OK
* checking whether the package can be unloaded cleanly ... OK
* checking whether the namespace can be loaded with stated dependencies ... OK
* checking whether the namespace can be unloaded cleanly ... OK
* checking loading without being on the library search path ... OK
* checking dependencies in R code ... OK
* checking S3 generic/method consistency ... OK
* checking replacement functions ... OK
* checking foreign function calls ... OK
* checking R code for possible problems ... OK
* checking Rd files ... OK
* checking Rd metadata ... OK
* checking Rd cross-references ... OK
* checking for missing documentation entries ... OK
* checking for code/documentation mismatches ... OK
* checking Rd \usage sections ... OK
* checking Rd contents ... OK
* checking for unstated dependencies in examples ... OK
* checking contents of ‘data’ directory ... OK
* checking data for non-ASCII characters ... OK
* checking data for ASCII and uncompressed saves ... OK
* checking files in ‘vignettes’ ... OK
* checking examples ... OK
Examples with CPU (user + system) or elapsed time > 5s
user system elapsed
ssvFeatureBinaryHeatmap 5.582 0.233 6.533
ssvFetchBam 4.818 0.008 5.158
* checking for unstated dependencies in ‘tests’ ... OK
* checking tests ...
Running ‘testthat.R’
OK
* checking for unstated dependencies in vignettes ... OK
* checking package vignettes ... OK
* checking re-building of vignette outputs ... OK
* checking PDF version of manual ... OK
* DONE
Status: OK
seqsetvis.Rcheck/00install.out
############################################################################## ############################################################################## ### ### Running command: ### ### /home/biocbuild/bbs-3.20-bioc/R/bin/R CMD INSTALL seqsetvis ### ############################################################################## ############################################################################## * installing to library ‘/media/volume/teran2_disk/biocbuild/bbs-3.20-bioc/R/site-library’ * installing *source* package ‘seqsetvis’ ... ** using staged installation ** R ** data ** inst ** byte-compile and prepare package for lazy loading ** help *** installing help indices ** building package indices ** installing vignettes ** testing if installed package can be loaded from temporary location ** testing if installed package can be loaded from final location ** testing if installed package keeps a record of temporary installation path * DONE (seqsetvis)
seqsetvis.Rcheck/tests/testthat.Rout
R version 4.4.2 (2024-10-31) -- "Pile of Leaves" Copyright (C) 2024 The R Foundation for Statistical Computing Platform: x86_64-pc-linux-gnu R is free software and comes with ABSOLUTELY NO WARRANTY. You are welcome to redistribute it under certain conditions. Type 'license()' or 'licence()' for distribution details. R is a collaborative project with many contributors. Type 'contributors()' for more information and 'citation()' on how to cite R or R packages in publications. Type 'demo()' for some demos, 'help()' for on-line help, or 'help.start()' for an HTML browser interface to help. Type 'q()' to quit R. > > ## load dependencies > library(testthat) > library(seqsetvis) Loading required package: ggplot2 > library(data.table) > > ## test package > test_check(package = "seqsetvis") [ FAIL 0 | WARN 0 | SKIP 0 | PASS 1284 ] > > proc.time() user system elapsed 203.199 2.203 223.629
seqsetvis.Rcheck/seqsetvis-Ex.timings
| name | user | system | elapsed | |
| add_cluster_annotation | 3.037 | 0.110 | 4.227 | |
| append_ynorm | 0.052 | 0.003 | 0.039 | |
| applyMovingAverage | 0.474 | 0.000 | 0.470 | |
| applySpline | 0.269 | 0.000 | 0.240 | |
| assemble_heatmap_cluster_bars | 0.540 | 0.001 | 0.562 | |
| calc_norm_factors | 0.029 | 0.000 | 0.021 | |
| centerAtMax | 0.238 | 0.001 | 0.190 | |
| centerFixedSizeGRanges | 0.078 | 0.001 | 0.080 | |
| centerGRangesAtMax | 0.311 | 0.007 | 0.320 | |
| clusteringKmeans | 0.035 | 0.004 | 0.039 | |
| clusteringKmeansNestedHclust | 0.033 | 0.001 | 0.024 | |
| col2hex | 0.000 | 0.001 | 0.001 | |
| collapse_gr | 0.438 | 0.001 | 0.446 | |
| convert_collapsed_coord | 0.118 | 0.001 | 0.120 | |
| copy_clust_info | 1.213 | 0.005 | 1.288 | |
| crossCorrByRle | 0.217 | 0.001 | 0.224 | |
| easyLoad_FUN | 0.035 | 0.001 | 0.038 | |
| easyLoad_IDRmerged | 0.044 | 0.000 | 0.045 | |
| easyLoad_bed | 0.086 | 0.000 | 0.085 | |
| easyLoad_broadPeak | 0.025 | 0.000 | 0.027 | |
| easyLoad_narrowPeak | 0.027 | 0.000 | 0.050 | |
| easyLoad_seacr | 0.030 | 0.000 | 0.035 | |
| expandCigar | 0.126 | 0.002 | 0.112 | |
| findMaxPos | 0.035 | 0.000 | 0.047 | |
| fragLen_calcStranded | 2.044 | 0.006 | 2.343 | |
| fragLen_fromMacs2Xls | 0.002 | 0.000 | 0.002 | |
| getReadLength | 0.036 | 0.001 | 0.040 | |
| get_mapped_reads | 0.005 | 0.001 | 0.006 | |
| ggellipse | 0.35 | 0.00 | 0.35 | |
| harmonize_seqlengths | 0.053 | 0.003 | 0.057 | |
| make_clustering_matrix | 0.076 | 0.004 | 0.085 | |
| merge_clusters | 2.752 | 0.014 | 3.181 | |
| prepare_fetch_GRanges | 0.020 | 0.002 | 0.022 | |
| prepare_fetch_GRanges_names | 0.052 | 0.002 | 0.053 | |
| prepare_fetch_GRanges_width | 0.018 | 0.002 | 0.019 | |
| quantileGRangesWidth | 0.001 | 0.001 | 0.002 | |
| reorder_clusters_hclust | 1.358 | 0.003 | 1.326 | |
| reorder_clusters_manual | 0.757 | 0.006 | 0.774 | |
| reorder_clusters_stepdown | 1.365 | 0.001 | 1.449 | |
| reverse_clusters | 1.607 | 0.017 | 1.755 | |
| safeBrew | 0.017 | 0.001 | 0.036 | |
| split_cluster | 2.669 | 0.133 | 3.384 | |
| ssvAnnotateSubjectGRanges | 0.611 | 0.006 | 0.724 | |
| ssvConsensusIntervalSets | 0.195 | 0.003 | 0.204 | |
| ssvFactorizeMembTable | 0.009 | 0.000 | 0.009 | |
| ssvFeatureBars | 0.355 | 0.001 | 0.459 | |
| ssvFeatureBinaryHeatmap | 5.582 | 0.233 | 6.533 | |
| ssvFeatureEuler | 0.370 | 0.002 | 0.374 | |
| ssvFeaturePie | 0.336 | 0.001 | 0.346 | |
| ssvFeatureUpset | 1.706 | 0.001 | 1.725 | |
| ssvFeatureVenn | 1.407 | 0.001 | 1.415 | |
| ssvFetchBam | 4.818 | 0.008 | 5.158 | |
| ssvFetchBamPE | 1.289 | 0.007 | 1.534 | |
| ssvFetchBamPE.RNA | 1.690 | 0.021 | 1.893 | |
| ssvFetchBigwig | 0.938 | 0.003 | 0.954 | |
| ssvFetchGRanges | 0.491 | 0.001 | 0.493 | |
| ssvFetchSignal | 1.433 | 0.002 | 1.531 | |
| ssvMakeMembTable-methods | 0.317 | 0.003 | 0.325 | |
| ssvOverlapIntervalSets | 0.142 | 0.002 | 0.144 | |
| ssvSignalBandedQuantiles | 2.662 | 0.004 | 2.590 | |
| ssvSignalClustering | 1.992 | 0.004 | 2.063 | |
| ssvSignalHeatmap.ClusterBars | 2.927 | 0.002 | 2.983 | |
| ssvSignalHeatmap | 2.788 | 0.019 | 2.657 | |
| ssvSignalLineplot | 1.457 | 0.001 | 1.561 | |
| ssvSignalLineplotAgg | 0.551 | 0.001 | 0.528 | |
| ssvSignalScatterplot | 0.695 | 0.003 | 0.800 | |
| viewGRangesWinSample_dt | 1.200 | 0.000 | 1.569 | |
| viewGRangesWinSummary_dt | 0.844 | 0.000 | 0.824 | |
| within_clust_sort | 1.126 | 0.002 | 1.198 | |