| Back to Multiple platform build/check report for BioC 3.20: simplified long |
|
This page was generated on 2025-04-02 19:36 -0400 (Wed, 02 Apr 2025).
| Hostname | OS | Arch (*) | R version | Installed pkgs |
|---|---|---|---|---|
| nebbiolo2 | Linux (Ubuntu 24.04.1 LTS) | x86_64 | 4.4.3 (2025-02-28) -- "Trophy Case" | 4764 |
| palomino8 | Windows Server 2022 Datacenter | x64 | 4.4.3 (2025-02-28 ucrt) -- "Trophy Case" | 4495 |
| merida1 | macOS 12.7.5 Monterey | x86_64 | 4.4.3 (2025-02-28) -- "Trophy Case" | 4522 |
| kjohnson1 | macOS 13.6.6 Ventura | arm64 | 4.4.3 (2025-02-28) -- "Trophy Case" | 4449 |
| taishan | Linux (openEuler 24.03 LTS) | aarch64 | 4.4.3 (2025-02-28) -- "Trophy Case" | 4426 |
| Click on any hostname to see more info about the system (e.g. compilers) (*) as reported by 'uname -p', except on Windows and Mac OS X | ||||
| Package 1934/2289 | Hostname | OS / Arch | INSTALL | BUILD | CHECK | BUILD BIN | ||||||||
| seqsetvis 1.26.0 (landing page) Joseph R Boyd
| nebbiolo2 | Linux (Ubuntu 24.04.1 LTS) / x86_64 | OK | OK | OK | |||||||||
| palomino8 | Windows Server 2022 Datacenter / x64 | OK | OK | OK | OK | |||||||||
| merida1 | macOS 12.7.5 Monterey / x86_64 | OK | OK | OK | OK | |||||||||
| kjohnson1 | macOS 13.6.6 Ventura / arm64 | OK | OK | OK | OK | |||||||||
| taishan | Linux (openEuler 24.03 LTS) / aarch64 | OK | OK | OK | ||||||||||
|
To the developers/maintainers of the seqsetvis package: - Allow up to 24 hours (and sometimes 48 hours) for your latest push to git@git.bioconductor.org:packages/seqsetvis.git to reflect on this report. See Troubleshooting Build Report for more information. - Use the following Renviron settings to reproduce errors and warnings. - If 'R CMD check' started to fail recently on the Linux builder(s) over a missing dependency, add the missing dependency to 'Suggests:' in your DESCRIPTION file. See Renviron.bioc for more information. - See Martin Grigorov's blog post for how to debug Linux ARM64 related issues on a x86_64 host. |
| Package: seqsetvis |
| Version: 1.26.0 |
| Command: /home/biocbuild/R/R/bin/R CMD check --install=check:seqsetvis.install-out.txt --library=/home/biocbuild/R/R/site-library --no-vignettes --timings seqsetvis_1.26.0.tar.gz |
| StartedAt: 2025-04-01 10:38:56 -0000 (Tue, 01 Apr 2025) |
| EndedAt: 2025-04-01 10:51:27 -0000 (Tue, 01 Apr 2025) |
| EllapsedTime: 751.0 seconds |
| RetCode: 0 |
| Status: OK |
| CheckDir: seqsetvis.Rcheck |
| Warnings: 0 |
##############################################################################
##############################################################################
###
### Running command:
###
### /home/biocbuild/R/R/bin/R CMD check --install=check:seqsetvis.install-out.txt --library=/home/biocbuild/R/R/site-library --no-vignettes --timings seqsetvis_1.26.0.tar.gz
###
##############################################################################
##############################################################################
* using log directory ‘/home/biocbuild/bbs-3.20-bioc/meat/seqsetvis.Rcheck’
* using R version 4.4.3 (2025-02-28)
* using platform: aarch64-unknown-linux-gnu
* R was compiled by
aarch64-unknown-linux-gnu-gcc (GCC) 14.2.0
GNU Fortran (GCC) 14.2.0
* running under: openEuler 24.03 (LTS)
* using session charset: UTF-8
* using option ‘--no-vignettes’
* checking for file ‘seqsetvis/DESCRIPTION’ ... OK
* checking extension type ... Package
* this is package ‘seqsetvis’ version ‘1.26.0’
* package encoding: UTF-8
* checking package namespace information ... OK
* checking package dependencies ... OK
* checking if this is a source package ... OK
* checking if there is a namespace ... OK
* checking for hidden files and directories ... OK
* checking for portable file names ... OK
* checking for sufficient/correct file permissions ... OK
* checking whether package ‘seqsetvis’ can be installed ... OK
* checking installed package size ... OK
* checking package directory ... OK
* checking ‘build’ directory ... OK
* checking DESCRIPTION meta-information ... OK
* checking top-level files ... OK
* checking for left-over files ... OK
* checking index information ... OK
* checking package subdirectories ... OK
* checking code files for non-ASCII characters ... OK
* checking R files for syntax errors ... OK
* checking whether the package can be loaded ... OK
* checking whether the package can be loaded with stated dependencies ... OK
* checking whether the package can be unloaded cleanly ... OK
* checking whether the namespace can be loaded with stated dependencies ... OK
* checking whether the namespace can be unloaded cleanly ... OK
* checking loading without being on the library search path ... OK
* checking dependencies in R code ... OK
* checking S3 generic/method consistency ... OK
* checking replacement functions ... OK
* checking foreign function calls ... OK
* checking R code for possible problems ... OK
* checking Rd files ... OK
* checking Rd metadata ... OK
* checking Rd cross-references ... OK
* checking for missing documentation entries ... OK
* checking for code/documentation mismatches ... OK
* checking Rd \usage sections ... OK
* checking Rd contents ... OK
* checking for unstated dependencies in examples ... OK
* checking contents of ‘data’ directory ... OK
* checking data for non-ASCII characters ... OK
* checking data for ASCII and uncompressed saves ... OK
* checking files in ‘vignettes’ ... OK
* checking examples ... OK
Examples with CPU (user + system) or elapsed time > 5s
user system elapsed
ssvFetchBam 9.080 0.008 9.105
ssvFeatureBinaryHeatmap 6.542 0.103 6.660
ssvSignalHeatmap 5.272 0.083 5.344
ssvSignalBandedQuantiles 5.017 0.020 5.039
* checking for unstated dependencies in ‘tests’ ... OK
* checking tests ...
Running ‘testthat.R’
OK
* checking for unstated dependencies in vignettes ... OK
* checking package vignettes ... OK
* checking running R code from vignettes ... SKIPPED
* checking re-building of vignette outputs ... SKIPPED
* checking PDF version of manual ... OK
* DONE
Status: OK
seqsetvis.Rcheck/00install.out
############################################################################## ############################################################################## ### ### Running command: ### ### /home/biocbuild/R/R/bin/R CMD INSTALL seqsetvis ### ############################################################################## ############################################################################## * installing to library ‘/home/biocbuild/R/R-4.4.3/site-library’ * installing *source* package ‘seqsetvis’ ... ** using staged installation ** R ** data ** inst ** byte-compile and prepare package for lazy loading ** help *** installing help indices ** building package indices ** installing vignettes ** testing if installed package can be loaded from temporary location ** testing if installed package can be loaded from final location ** testing if installed package keeps a record of temporary installation path * DONE (seqsetvis)
seqsetvis.Rcheck/tests/testthat.Rout
R version 4.4.3 (2025-02-28) -- "Trophy Case" Copyright (C) 2025 The R Foundation for Statistical Computing Platform: aarch64-unknown-linux-gnu R is free software and comes with ABSOLUTELY NO WARRANTY. You are welcome to redistribute it under certain conditions. Type 'license()' or 'licence()' for distribution details. R is a collaborative project with many contributors. Type 'contributors()' for more information and 'citation()' on how to cite R or R packages in publications. Type 'demo()' for some demos, 'help()' for on-line help, or 'help.start()' for an HTML browser interface to help. Type 'q()' to quit R. > > ## load dependencies > library(testthat) > library(seqsetvis) Loading required package: ggplot2 > library(data.table) > > ## test package > test_check(package = "seqsetvis") [ FAIL 0 | WARN 0 | SKIP 0 | PASS 1284 ] > > proc.time() user system elapsed 368.486 2.022 371.206
seqsetvis.Rcheck/seqsetvis-Ex.timings
| name | user | system | elapsed | |
| add_cluster_annotation | 3.788 | 0.135 | 3.927 | |
| append_ynorm | 0.076 | 0.012 | 0.088 | |
| applyMovingAverage | 0.926 | 0.020 | 0.948 | |
| applySpline | 0.469 | 0.000 | 0.467 | |
| assemble_heatmap_cluster_bars | 1.060 | 0.004 | 1.064 | |
| calc_norm_factors | 0.034 | 0.000 | 0.033 | |
| centerAtMax | 0.393 | 0.000 | 0.391 | |
| centerFixedSizeGRanges | 0.183 | 0.004 | 0.187 | |
| centerGRangesAtMax | 0.561 | 0.016 | 0.576 | |
| clusteringKmeans | 0.030 | 0.008 | 0.035 | |
| clusteringKmeansNestedHclust | 0.039 | 0.004 | 0.041 | |
| col2hex | 0.001 | 0.000 | 0.001 | |
| collapse_gr | 1.028 | 0.008 | 1.039 | |
| convert_collapsed_coord | 0.267 | 0.004 | 0.272 | |
| copy_clust_info | 2.328 | 0.016 | 2.348 | |
| crossCorrByRle | 0.434 | 0.008 | 0.446 | |
| easyLoad_FUN | 0.070 | 0.000 | 0.071 | |
| easyLoad_IDRmerged | 0.082 | 0.000 | 0.083 | |
| easyLoad_bed | 0.178 | 0.000 | 0.178 | |
| easyLoad_broadPeak | 0.05 | 0.00 | 0.05 | |
| easyLoad_narrowPeak | 0.05 | 0.00 | 0.05 | |
| easyLoad_seacr | 0.056 | 0.000 | 0.057 | |
| expandCigar | 0.216 | 0.004 | 0.222 | |
| findMaxPos | 0.044 | 0.000 | 0.044 | |
| fragLen_calcStranded | 2.436 | 0.004 | 2.446 | |
| fragLen_fromMacs2Xls | 0.003 | 0.000 | 0.003 | |
| getReadLength | 0.068 | 0.000 | 0.068 | |
| get_mapped_reads | 0.011 | 0.000 | 0.011 | |
| ggellipse | 0.734 | 0.000 | 0.736 | |
| harmonize_seqlengths | 0.158 | 0.000 | 0.159 | |
| make_clustering_matrix | 0.118 | 0.000 | 0.119 | |
| merge_clusters | 4.774 | 0.008 | 4.812 | |
| prepare_fetch_GRanges | 0.037 | 0.004 | 0.041 | |
| prepare_fetch_GRanges_names | 0.111 | 0.000 | 0.111 | |
| prepare_fetch_GRanges_width | 0.041 | 0.000 | 0.041 | |
| quantileGRangesWidth | 0.004 | 0.000 | 0.003 | |
| reorder_clusters_hclust | 2.767 | 0.016 | 2.791 | |
| reorder_clusters_manual | 1.436 | 0.004 | 1.441 | |
| reorder_clusters_stepdown | 2.735 | 0.020 | 2.756 | |
| reverse_clusters | 3.054 | 0.016 | 3.068 | |
| safeBrew | 0.032 | 0.000 | 0.032 | |
| split_cluster | 3.344 | 0.176 | 3.516 | |
| ssvAnnotateSubjectGRanges | 1.339 | 0.008 | 1.351 | |
| ssvConsensusIntervalSets | 0.444 | 0.004 | 0.449 | |
| ssvFactorizeMembTable | 0.018 | 0.000 | 0.017 | |
| ssvFeatureBars | 0.719 | 0.000 | 0.720 | |
| ssvFeatureBinaryHeatmap | 6.542 | 0.103 | 6.660 | |
| ssvFeatureEuler | 0.686 | 0.004 | 0.692 | |
| ssvFeaturePie | 0.598 | 0.004 | 0.604 | |
| ssvFeatureUpset | 3.445 | 0.028 | 3.481 | |
| ssvFeatureVenn | 1.259 | 0.000 | 1.261 | |
| ssvFetchBam | 9.080 | 0.008 | 9.105 | |
| ssvFetchBamPE | 2.667 | 0.004 | 2.681 | |
| ssvFetchBamPE.RNA | 1.993 | 0.004 | 1.992 | |
| ssvFetchBigwig | 1.910 | 0.000 | 1.915 | |
| ssvFetchGRanges | 1.074 | 0.008 | 1.084 | |
| ssvFetchSignal | 2.097 | 0.000 | 2.101 | |
| ssvMakeMembTable-methods | 0.713 | 0.004 | 0.718 | |
| ssvOverlapIntervalSets | 0.327 | 0.004 | 0.332 | |
| ssvSignalBandedQuantiles | 5.017 | 0.020 | 5.039 | |
| ssvSignalClustering | 3.594 | 0.000 | 3.590 | |
| ssvSignalHeatmap.ClusterBars | 4.214 | 0.008 | 4.213 | |
| ssvSignalHeatmap | 5.272 | 0.083 | 5.344 | |
| ssvSignalLineplot | 3.032 | 0.004 | 3.046 | |
| ssvSignalLineplotAgg | 1.187 | 0.000 | 1.191 | |
| ssvSignalScatterplot | 1.227 | 0.016 | 1.246 | |
| viewGRangesWinSample_dt | 1.874 | 0.028 | 1.908 | |
| viewGRangesWinSummary_dt | 1.770 | 0.004 | 1.777 | |
| within_clust_sort | 2.147 | 0.000 | 2.143 | |