| Back to Multiple platform build/check report for BioC 3.20: simplified long | 
 | 
This page was generated on 2025-04-02 19:29 -0400 (Wed, 02 Apr 2025).
| Hostname | OS | Arch (*) | R version | Installed pkgs | 
|---|---|---|---|---|
| nebbiolo2 | Linux (Ubuntu 24.04.1 LTS) | x86_64 | 4.4.3 (2025-02-28) -- "Trophy Case" | 4764 | 
| palomino8 | Windows Server 2022 Datacenter | x64 | 4.4.3 (2025-02-28 ucrt) -- "Trophy Case" | 4495 | 
| merida1 | macOS 12.7.5 Monterey | x86_64 | 4.4.3 (2025-02-28) -- "Trophy Case" | 4522 | 
| kjohnson1 | macOS 13.6.6 Ventura | arm64 | 4.4.3 (2025-02-28) -- "Trophy Case" | 4449 | 
| taishan | Linux (openEuler 24.03 LTS) | aarch64 | 4.4.3 (2025-02-28) -- "Trophy Case" | 4426 | 
| Click on any hostname to see more info about the system (e.g. compilers) (*) as reported by 'uname -p', except on Windows and Mac OS X | ||||
| Package 1918/2289 | Hostname | OS / Arch | INSTALL | BUILD | CHECK | BUILD BIN | ||||||||
| segmentSeq 2.40.0  (landing page) Samuel Granjeaud 
 | nebbiolo2 | Linux (Ubuntu 24.04.1 LTS) / x86_64 | OK | OK | TIMEOUT | |||||||||
| palomino8 | Windows Server 2022 Datacenter / x64 | OK | TIMEOUT | skipped | skipped | |||||||||
| merida1 | macOS 12.7.5 Monterey / x86_64 | OK | TIMEOUT | skipped | skipped | |||||||||
| kjohnson1 | macOS 13.6.6 Ventura / arm64 | OK | OK | OK | OK |  | ||||||||
| taishan | Linux (openEuler 24.03 LTS) / aarch64 | OK | TIMEOUT | skipped | ||||||||||
| To the developers/maintainers of the segmentSeq package: - Allow up to 24 hours (and sometimes 48 hours) for your latest push to git@git.bioconductor.org:packages/segmentSeq.git to reflect on this report. See Troubleshooting Build Report for more information. - Use the following Renviron settings to reproduce errors and warnings. - If 'R CMD check' started to fail recently on the Linux builder(s) over a missing dependency, add the missing dependency to 'Suggests:' in your DESCRIPTION file. See Renviron.bioc for more information. | 
| Package: segmentSeq | 
| Version: 2.40.0 | 
| Command: /home/biocbuild/bbs-3.20-bioc/R/bin/R CMD check --install=check:segmentSeq.install-out.txt --library=/home/biocbuild/bbs-3.20-bioc/R/site-library --timings segmentSeq_2.40.0.tar.gz | 
| StartedAt: 2025-04-01 02:07:41 -0400 (Tue, 01 Apr 2025) | 
| EndedAt: 2025-04-01 02:47:42 -0400 (Tue, 01 Apr 2025) | 
| EllapsedTime: 2400.4 seconds | 
| RetCode: None | 
| Status: TIMEOUT | 
| CheckDir: segmentSeq.Rcheck | 
| Warnings: NA | 
##############################################################################
##############################################################################
###
### Running command:
###
###   /home/biocbuild/bbs-3.20-bioc/R/bin/R CMD check --install=check:segmentSeq.install-out.txt --library=/home/biocbuild/bbs-3.20-bioc/R/site-library --timings segmentSeq_2.40.0.tar.gz
###
##############################################################################
##############################################################################
* using log directory ‘/home/biocbuild/bbs-3.20-bioc/meat/segmentSeq.Rcheck’
* using R version 4.4.3 (2025-02-28)
* using platform: x86_64-pc-linux-gnu
* R was compiled by
    gcc (Ubuntu 13.3.0-6ubuntu2~24.04) 13.3.0
    GNU Fortran (Ubuntu 13.3.0-6ubuntu2~24.04) 13.3.0
* running under: Ubuntu 24.04.2 LTS
* using session charset: UTF-8
* checking for file ‘segmentSeq/DESCRIPTION’ ... OK
* checking extension type ... Package
* this is package ‘segmentSeq’ version ‘2.40.0’
* checking package namespace information ... OK
* checking package dependencies ... OK
* checking if this is a source package ... OK
* checking if there is a namespace ... OK
* checking for hidden files and directories ... OK
* checking for portable file names ... OK
* checking for sufficient/correct file permissions ... OK
* checking whether package ‘segmentSeq’ can be installed ... OK
* checking installed package size ... OK
* checking package directory ... OK
* checking ‘build’ directory ... OK
* checking DESCRIPTION meta-information ... OK
* checking top-level files ... OK
* checking for left-over files ... OK
* checking index information ... OK
* checking package subdirectories ... OK
* checking code files for non-ASCII characters ... OK
* checking R files for syntax errors ... OK
* checking whether the package can be loaded ... OK
* checking whether the package can be loaded with stated dependencies ... OK
* checking whether the package can be unloaded cleanly ... OK
* checking whether the namespace can be loaded with stated dependencies ... OK
* checking whether the namespace can be unloaded cleanly ... OK
* checking loading without being on the library search path ... OK
* checking dependencies in R code ... OK
* checking S3 generic/method consistency ... OK
* checking replacement functions ... OK
* checking foreign function calls ... OK
* checking R code for possible problems ... OK
* checking Rd files ... OK
* checking Rd metadata ... OK
* checking Rd cross-references ... OK
* checking for missing documentation entries ... OK
* checking for code/documentation mismatches ... OK
* checking Rd \usage sections ... OK
* checking Rd contents ... OK
* checking for unstated dependencies in examples ... OK
* checking contents of ‘data’ directory ... OK
* checking data for non-ASCII characters ... OK
* checking data for ASCII and uncompressed saves ... OK
* checking files in ‘vignettes’ ... OK
* checking examples ... OK
Examples with CPU (user + system) or elapsed time > 5s
                  user system elapsed
classifySeg     33.356  0.082  33.439
lociLikelihoods 15.669  0.011  15.681
heuristicSeg    15.112  0.000  15.113
plotGenome       8.177  0.011   8.189
getCounts        5.903  0.002   5.906
* checking for unstated dependencies in vignettes ... OK
* checking package vignettes ... OK
* checking re-building of vignette outputs ...
segmentSeq.Rcheck/00install.out
############################################################################## ############################################################################## ### ### Running command: ### ### /home/biocbuild/bbs-3.20-bioc/R/bin/R CMD INSTALL segmentSeq ### ############################################################################## ############################################################################## * installing to library ‘/home/biocbuild/bbs-3.20-bioc/R/site-library’ * installing *source* package ‘segmentSeq’ ... ** using staged installation ** R ** data ** inst ** byte-compile and prepare package for lazy loading ** help *** installing help indices ** building package indices ** installing vignettes ** testing if installed package can be loaded from temporary location ** testing if installed package can be loaded from final location ** testing if installed package keeps a record of temporary installation path * DONE (segmentSeq)
segmentSeq.Rcheck/segmentSeq-Ex.timings
| name | user | system | elapsed | |
| alignmentData-class | 3.785 | 0.013 | 3.842 | |
| classifySeg | 33.356 | 0.082 | 33.439 | |
| findChunks | 3.740 | 0.001 | 3.741 | |
| getCounts | 5.903 | 0.002 | 5.906 | |
| getOverlaps | 3.933 | 0.001 | 3.934 | |
| heuristicSeg | 15.112 | 0.000 | 15.113 | |
| lociLikelihoods | 15.669 | 0.011 | 15.681 | |
| normaliseNC | 2.605 | 0.054 | 2.660 | |
| plotGenome | 8.177 | 0.011 | 8.189 | |
| processAD | 4.636 | 0.001 | 4.637 | |
| readMethods | 3.509 | 0.000 | 3.509 | |
| readMeths | 3.080 | 0.071 | 3.152 | |
| segData-class | 4.384 | 0.009 | 4.395 | |
| segmentSeq-package | 4.089 | 0.000 | 4.090 | |
| thresholdFinder | 2.402 | 0.083 | 2.485 | |