| Back to Multiple platform build/check report for BioC 3.20: simplified long | 
 | 
This page was generated on 2025-04-02 19:29 -0400 (Wed, 02 Apr 2025).
| Hostname | OS | Arch (*) | R version | Installed pkgs | 
|---|---|---|---|---|
| nebbiolo2 | Linux (Ubuntu 24.04.1 LTS) | x86_64 | 4.4.3 (2025-02-28) -- "Trophy Case" | 4764 | 
| palomino8 | Windows Server 2022 Datacenter | x64 | 4.4.3 (2025-02-28 ucrt) -- "Trophy Case" | 4495 | 
| merida1 | macOS 12.7.5 Monterey | x86_64 | 4.4.3 (2025-02-28) -- "Trophy Case" | 4522 | 
| kjohnson1 | macOS 13.6.6 Ventura | arm64 | 4.4.3 (2025-02-28) -- "Trophy Case" | 4449 | 
| taishan | Linux (openEuler 24.03 LTS) | aarch64 | 4.4.3 (2025-02-28) -- "Trophy Case" | 4426 | 
| Click on any hostname to see more info about the system (e.g. compilers) (*) as reported by 'uname -p', except on Windows and Mac OS X | ||||
| Package 1912/2289 | Hostname | OS / Arch | INSTALL | BUILD | CHECK | BUILD BIN | ||||||||
| scuttle 1.16.0  (landing page) Aaron Lun 
 | nebbiolo2 | Linux (Ubuntu 24.04.1 LTS) / x86_64 | OK | OK | OK |  | ||||||||
| palomino8 | Windows Server 2022 Datacenter / x64 | OK | OK | OK | OK |  | ||||||||
| merida1 | macOS 12.7.5 Monterey / x86_64 | OK | OK | OK | OK |  | ||||||||
| kjohnson1 | macOS 13.6.6 Ventura / arm64 | OK | OK | OK | OK |  | ||||||||
| taishan | Linux (openEuler 24.03 LTS) / aarch64 | OK | OK | OK | ||||||||||
| To the developers/maintainers of the scuttle package: - Allow up to 24 hours (and sometimes 48 hours) for your latest push to git@git.bioconductor.org:packages/scuttle.git to reflect on this report. See Troubleshooting Build Report for more information. - Use the following Renviron settings to reproduce errors and warnings. - If 'R CMD check' started to fail recently on the Linux builder(s) over a missing dependency, add the missing dependency to 'Suggests:' in your DESCRIPTION file. See Renviron.bioc for more information. | 
| Package: scuttle | 
| Version: 1.16.0 | 
| Command: /home/biocbuild/bbs-3.20-bioc/R/bin/R CMD check --install=check:scuttle.install-out.txt --library=/home/biocbuild/bbs-3.20-bioc/R/site-library --timings scuttle_1.16.0.tar.gz | 
| StartedAt: 2025-04-01 02:06:32 -0400 (Tue, 01 Apr 2025) | 
| EndedAt: 2025-04-01 02:13:54 -0400 (Tue, 01 Apr 2025) | 
| EllapsedTime: 441.4 seconds | 
| RetCode: 0 | 
| Status: OK | 
| CheckDir: scuttle.Rcheck | 
| Warnings: 0 | 
##############################################################################
##############################################################################
###
### Running command:
###
###   /home/biocbuild/bbs-3.20-bioc/R/bin/R CMD check --install=check:scuttle.install-out.txt --library=/home/biocbuild/bbs-3.20-bioc/R/site-library --timings scuttle_1.16.0.tar.gz
###
##############################################################################
##############################################################################
* using log directory ‘/home/biocbuild/bbs-3.20-bioc/meat/scuttle.Rcheck’
* using R version 4.4.3 (2025-02-28)
* using platform: x86_64-pc-linux-gnu
* R was compiled by
    gcc (Ubuntu 13.3.0-6ubuntu2~24.04) 13.3.0
    GNU Fortran (Ubuntu 13.3.0-6ubuntu2~24.04) 13.3.0
* running under: Ubuntu 24.04.2 LTS
* using session charset: UTF-8
* checking for file ‘scuttle/DESCRIPTION’ ... OK
* checking extension type ... Package
* this is package ‘scuttle’ version ‘1.16.0’
* package encoding: UTF-8
* checking package namespace information ... OK
* checking package dependencies ... OK
* checking if this is a source package ... OK
* checking if there is a namespace ... OK
* checking for hidden files and directories ... OK
* checking for portable file names ... OK
* checking for sufficient/correct file permissions ... OK
* checking whether package ‘scuttle’ can be installed ... OK
* used C++ compiler: ‘g++ (Ubuntu 13.3.0-6ubuntu2~24.04) 13.3.0’
* checking C++ specification ... NOTE
  Specified C++11: please drop specification unless essential
* checking installed package size ... NOTE
  installed size is  8.6Mb
  sub-directories of 1Mb or more:
    libs   8.1Mb
* checking package directory ... OK
* checking ‘build’ directory ... OK
* checking DESCRIPTION meta-information ... OK
* checking top-level files ... OK
* checking for left-over files ... OK
* checking index information ... OK
* checking package subdirectories ... OK
* checking code files for non-ASCII characters ... OK
* checking R files for syntax errors ... OK
* checking whether the package can be loaded ... OK
* checking whether the package can be loaded with stated dependencies ... OK
* checking whether the package can be unloaded cleanly ... OK
* checking whether the namespace can be loaded with stated dependencies ... OK
* checking whether the namespace can be unloaded cleanly ... OK
* checking loading without being on the library search path ... OK
* checking dependencies in R code ... OK
* checking S3 generic/method consistency ... OK
* checking replacement functions ... OK
* checking foreign function calls ... OK
* checking R code for possible problems ... OK
* checking Rd files ... OK
* checking Rd metadata ... OK
* checking Rd cross-references ... OK
* checking for missing documentation entries ... OK
* checking for code/documentation mismatches ... OK
* checking Rd \usage sections ... OK
* checking Rd contents ... OK
* checking for unstated dependencies in examples ... OK
* checking line endings in C/C++/Fortran sources/headers ... OK
* checking line endings in Makefiles ... OK
* checking compilation flags in Makevars ... OK
* checking for GNU extensions in Makefiles ... OK
* checking for portable use of $(BLAS_LIBS) and $(LAPACK_LIBS) ... OK
* checking use of PKG_*FLAGS in Makefiles ... OK
* checking compiled code ... NOTE
Note: information on .o files is not available
* checking files in ‘vignettes’ ... OK
* checking examples ... OK
* checking for unstated dependencies in ‘tests’ ... OK
* checking tests ...
  Running ‘testthat.R’
 OK
* checking for unstated dependencies in vignettes ... OK
* checking package vignettes ... OK
* checking re-building of vignette outputs ... OK
* checking PDF version of manual ... OK
* DONE
Status: 3 NOTEs
See
  ‘/home/biocbuild/bbs-3.20-bioc/meat/scuttle.Rcheck/00check.log’
for details.
scuttle.Rcheck/00install.out
##############################################################################
##############################################################################
###
### Running command:
###
###   /home/biocbuild/bbs-3.20-bioc/R/bin/R CMD INSTALL scuttle
###
##############################################################################
##############################################################################
* installing to library ‘/home/biocbuild/bbs-3.20-bioc/R/site-library’
* installing *source* package ‘scuttle’ ...
** using staged installation
** libs
using C++ compiler: ‘g++ (Ubuntu 13.3.0-6ubuntu2~24.04) 13.3.0’
using C++11
g++ -std=gnu++11 -I"/home/biocbuild/bbs-3.20-bioc/R/include" -DNDEBUG -I../inst/include/ -I'/home/biocbuild/bbs-3.20-bioc/R/site-library/Rcpp/include' -I'/home/biocbuild/bbs-3.20-bioc/R/site-library/beachmat/include' -I/usr/local/include    -fpic  -g -O2  -Wall  -c RcppExports.cpp -o RcppExports.o
g++ -std=gnu++11 -I"/home/biocbuild/bbs-3.20-bioc/R/include" -DNDEBUG -I../inst/include/ -I'/home/biocbuild/bbs-3.20-bioc/R/site-library/Rcpp/include' -I'/home/biocbuild/bbs-3.20-bioc/R/site-library/beachmat/include' -I/usr/local/include    -fpic  -g -O2  -Wall  -c cumulative_prop.cpp -o cumulative_prop.o
In file included from /home/biocbuild/bbs-3.20-bioc/R/site-library/beachmat/include/beachmat3/lin_matrix.h:12,
                 from /home/biocbuild/bbs-3.20-bioc/R/site-library/beachmat/include/beachmat3/read_lin_block.h:11,
                 from /home/biocbuild/bbs-3.20-bioc/R/site-library/beachmat/include/beachmat3/beachmat.h:24,
                 from cumulative_prop.cpp:2:
/home/biocbuild/bbs-3.20-bioc/R/site-library/beachmat/include/beachmat3/Csparse_reader.h: In instantiation of ‘beachmat::SparseArraySeed_reader<V, TIT>::SparseArraySeed_reader(Rcpp::RObject) [with V = Rcpp::Vector<13>; TIT = const int*; Rcpp::RObject = Rcpp::RObject_Impl<Rcpp::PreserveStorage>]’:
/home/biocbuild/bbs-3.20-bioc/R/site-library/beachmat/include/beachmat3/lin_matrix.h:561:46:   required from ‘beachmat::lin_SparseArraySeed<V, TIT>::lin_SparseArraySeed(Rcpp::RObject) [with V = Rcpp::Vector<13>; TIT = const int*; Rcpp::RObject = Rcpp::RObject_Impl<Rcpp::PreserveStorage>]’
/home/biocbuild/bbs-3.20-bioc/R/site-library/beachmat/include/beachmat3/read_lin_block.h:36:39:   required from ‘std::unique_ptr<M> beachmat::read_lin_sparse_block_raw(Rcpp::RObject) [with M = lin_matrix; Rcpp::RObject = Rcpp::RObject_Impl<Rcpp::PreserveStorage>]’
/home/biocbuild/bbs-3.20-bioc/R/site-library/beachmat/include/beachmat3/read_lin_block.h:65:57:   required from here
/home/biocbuild/bbs-3.20-bioc/R/site-library/beachmat/include/beachmat3/Csparse_reader.h:535:17: warning: comparison of integer expressions of different signedness: ‘const size_t’ {aka ‘const long unsigned int’} and ‘R_xlen_t’ {aka ‘long int’} [-Wsign-compare]
  535 |         if (nnz != x.size()) {
      |             ~~~~^~~~~~~~~~~
/home/biocbuild/bbs-3.20-bioc/R/site-library/beachmat/include/beachmat3/Csparse_reader.h:551:45: warning: comparison of integer expressions of different signedness: ‘int’ and ‘const size_t’ {aka ‘const long unsigned int’} [-Wsign-compare]
  551 |                     if (lastR <= 0 || lastR > NR || lastC <= 0 || lastC > NC) {
      |                                       ~~~~~~^~~~
/home/biocbuild/bbs-3.20-bioc/R/site-library/beachmat/include/beachmat3/Csparse_reader.h:551:73: warning: comparison of integer expressions of different signedness: ‘int’ and ‘const size_t’ {aka ‘const long unsigned int’} [-Wsign-compare]
  551 |                     if (lastR <= 0 || lastR > NR || lastC <= 0 || lastC > NC) {
      |                                                                   ~~~~~~^~~~
/home/biocbuild/bbs-3.20-bioc/R/site-library/beachmat/include/beachmat3/Csparse_reader.h:593:35: warning: comparison of integer expressions of different signedness: ‘int’ and ‘const size_t’ {aka ‘const long unsigned int’} [-Wsign-compare]
  593 |                 for (int v = 0; v < nnz; ++v, ++rowIt, ++colIt, ++xIt) {
      |                                 ~~^~~~~
/home/biocbuild/bbs-3.20-bioc/R/site-library/beachmat/include/beachmat3/Csparse_reader.h: In instantiation of ‘beachmat::SparseArraySeed_reader<V, TIT>::SparseArraySeed_reader(Rcpp::RObject) [with V = Rcpp::Vector<14, Rcpp::PreserveStorage>; TIT = const double*; Rcpp::RObject = Rcpp::RObject_Impl<Rcpp::PreserveStorage>]’:
/home/biocbuild/bbs-3.20-bioc/R/site-library/beachmat/include/beachmat3/lin_matrix.h:561:46:   required from ‘beachmat::lin_SparseArraySeed<V, TIT>::lin_SparseArraySeed(Rcpp::RObject) [with V = Rcpp::Vector<14, Rcpp::PreserveStorage>; TIT = const double*; Rcpp::RObject = Rcpp::RObject_Impl<Rcpp::PreserveStorage>]’
/home/biocbuild/bbs-3.20-bioc/R/site-library/beachmat/include/beachmat3/read_lin_block.h:38:39:   required from ‘std::unique_ptr<M> beachmat::read_lin_sparse_block_raw(Rcpp::RObject) [with M = lin_matrix; Rcpp::RObject = Rcpp::RObject_Impl<Rcpp::PreserveStorage>]’
/home/biocbuild/bbs-3.20-bioc/R/site-library/beachmat/include/beachmat3/read_lin_block.h:65:57:   required from here
/home/biocbuild/bbs-3.20-bioc/R/site-library/beachmat/include/beachmat3/Csparse_reader.h:535:17: warning: comparison of integer expressions of different signedness: ‘const size_t’ {aka ‘const long unsigned int’} and ‘R_xlen_t’ {aka ‘long int’} [-Wsign-compare]
  535 |         if (nnz != x.size()) {
      |             ~~~~^~~~~~~~~~~
/home/biocbuild/bbs-3.20-bioc/R/site-library/beachmat/include/beachmat3/Csparse_reader.h:551:45: warning: comparison of integer expressions of different signedness: ‘int’ and ‘const size_t’ {aka ‘const long unsigned int’} [-Wsign-compare]
  551 |                     if (lastR <= 0 || lastR > NR || lastC <= 0 || lastC > NC) {
      |                                       ~~~~~~^~~~
/home/biocbuild/bbs-3.20-bioc/R/site-library/beachmat/include/beachmat3/Csparse_reader.h:551:73: warning: comparison of integer expressions of different signedness: ‘int’ and ‘const size_t’ {aka ‘const long unsigned int’} [-Wsign-compare]
  551 |                     if (lastR <= 0 || lastR > NR || lastC <= 0 || lastC > NC) {
      |                                                                   ~~~~~~^~~~
/home/biocbuild/bbs-3.20-bioc/R/site-library/beachmat/include/beachmat3/Csparse_reader.h:593:35: warning: comparison of integer expressions of different signedness: ‘int’ and ‘const size_t’ {aka ‘const long unsigned int’} [-Wsign-compare]
  593 |                 for (int v = 0; v < nnz; ++v, ++rowIt, ++colIt, ++xIt) {
      |                                 ~~^~~~~
/home/biocbuild/bbs-3.20-bioc/R/site-library/beachmat/include/beachmat3/Csparse_reader.h: In instantiation of ‘beachmat::SparseArraySeed_reader<V, TIT>::SparseArraySeed_reader(Rcpp::RObject) [with V = Rcpp::Vector<10, Rcpp::PreserveStorage>; TIT = const int*; Rcpp::RObject = Rcpp::RObject_Impl<Rcpp::PreserveStorage>]’:
/home/biocbuild/bbs-3.20-bioc/R/site-library/beachmat/include/beachmat3/lin_matrix.h:561:46:   required from ‘beachmat::lin_SparseArraySeed<V, TIT>::lin_SparseArraySeed(Rcpp::RObject) [with V = Rcpp::Vector<10, Rcpp::PreserveStorage>; TIT = const int*; Rcpp::RObject = Rcpp::RObject_Impl<Rcpp::PreserveStorage>]’
/home/biocbuild/bbs-3.20-bioc/R/site-library/beachmat/include/beachmat3/read_lin_block.h:40:39:   required from ‘std::unique_ptr<M> beachmat::read_lin_sparse_block_raw(Rcpp::RObject) [with M = lin_matrix; Rcpp::RObject = Rcpp::RObject_Impl<Rcpp::PreserveStorage>]’
/home/biocbuild/bbs-3.20-bioc/R/site-library/beachmat/include/beachmat3/read_lin_block.h:65:57:   required from here
/home/biocbuild/bbs-3.20-bioc/R/site-library/beachmat/include/beachmat3/Csparse_reader.h:535:17: warning: comparison of integer expressions of different signedness: ‘const size_t’ {aka ‘const long unsigned int’} and ‘R_xlen_t’ {aka ‘long int’} [-Wsign-compare]
  535 |         if (nnz != x.size()) {
      |             ~~~~^~~~~~~~~~~
/home/biocbuild/bbs-3.20-bioc/R/site-library/beachmat/include/beachmat3/Csparse_reader.h:551:45: warning: comparison of integer expressions of different signedness: ‘int’ and ‘const size_t’ {aka ‘const long unsigned int’} [-Wsign-compare]
  551 |                     if (lastR <= 0 || lastR > NR || lastC <= 0 || lastC > NC) {
      |                                       ~~~~~~^~~~
/home/biocbuild/bbs-3.20-bioc/R/site-library/beachmat/include/beachmat3/Csparse_reader.h:551:73: warning: comparison of integer expressions of different signedness: ‘int’ and ‘const size_t’ {aka ‘const long unsigned int’} [-Wsign-compare]
  551 |                     if (lastR <= 0 || lastR > NR || lastC <= 0 || lastC > NC) {
      |                                                                   ~~~~~~^~~~
/home/biocbuild/bbs-3.20-bioc/R/site-library/beachmat/include/beachmat3/Csparse_reader.h:593:35: warning: comparison of integer expressions of different signedness: ‘int’ and ‘const size_t’ {aka ‘const long unsigned int’} [-Wsign-compare]
  593 |                 for (int v = 0; v < nnz; ++v, ++rowIt, ++colIt, ++xIt) {
      |                                 ~~^~~~~
/home/biocbuild/bbs-3.20-bioc/R/site-library/beachmat/include/beachmat3/Csparse_reader.h: In instantiation of ‘beachmat::sparse_index<OUT, I> beachmat::Csparse_core<TIT, I, P>::get_row(size_t, ALT, I*, size_t, size_t) [with OUT = const int*; ALT = int*; TIT = const double*; I = int; P = long unsigned int; size_t = long unsigned int]’:
/home/biocbuild/bbs-3.20-bioc/R/site-library/beachmat/include/beachmat3/Csparse_reader.h:650:42:   required from ‘beachmat::sparse_index<OUT, int> beachmat::SparseArraySeed_reader<V, TIT>::get_row(size_t, ALT, int*, size_t, size_t) [with OUT = const int*; ALT = int*; V = Rcpp::Vector<14, Rcpp::PreserveStorage>; TIT = const double*; size_t = long unsigned int]’
/home/biocbuild/bbs-3.20-bioc/R/site-library/beachmat/include/beachmat3/lin_matrix.h:596:51:   required from ‘beachmat::sparse_index<const int*, int> beachmat::lin_SparseArraySeed<V, TIT>::get_row(size_t, int*, int*, size_t, size_t) [with V = Rcpp::Vector<14, Rcpp::PreserveStorage>; TIT = const double*; size_t = long unsigned int]’
/home/biocbuild/bbs-3.20-bioc/R/site-library/beachmat/include/beachmat3/lin_matrix.h:595:35:   required from here
/home/biocbuild/bbs-3.20-bioc/R/site-library/beachmat/include/beachmat3/Csparse_reader.h:250:22: warning: comparison of integer expressions of different signedness: ‘const int’ and ‘const long unsigned int’ [-Wsign-compare]
  250 |             if (idex != *pIt && static_cast<size_t>(i[idex]) == r) {
      |                 ~~~~~^~~~~~~
/home/biocbuild/bbs-3.20-bioc/R/site-library/beachmat/include/beachmat3/Csparse_reader.h: In instantiation of ‘beachmat::sparse_index<OUT, I> beachmat::Csparse_core<TIT, I, P>::get_row(size_t, ALT, I*, size_t, size_t) [with OUT = const double*; ALT = double*; TIT = const double*; I = int; P = long unsigned int; size_t = long unsigned int]’:
/home/biocbuild/bbs-3.20-bioc/R/site-library/beachmat/include/beachmat3/Csparse_reader.h:650:42:   required from ‘beachmat::sparse_index<OUT, int> beachmat::SparseArraySeed_reader<V, TIT>::get_row(size_t, ALT, int*, size_t, size_t) [with OUT = const double*; ALT = double*; V = Rcpp::Vector<14, Rcpp::PreserveStorage>; TIT = const double*; size_t = long unsigned int]’
/home/biocbuild/bbs-3.20-bioc/R/site-library/beachmat/include/beachmat3/lin_matrix.h:602:54:   required from ‘beachmat::sparse_index<const double*, int> beachmat::lin_SparseArraySeed<V, TIT>::get_row(size_t, double*, int*, size_t, size_t) [with V = Rcpp::Vector<14, Rcpp::PreserveStorage>; TIT = const double*; size_t = long unsigned int]’
/home/biocbuild/bbs-3.20-bioc/R/site-library/beachmat/include/beachmat3/lin_matrix.h:601:38:   required from here
/home/biocbuild/bbs-3.20-bioc/R/site-library/beachmat/include/beachmat3/Csparse_reader.h:250:22: warning: comparison of integer expressions of different signedness: ‘const int’ and ‘const long unsigned int’ [-Wsign-compare]
/home/biocbuild/bbs-3.20-bioc/R/site-library/beachmat/include/beachmat3/Csparse_reader.h: In instantiation of ‘beachmat::sparse_index<OUT, I> beachmat::Csparse_core<TIT, I, P>::get_row(size_t, ALT, I*, size_t, size_t) [with OUT = const int*; ALT = int*; TIT = const int*; I = int; P = long unsigned int; size_t = long unsigned int]’:
/home/biocbuild/bbs-3.20-bioc/R/site-library/beachmat/include/beachmat3/Csparse_reader.h:650:42:   required from ‘beachmat::sparse_index<OUT, int> beachmat::SparseArraySeed_reader<V, TIT>::get_row(size_t, ALT, int*, size_t, size_t) [with OUT = const int*; ALT = int*; V = Rcpp::Vector<10, Rcpp::PreserveStorage>; TIT = const int*; size_t = long unsigned int]’
/home/biocbuild/bbs-3.20-bioc/R/site-library/beachmat/include/beachmat3/lin_matrix.h:596:51:   required from ‘beachmat::sparse_index<const int*, int> beachmat::lin_SparseArraySeed<V, TIT>::get_row(size_t, int*, int*, size_t, size_t) [with V = Rcpp::Vector<10, Rcpp::PreserveStorage>; TIT = const int*; size_t = long unsigned int]’
/home/biocbuild/bbs-3.20-bioc/R/site-library/beachmat/include/beachmat3/lin_matrix.h:595:35:   required from here
/home/biocbuild/bbs-3.20-bioc/R/site-library/beachmat/include/beachmat3/Csparse_reader.h:250:22: warning: comparison of integer expressions of different signedness: ‘const int’ and ‘const long unsigned int’ [-Wsign-compare]
/home/biocbuild/bbs-3.20-bioc/R/site-library/beachmat/include/beachmat3/Csparse_reader.h: In instantiation of ‘beachmat::sparse_index<OUT, I> beachmat::Csparse_core<TIT, I, P>::get_row(size_t, ALT, I*, size_t, size_t) [with OUT = const double*; ALT = double*; TIT = const int*; I = int; P = long unsigned int; size_t = long unsigned int]’:
/home/biocbuild/bbs-3.20-bioc/R/site-library/beachmat/include/beachmat3/Csparse_reader.h:650:42:   required from ‘beachmat::sparse_index<OUT, int> beachmat::SparseArraySeed_reader<V, TIT>::get_row(size_t, ALT, int*, size_t, size_t) [with OUT = const double*; ALT = double*; V = Rcpp::Vector<10, Rcpp::PreserveStorage>; TIT = const int*; size_t = long unsigned int]’
/home/biocbuild/bbs-3.20-bioc/R/site-library/beachmat/include/beachmat3/lin_matrix.h:602:54:   required from ‘beachmat::sparse_index<const double*, int> beachmat::lin_SparseArraySeed<V, TIT>::get_row(size_t, double*, int*, size_t, size_t) [with V = Rcpp::Vector<10, Rcpp::PreserveStorage>; TIT = const int*; size_t = long unsigned int]’
/home/biocbuild/bbs-3.20-bioc/R/site-library/beachmat/include/beachmat3/lin_matrix.h:601:38:   required from here
/home/biocbuild/bbs-3.20-bioc/R/site-library/beachmat/include/beachmat3/Csparse_reader.h:250:22: warning: comparison of integer expressions of different signedness: ‘const int’ and ‘const long unsigned int’ [-Wsign-compare]
g++ -std=gnu++11 -I"/home/biocbuild/bbs-3.20-bioc/R/include" -DNDEBUG -I../inst/include/ -I'/home/biocbuild/bbs-3.20-bioc/R/site-library/Rcpp/include' -I'/home/biocbuild/bbs-3.20-bioc/R/site-library/beachmat/include' -I/usr/local/include    -fpic  -g -O2  -Wall  -c downsample_counts.cpp -o downsample_counts.o
In file included from /home/biocbuild/bbs-3.20-bioc/R/site-library/beachmat/include/beachmat3/lin_matrix.h:12,
                 from /home/biocbuild/bbs-3.20-bioc/R/site-library/beachmat/include/beachmat3/read_lin_block.h:11,
                 from /home/biocbuild/bbs-3.20-bioc/R/site-library/beachmat/include/beachmat3/beachmat.h:24,
                 from downsample_counts.cpp:2:
/home/biocbuild/bbs-3.20-bioc/R/site-library/beachmat/include/beachmat3/Csparse_reader.h: In instantiation of ‘beachmat::SparseArraySeed_reader<V, TIT>::SparseArraySeed_reader(Rcpp::RObject) [with V = Rcpp::Vector<13>; TIT = const int*; Rcpp::RObject = Rcpp::RObject_Impl<Rcpp::PreserveStorage>]’:
/home/biocbuild/bbs-3.20-bioc/R/site-library/beachmat/include/beachmat3/lin_matrix.h:561:46:   required from ‘beachmat::lin_SparseArraySeed<V, TIT>::lin_SparseArraySeed(Rcpp::RObject) [with V = Rcpp::Vector<13>; TIT = const int*; Rcpp::RObject = Rcpp::RObject_Impl<Rcpp::PreserveStorage>]’
/home/biocbuild/bbs-3.20-bioc/R/site-library/beachmat/include/beachmat3/read_lin_block.h:36:39:   required from ‘std::unique_ptr<M> beachmat::read_lin_sparse_block_raw(Rcpp::RObject) [with M = lin_matrix; Rcpp::RObject = Rcpp::RObject_Impl<Rcpp::PreserveStorage>]’
/home/biocbuild/bbs-3.20-bioc/R/site-library/beachmat/include/beachmat3/read_lin_block.h:65:57:   required from here
/home/biocbuild/bbs-3.20-bioc/R/site-library/beachmat/include/beachmat3/Csparse_reader.h:535:17: warning: comparison of integer expressions of different signedness: ‘const size_t’ {aka ‘const long unsigned int’} and ‘R_xlen_t’ {aka ‘long int’} [-Wsign-compare]
  535 |         if (nnz != x.size()) {
      |             ~~~~^~~~~~~~~~~
/home/biocbuild/bbs-3.20-bioc/R/site-library/beachmat/include/beachmat3/Csparse_reader.h:551:45: warning: comparison of integer expressions of different signedness: ‘int’ and ‘const size_t’ {aka ‘const long unsigned int’} [-Wsign-compare]
  551 |                     if (lastR <= 0 || lastR > NR || lastC <= 0 || lastC > NC) {
      |                                       ~~~~~~^~~~
/home/biocbuild/bbs-3.20-bioc/R/site-library/beachmat/include/beachmat3/Csparse_reader.h:551:73: warning: comparison of integer expressions of different signedness: ‘int’ and ‘const size_t’ {aka ‘const long unsigned int’} [-Wsign-compare]
  551 |                     if (lastR <= 0 || lastR > NR || lastC <= 0 || lastC > NC) {
      |                                                                   ~~~~~~^~~~
/home/biocbuild/bbs-3.20-bioc/R/site-library/beachmat/include/beachmat3/Csparse_reader.h:593:35: warning: comparison of integer expressions of different signedness: ‘int’ and ‘const size_t’ {aka ‘const long unsigned int’} [-Wsign-compare]
  593 |                 for (int v = 0; v < nnz; ++v, ++rowIt, ++colIt, ++xIt) {
      |                                 ~~^~~~~
/home/biocbuild/bbs-3.20-bioc/R/site-library/beachmat/include/beachmat3/Csparse_reader.h: In instantiation of ‘beachmat::SparseArraySeed_reader<V, TIT>::SparseArraySeed_reader(Rcpp::RObject) [with V = Rcpp::Vector<14, Rcpp::PreserveStorage>; TIT = const double*; Rcpp::RObject = Rcpp::RObject_Impl<Rcpp::PreserveStorage>]’:
/home/biocbuild/bbs-3.20-bioc/R/site-library/beachmat/include/beachmat3/lin_matrix.h:561:46:   required from ‘beachmat::lin_SparseArraySeed<V, TIT>::lin_SparseArraySeed(Rcpp::RObject) [with V = Rcpp::Vector<14, Rcpp::PreserveStorage>; TIT = const double*; Rcpp::RObject = Rcpp::RObject_Impl<Rcpp::PreserveStorage>]’
/home/biocbuild/bbs-3.20-bioc/R/site-library/beachmat/include/beachmat3/read_lin_block.h:38:39:   required from ‘std::unique_ptr<M> beachmat::read_lin_sparse_block_raw(Rcpp::RObject) [with M = lin_matrix; Rcpp::RObject = Rcpp::RObject_Impl<Rcpp::PreserveStorage>]’
/home/biocbuild/bbs-3.20-bioc/R/site-library/beachmat/include/beachmat3/read_lin_block.h:65:57:   required from here
/home/biocbuild/bbs-3.20-bioc/R/site-library/beachmat/include/beachmat3/Csparse_reader.h:535:17: warning: comparison of integer expressions of different signedness: ‘const size_t’ {aka ‘const long unsigned int’} and ‘R_xlen_t’ {aka ‘long int’} [-Wsign-compare]
  535 |         if (nnz != x.size()) {
      |             ~~~~^~~~~~~~~~~
/home/biocbuild/bbs-3.20-bioc/R/site-library/beachmat/include/beachmat3/Csparse_reader.h:551:45: warning: comparison of integer expressions of different signedness: ‘int’ and ‘const size_t’ {aka ‘const long unsigned int’} [-Wsign-compare]
  551 |                     if (lastR <= 0 || lastR > NR || lastC <= 0 || lastC > NC) {
      |                                       ~~~~~~^~~~
/home/biocbuild/bbs-3.20-bioc/R/site-library/beachmat/include/beachmat3/Csparse_reader.h:551:73: warning: comparison of integer expressions of different signedness: ‘int’ and ‘const size_t’ {aka ‘const long unsigned int’} [-Wsign-compare]
  551 |                     if (lastR <= 0 || lastR > NR || lastC <= 0 || lastC > NC) {
      |                                                                   ~~~~~~^~~~
/home/biocbuild/bbs-3.20-bioc/R/site-library/beachmat/include/beachmat3/Csparse_reader.h:593:35: warning: comparison of integer expressions of different signedness: ‘int’ and ‘const size_t’ {aka ‘const long unsigned int’} [-Wsign-compare]
  593 |                 for (int v = 0; v < nnz; ++v, ++rowIt, ++colIt, ++xIt) {
      |                                 ~~^~~~~
/home/biocbuild/bbs-3.20-bioc/R/site-library/beachmat/include/beachmat3/Csparse_reader.h: In instantiation of ‘beachmat::SparseArraySeed_reader<V, TIT>::SparseArraySeed_reader(Rcpp::RObject) [with V = Rcpp::Vector<10, Rcpp::PreserveStorage>; TIT = const int*; Rcpp::RObject = Rcpp::RObject_Impl<Rcpp::PreserveStorage>]’:
/home/biocbuild/bbs-3.20-bioc/R/site-library/beachmat/include/beachmat3/lin_matrix.h:561:46:   required from ‘beachmat::lin_SparseArraySeed<V, TIT>::lin_SparseArraySeed(Rcpp::RObject) [with V = Rcpp::Vector<10, Rcpp::PreserveStorage>; TIT = const int*; Rcpp::RObject = Rcpp::RObject_Impl<Rcpp::PreserveStorage>]’
/home/biocbuild/bbs-3.20-bioc/R/site-library/beachmat/include/beachmat3/read_lin_block.h:40:39:   required from ‘std::unique_ptr<M> beachmat::read_lin_sparse_block_raw(Rcpp::RObject) [with M = lin_matrix; Rcpp::RObject = Rcpp::RObject_Impl<Rcpp::PreserveStorage>]’
/home/biocbuild/bbs-3.20-bioc/R/site-library/beachmat/include/beachmat3/read_lin_block.h:65:57:   required from here
/home/biocbuild/bbs-3.20-bioc/R/site-library/beachmat/include/beachmat3/Csparse_reader.h:535:17: warning: comparison of integer expressions of different signedness: ‘const size_t’ {aka ‘const long unsigned int’} and ‘R_xlen_t’ {aka ‘long int’} [-Wsign-compare]
  535 |         if (nnz != x.size()) {
      |             ~~~~^~~~~~~~~~~
/home/biocbuild/bbs-3.20-bioc/R/site-library/beachmat/include/beachmat3/Csparse_reader.h:551:45: warning: comparison of integer expressions of different signedness: ‘int’ and ‘const size_t’ {aka ‘const long unsigned int’} [-Wsign-compare]
  551 |                     if (lastR <= 0 || lastR > NR || lastC <= 0 || lastC > NC) {
      |                                       ~~~~~~^~~~
/home/biocbuild/bbs-3.20-bioc/R/site-library/beachmat/include/beachmat3/Csparse_reader.h:551:73: warning: comparison of integer expressions of different signedness: ‘int’ and ‘const size_t’ {aka ‘const long unsigned int’} [-Wsign-compare]
  551 |                     if (lastR <= 0 || lastR > NR || lastC <= 0 || lastC > NC) {
      |                                                                   ~~~~~~^~~~
/home/biocbuild/bbs-3.20-bioc/R/site-library/beachmat/include/beachmat3/Csparse_reader.h:593:35: warning: comparison of integer expressions of different signedness: ‘int’ and ‘const size_t’ {aka ‘const long unsigned int’} [-Wsign-compare]
  593 |                 for (int v = 0; v < nnz; ++v, ++rowIt, ++colIt, ++xIt) {
      |                                 ~~^~~~~
/home/biocbuild/bbs-3.20-bioc/R/site-library/beachmat/include/beachmat3/Csparse_reader.h: In instantiation of ‘beachmat::sparse_index<OUT, I> beachmat::Csparse_core<TIT, I, P>::get_row(size_t, ALT, I*, size_t, size_t) [with OUT = const int*; ALT = int*; TIT = const double*; I = int; P = long unsigned int; size_t = long unsigned int]’:
/home/biocbuild/bbs-3.20-bioc/R/site-library/beachmat/include/beachmat3/Csparse_reader.h:650:42:   required from ‘beachmat::sparse_index<OUT, int> beachmat::SparseArraySeed_reader<V, TIT>::get_row(size_t, ALT, int*, size_t, size_t) [with OUT = const int*; ALT = int*; V = Rcpp::Vector<14, Rcpp::PreserveStorage>; TIT = const double*; size_t = long unsigned int]’
/home/biocbuild/bbs-3.20-bioc/R/site-library/beachmat/include/beachmat3/lin_matrix.h:596:51:   required from ‘beachmat::sparse_index<const int*, int> beachmat::lin_SparseArraySeed<V, TIT>::get_row(size_t, int*, int*, size_t, size_t) [with V = Rcpp::Vector<14, Rcpp::PreserveStorage>; TIT = const double*; size_t = long unsigned int]’
/home/biocbuild/bbs-3.20-bioc/R/site-library/beachmat/include/beachmat3/lin_matrix.h:595:35:   required from here
/home/biocbuild/bbs-3.20-bioc/R/site-library/beachmat/include/beachmat3/Csparse_reader.h:250:22: warning: comparison of integer expressions of different signedness: ‘const int’ and ‘const long unsigned int’ [-Wsign-compare]
  250 |             if (idex != *pIt && static_cast<size_t>(i[idex]) == r) {
      |                 ~~~~~^~~~~~~
/home/biocbuild/bbs-3.20-bioc/R/site-library/beachmat/include/beachmat3/Csparse_reader.h: In instantiation of ‘beachmat::sparse_index<OUT, I> beachmat::Csparse_core<TIT, I, P>::get_row(size_t, ALT, I*, size_t, size_t) [with OUT = const double*; ALT = double*; TIT = const double*; I = int; P = long unsigned int; size_t = long unsigned int]’:
/home/biocbuild/bbs-3.20-bioc/R/site-library/beachmat/include/beachmat3/Csparse_reader.h:650:42:   required from ‘beachmat::sparse_index<OUT, int> beachmat::SparseArraySeed_reader<V, TIT>::get_row(size_t, ALT, int*, size_t, size_t) [with OUT = const double*; ALT = double*; V = Rcpp::Vector<14, Rcpp::PreserveStorage>; TIT = const double*; size_t = long unsigned int]’
/home/biocbuild/bbs-3.20-bioc/R/site-library/beachmat/include/beachmat3/lin_matrix.h:602:54:   required from ‘beachmat::sparse_index<const double*, int> beachmat::lin_SparseArraySeed<V, TIT>::get_row(size_t, double*, int*, size_t, size_t) [with V = Rcpp::Vector<14, Rcpp::PreserveStorage>; TIT = const double*; size_t = long unsigned int]’
/home/biocbuild/bbs-3.20-bioc/R/site-library/beachmat/include/beachmat3/lin_matrix.h:601:38:   required from here
/home/biocbuild/bbs-3.20-bioc/R/site-library/beachmat/include/beachmat3/Csparse_reader.h:250:22: warning: comparison of integer expressions of different signedness: ‘const int’ and ‘const long unsigned int’ [-Wsign-compare]
/home/biocbuild/bbs-3.20-bioc/R/site-library/beachmat/include/beachmat3/Csparse_reader.h: In instantiation of ‘beachmat::sparse_index<OUT, I> beachmat::Csparse_core<TIT, I, P>::get_row(size_t, ALT, I*, size_t, size_t) [with OUT = const int*; ALT = int*; TIT = const int*; I = int; P = long unsigned int; size_t = long unsigned int]’:
/home/biocbuild/bbs-3.20-bioc/R/site-library/beachmat/include/beachmat3/Csparse_reader.h:650:42:   required from ‘beachmat::sparse_index<OUT, int> beachmat::SparseArraySeed_reader<V, TIT>::get_row(size_t, ALT, int*, size_t, size_t) [with OUT = const int*; ALT = int*; V = Rcpp::Vector<10, Rcpp::PreserveStorage>; TIT = const int*; size_t = long unsigned int]’
/home/biocbuild/bbs-3.20-bioc/R/site-library/beachmat/include/beachmat3/lin_matrix.h:596:51:   required from ‘beachmat::sparse_index<const int*, int> beachmat::lin_SparseArraySeed<V, TIT>::get_row(size_t, int*, int*, size_t, size_t) [with V = Rcpp::Vector<10, Rcpp::PreserveStorage>; TIT = const int*; size_t = long unsigned int]’
/home/biocbuild/bbs-3.20-bioc/R/site-library/beachmat/include/beachmat3/lin_matrix.h:595:35:   required from here
/home/biocbuild/bbs-3.20-bioc/R/site-library/beachmat/include/beachmat3/Csparse_reader.h:250:22: warning: comparison of integer expressions of different signedness: ‘const int’ and ‘const long unsigned int’ [-Wsign-compare]
/home/biocbuild/bbs-3.20-bioc/R/site-library/beachmat/include/beachmat3/Csparse_reader.h: In instantiation of ‘beachmat::sparse_index<OUT, I> beachmat::Csparse_core<TIT, I, P>::get_row(size_t, ALT, I*, size_t, size_t) [with OUT = const double*; ALT = double*; TIT = const int*; I = int; P = long unsigned int; size_t = long unsigned int]’:
/home/biocbuild/bbs-3.20-bioc/R/site-library/beachmat/include/beachmat3/Csparse_reader.h:650:42:   required from ‘beachmat::sparse_index<OUT, int> beachmat::SparseArraySeed_reader<V, TIT>::get_row(size_t, ALT, int*, size_t, size_t) [with OUT = const double*; ALT = double*; V = Rcpp::Vector<10, Rcpp::PreserveStorage>; TIT = const int*; size_t = long unsigned int]’
/home/biocbuild/bbs-3.20-bioc/R/site-library/beachmat/include/beachmat3/lin_matrix.h:602:54:   required from ‘beachmat::sparse_index<const double*, int> beachmat::lin_SparseArraySeed<V, TIT>::get_row(size_t, double*, int*, size_t, size_t) [with V = Rcpp::Vector<10, Rcpp::PreserveStorage>; TIT = const int*; size_t = long unsigned int]’
/home/biocbuild/bbs-3.20-bioc/R/site-library/beachmat/include/beachmat3/lin_matrix.h:601:38:   required from here
/home/biocbuild/bbs-3.20-bioc/R/site-library/beachmat/include/beachmat3/Csparse_reader.h:250:22: warning: comparison of integer expressions of different signedness: ‘const int’ and ‘const long unsigned int’ [-Wsign-compare]
g++ -std=gnu++11 -I"/home/biocbuild/bbs-3.20-bioc/R/include" -DNDEBUG -I../inst/include/ -I'/home/biocbuild/bbs-3.20-bioc/R/site-library/Rcpp/include' -I'/home/biocbuild/bbs-3.20-bioc/R/site-library/beachmat/include' -I/usr/local/include    -fpic  -g -O2  -Wall  -c fit_linear_model.cpp -o fit_linear_model.o
In file included from /home/biocbuild/bbs-3.20-bioc/R/site-library/beachmat/include/beachmat3/lin_matrix.h:12,
                 from /home/biocbuild/bbs-3.20-bioc/R/site-library/beachmat/include/beachmat3/read_lin_block.h:11,
                 from /home/biocbuild/bbs-3.20-bioc/R/site-library/beachmat/include/beachmat3/beachmat.h:24,
                 from fit_linear_model.cpp:2:
/home/biocbuild/bbs-3.20-bioc/R/site-library/beachmat/include/beachmat3/Csparse_reader.h: In instantiation of ‘beachmat::SparseArraySeed_reader<V, TIT>::SparseArraySeed_reader(Rcpp::RObject) [with V = Rcpp::Vector<13>; TIT = const int*; Rcpp::RObject = Rcpp::RObject_Impl<Rcpp::PreserveStorage>]’:
/home/biocbuild/bbs-3.20-bioc/R/site-library/beachmat/include/beachmat3/lin_matrix.h:561:46:   required from ‘beachmat::lin_SparseArraySeed<V, TIT>::lin_SparseArraySeed(Rcpp::RObject) [with V = Rcpp::Vector<13>; TIT = const int*; Rcpp::RObject = Rcpp::RObject_Impl<Rcpp::PreserveStorage>]’
/home/biocbuild/bbs-3.20-bioc/R/site-library/beachmat/include/beachmat3/read_lin_block.h:36:39:   required from ‘std::unique_ptr<M> beachmat::read_lin_sparse_block_raw(Rcpp::RObject) [with M = lin_matrix; Rcpp::RObject = Rcpp::RObject_Impl<Rcpp::PreserveStorage>]’
/home/biocbuild/bbs-3.20-bioc/R/site-library/beachmat/include/beachmat3/read_lin_block.h:65:57:   required from here
/home/biocbuild/bbs-3.20-bioc/R/site-library/beachmat/include/beachmat3/Csparse_reader.h:535:17: warning: comparison of integer expressions of different signedness: ‘const size_t’ {aka ‘const long unsigned int’} and ‘R_xlen_t’ {aka ‘long int’} [-Wsign-compare]
  535 |         if (nnz != x.size()) {
      |             ~~~~^~~~~~~~~~~
/home/biocbuild/bbs-3.20-bioc/R/site-library/beachmat/include/beachmat3/Csparse_reader.h:551:45: warning: comparison of integer expressions of different signedness: ‘int’ and ‘const size_t’ {aka ‘const long unsigned int’} [-Wsign-compare]
  551 |                     if (lastR <= 0 || lastR > NR || lastC <= 0 || lastC > NC) {
      |                                       ~~~~~~^~~~
/home/biocbuild/bbs-3.20-bioc/R/site-library/beachmat/include/beachmat3/Csparse_reader.h:551:73: warning: comparison of integer expressions of different signedness: ‘int’ and ‘const size_t’ {aka ‘const long unsigned int’} [-Wsign-compare]
  551 |                     if (lastR <= 0 || lastR > NR || lastC <= 0 || lastC > NC) {
      |                                                                   ~~~~~~^~~~
/home/biocbuild/bbs-3.20-bioc/R/site-library/beachmat/include/beachmat3/Csparse_reader.h:593:35: warning: comparison of integer expressions of different signedness: ‘int’ and ‘const size_t’ {aka ‘const long unsigned int’} [-Wsign-compare]
  593 |                 for (int v = 0; v < nnz; ++v, ++rowIt, ++colIt, ++xIt) {
      |                                 ~~^~~~~
/home/biocbuild/bbs-3.20-bioc/R/site-library/beachmat/include/beachmat3/Csparse_reader.h: In instantiation of ‘beachmat::SparseArraySeed_reader<V, TIT>::SparseArraySeed_reader(Rcpp::RObject) [with V = Rcpp::Vector<14, Rcpp::PreserveStorage>; TIT = const double*; Rcpp::RObject = Rcpp::RObject_Impl<Rcpp::PreserveStorage>]’:
/home/biocbuild/bbs-3.20-bioc/R/site-library/beachmat/include/beachmat3/lin_matrix.h:561:46:   required from ‘beachmat::lin_SparseArraySeed<V, TIT>::lin_SparseArraySeed(Rcpp::RObject) [with V = Rcpp::Vector<14, Rcpp::PreserveStorage>; TIT = const double*; Rcpp::RObject = Rcpp::RObject_Impl<Rcpp::PreserveStorage>]’
/home/biocbuild/bbs-3.20-bioc/R/site-library/beachmat/include/beachmat3/read_lin_block.h:38:39:   required from ‘std::unique_ptr<M> beachmat::read_lin_sparse_block_raw(Rcpp::RObject) [with M = lin_matrix; Rcpp::RObject = Rcpp::RObject_Impl<Rcpp::PreserveStorage>]’
/home/biocbuild/bbs-3.20-bioc/R/site-library/beachmat/include/beachmat3/read_lin_block.h:65:57:   required from here
/home/biocbuild/bbs-3.20-bioc/R/site-library/beachmat/include/beachmat3/Csparse_reader.h:535:17: warning: comparison of integer expressions of different signedness: ‘const size_t’ {aka ‘const long unsigned int’} and ‘R_xlen_t’ {aka ‘long int’} [-Wsign-compare]
  535 |         if (nnz != x.size()) {
      |             ~~~~^~~~~~~~~~~
/home/biocbuild/bbs-3.20-bioc/R/site-library/beachmat/include/beachmat3/Csparse_reader.h:551:45: warning: comparison of integer expressions of different signedness: ‘int’ and ‘const size_t’ {aka ‘const long unsigned int’} [-Wsign-compare]
  551 |                     if (lastR <= 0 || lastR > NR || lastC <= 0 || lastC > NC) {
      |                                       ~~~~~~^~~~
/home/biocbuild/bbs-3.20-bioc/R/site-library/beachmat/include/beachmat3/Csparse_reader.h:551:73: warning: comparison of integer expressions of different signedness: ‘int’ and ‘const size_t’ {aka ‘const long unsigned int’} [-Wsign-compare]
  551 |                     if (lastR <= 0 || lastR > NR || lastC <= 0 || lastC > NC) {
      |                                                                   ~~~~~~^~~~
/home/biocbuild/bbs-3.20-bioc/R/site-library/beachmat/include/beachmat3/Csparse_reader.h:593:35: warning: comparison of integer expressions of different signedness: ‘int’ and ‘const size_t’ {aka ‘const long unsigned int’} [-Wsign-compare]
  593 |                 for (int v = 0; v < nnz; ++v, ++rowIt, ++colIt, ++xIt) {
      |                                 ~~^~~~~
/home/biocbuild/bbs-3.20-bioc/R/site-library/beachmat/include/beachmat3/Csparse_reader.h: In instantiation of ‘beachmat::SparseArraySeed_reader<V, TIT>::SparseArraySeed_reader(Rcpp::RObject) [with V = Rcpp::Vector<10, Rcpp::PreserveStorage>; TIT = const int*; Rcpp::RObject = Rcpp::RObject_Impl<Rcpp::PreserveStorage>]’:
/home/biocbuild/bbs-3.20-bioc/R/site-library/beachmat/include/beachmat3/lin_matrix.h:561:46:   required from ‘beachmat::lin_SparseArraySeed<V, TIT>::lin_SparseArraySeed(Rcpp::RObject) [with V = Rcpp::Vector<10, Rcpp::PreserveStorage>; TIT = const int*; Rcpp::RObject = Rcpp::RObject_Impl<Rcpp::PreserveStorage>]’
/home/biocbuild/bbs-3.20-bioc/R/site-library/beachmat/include/beachmat3/read_lin_block.h:40:39:   required from ‘std::unique_ptr<M> beachmat::read_lin_sparse_block_raw(Rcpp::RObject) [with M = lin_matrix; Rcpp::RObject = Rcpp::RObject_Impl<Rcpp::PreserveStorage>]’
/home/biocbuild/bbs-3.20-bioc/R/site-library/beachmat/include/beachmat3/read_lin_block.h:65:57:   required from here
/home/biocbuild/bbs-3.20-bioc/R/site-library/beachmat/include/beachmat3/Csparse_reader.h:535:17: warning: comparison of integer expressions of different signedness: ‘const size_t’ {aka ‘const long unsigned int’} and ‘R_xlen_t’ {aka ‘long int’} [-Wsign-compare]
  535 |         if (nnz != x.size()) {
      |             ~~~~^~~~~~~~~~~
/home/biocbuild/bbs-3.20-bioc/R/site-library/beachmat/include/beachmat3/Csparse_reader.h:551:45: warning: comparison of integer expressions of different signedness: ‘int’ and ‘const size_t’ {aka ‘const long unsigned int’} [-Wsign-compare]
  551 |                     if (lastR <= 0 || lastR > NR || lastC <= 0 || lastC > NC) {
      |                                       ~~~~~~^~~~
/home/biocbuild/bbs-3.20-bioc/R/site-library/beachmat/include/beachmat3/Csparse_reader.h:551:73: warning: comparison of integer expressions of different signedness: ‘int’ and ‘const size_t’ {aka ‘const long unsigned int’} [-Wsign-compare]
  551 |                     if (lastR <= 0 || lastR > NR || lastC <= 0 || lastC > NC) {
      |                                                                   ~~~~~~^~~~
/home/biocbuild/bbs-3.20-bioc/R/site-library/beachmat/include/beachmat3/Csparse_reader.h:593:35: warning: comparison of integer expressions of different signedness: ‘int’ and ‘const size_t’ {aka ‘const long unsigned int’} [-Wsign-compare]
  593 |                 for (int v = 0; v < nnz; ++v, ++rowIt, ++colIt, ++xIt) {
      |                                 ~~^~~~~
/home/biocbuild/bbs-3.20-bioc/R/site-library/beachmat/include/beachmat3/Csparse_reader.h: In instantiation of ‘beachmat::sparse_index<OUT, I> beachmat::Csparse_core<TIT, I, P>::get_row(size_t, ALT, I*, size_t, size_t) [with OUT = const int*; ALT = int*; TIT = const double*; I = int; P = long unsigned int; size_t = long unsigned int]’:
/home/biocbuild/bbs-3.20-bioc/R/site-library/beachmat/include/beachmat3/Csparse_reader.h:650:42:   required from ‘beachmat::sparse_index<OUT, int> beachmat::SparseArraySeed_reader<V, TIT>::get_row(size_t, ALT, int*, size_t, size_t) [with OUT = const int*; ALT = int*; V = Rcpp::Vector<14, Rcpp::PreserveStorage>; TIT = const double*; size_t = long unsigned int]’
/home/biocbuild/bbs-3.20-bioc/R/site-library/beachmat/include/beachmat3/lin_matrix.h:596:51:   required from ‘beachmat::sparse_index<const int*, int> beachmat::lin_SparseArraySeed<V, TIT>::get_row(size_t, int*, int*, size_t, size_t) [with V = Rcpp::Vector<14, Rcpp::PreserveStorage>; TIT = const double*; size_t = long unsigned int]’
/home/biocbuild/bbs-3.20-bioc/R/site-library/beachmat/include/beachmat3/lin_matrix.h:595:35:   required from here
/home/biocbuild/bbs-3.20-bioc/R/site-library/beachmat/include/beachmat3/Csparse_reader.h:250:22: warning: comparison of integer expressions of different signedness: ‘const int’ and ‘const long unsigned int’ [-Wsign-compare]
  250 |             if (idex != *pIt && static_cast<size_t>(i[idex]) == r) {
      |                 ~~~~~^~~~~~~
/home/biocbuild/bbs-3.20-bioc/R/site-library/beachmat/include/beachmat3/Csparse_reader.h: In instantiation of ‘beachmat::sparse_index<OUT, I> beachmat::Csparse_core<TIT, I, P>::get_row(size_t, ALT, I*, size_t, size_t) [with OUT = const double*; ALT = double*; TIT = const double*; I = int; P = long unsigned int; size_t = long unsigned int]’:
/home/biocbuild/bbs-3.20-bioc/R/site-library/beachmat/include/beachmat3/Csparse_reader.h:650:42:   required from ‘beachmat::sparse_index<OUT, int> beachmat::SparseArraySeed_reader<V, TIT>::get_row(size_t, ALT, int*, size_t, size_t) [with OUT = const double*; ALT = double*; V = Rcpp::Vector<14, Rcpp::PreserveStorage>; TIT = const double*; size_t = long unsigned int]’
/home/biocbuild/bbs-3.20-bioc/R/site-library/beachmat/include/beachmat3/lin_matrix.h:602:54:   required from ‘beachmat::sparse_index<const double*, int> beachmat::lin_SparseArraySeed<V, TIT>::get_row(size_t, double*, int*, size_t, size_t) [with V = Rcpp::Vector<14, Rcpp::PreserveStorage>; TIT = const double*; size_t = long unsigned int]’
/home/biocbuild/bbs-3.20-bioc/R/site-library/beachmat/include/beachmat3/lin_matrix.h:601:38:   required from here
/home/biocbuild/bbs-3.20-bioc/R/site-library/beachmat/include/beachmat3/Csparse_reader.h:250:22: warning: comparison of integer expressions of different signedness: ‘const int’ and ‘const long unsigned int’ [-Wsign-compare]
/home/biocbuild/bbs-3.20-bioc/R/site-library/beachmat/include/beachmat3/Csparse_reader.h: In instantiation of ‘beachmat::sparse_index<OUT, I> beachmat::Csparse_core<TIT, I, P>::get_row(size_t, ALT, I*, size_t, size_t) [with OUT = const int*; ALT = int*; TIT = const int*; I = int; P = long unsigned int; size_t = long unsigned int]’:
/home/biocbuild/bbs-3.20-bioc/R/site-library/beachmat/include/beachmat3/Csparse_reader.h:650:42:   required from ‘beachmat::sparse_index<OUT, int> beachmat::SparseArraySeed_reader<V, TIT>::get_row(size_t, ALT, int*, size_t, size_t) [with OUT = const int*; ALT = int*; V = Rcpp::Vector<10, Rcpp::PreserveStorage>; TIT = const int*; size_t = long unsigned int]’
/home/biocbuild/bbs-3.20-bioc/R/site-library/beachmat/include/beachmat3/lin_matrix.h:596:51:   required from ‘beachmat::sparse_index<const int*, int> beachmat::lin_SparseArraySeed<V, TIT>::get_row(size_t, int*, int*, size_t, size_t) [with V = Rcpp::Vector<10, Rcpp::PreserveStorage>; TIT = const int*; size_t = long unsigned int]’
/home/biocbuild/bbs-3.20-bioc/R/site-library/beachmat/include/beachmat3/lin_matrix.h:595:35:   required from here
/home/biocbuild/bbs-3.20-bioc/R/site-library/beachmat/include/beachmat3/Csparse_reader.h:250:22: warning: comparison of integer expressions of different signedness: ‘const int’ and ‘const long unsigned int’ [-Wsign-compare]
/home/biocbuild/bbs-3.20-bioc/R/site-library/beachmat/include/beachmat3/Csparse_reader.h: In instantiation of ‘beachmat::sparse_index<OUT, I> beachmat::Csparse_core<TIT, I, P>::get_row(size_t, ALT, I*, size_t, size_t) [with OUT = const double*; ALT = double*; TIT = const int*; I = int; P = long unsigned int; size_t = long unsigned int]’:
/home/biocbuild/bbs-3.20-bioc/R/site-library/beachmat/include/beachmat3/Csparse_reader.h:650:42:   required from ‘beachmat::sparse_index<OUT, int> beachmat::SparseArraySeed_reader<V, TIT>::get_row(size_t, ALT, int*, size_t, size_t) [with OUT = const double*; ALT = double*; V = Rcpp::Vector<10, Rcpp::PreserveStorage>; TIT = const int*; size_t = long unsigned int]’
/home/biocbuild/bbs-3.20-bioc/R/site-library/beachmat/include/beachmat3/lin_matrix.h:602:54:   required from ‘beachmat::sparse_index<const double*, int> beachmat::lin_SparseArraySeed<V, TIT>::get_row(size_t, double*, int*, size_t, size_t) [with V = Rcpp::Vector<10, Rcpp::PreserveStorage>; TIT = const int*; size_t = long unsigned int]’
/home/biocbuild/bbs-3.20-bioc/R/site-library/beachmat/include/beachmat3/lin_matrix.h:601:38:   required from here
/home/biocbuild/bbs-3.20-bioc/R/site-library/beachmat/include/beachmat3/Csparse_reader.h:250:22: warning: comparison of integer expressions of different signedness: ‘const int’ and ‘const long unsigned int’ [-Wsign-compare]
g++ -std=gnu++11 -I"/home/biocbuild/bbs-3.20-bioc/R/include" -DNDEBUG -I../inst/include/ -I'/home/biocbuild/bbs-3.20-bioc/R/site-library/Rcpp/include' -I'/home/biocbuild/bbs-3.20-bioc/R/site-library/beachmat/include' -I/usr/local/include    -fpic  -g -O2  -Wall  -c pool_size_factors.cpp -o pool_size_factors.o
pool_size_factors.cpp: In function ‘Rcpp::List pool_size_factors(Rcpp::RObject, Rcpp::NumericVector, Rcpp::IntegerVector, Rcpp::IntegerVector)’:
pool_size_factors.cpp:56:15: warning: comparison of integer expressions of different signedness: ‘const size_t’ {aka ‘const long unsigned int’} and ‘R_xlen_t’ {aka ‘long int’} [-Wsign-compare]
   56 |     if (ngenes!=pseudo_cell.size()) {
      |         ~~~~~~^~~~~~~~~~~~~~~~~~~~
pool_size_factors.cpp:61:22: warning: comparison of integer expressions of different signedness: ‘R_xlen_t’ {aka ‘long int’} and ‘long unsigned int’ [-Wsign-compare]
   61 |     if (order.size() < ncells*2-1)  {
      |         ~~~~~~~~~~~~~^~~~~~~~~~~~
pool_size_factors.cpp:170:37: warning: comparison of integer expressions of different signedness: ‘int’ and ‘long unsigned int’ [-Wsign-compare]
  170 |                     for (auto i=0; i<n; ++i, ++val, ++rows) {
      |                                    ~^~
In file included from /home/biocbuild/bbs-3.20-bioc/R/site-library/beachmat/include/beachmat3/lin_matrix.h:12,
                 from /home/biocbuild/bbs-3.20-bioc/R/site-library/beachmat/include/beachmat3/read_lin_block.h:11,
                 from /home/biocbuild/bbs-3.20-bioc/R/site-library/beachmat/include/beachmat3/beachmat.h:24,
                 from pool_size_factors.cpp:2:
/home/biocbuild/bbs-3.20-bioc/R/site-library/beachmat/include/beachmat3/Csparse_reader.h: In instantiation of ‘beachmat::SparseArraySeed_reader<V, TIT>::SparseArraySeed_reader(Rcpp::RObject) [with V = Rcpp::Vector<13>; TIT = const int*; Rcpp::RObject = Rcpp::RObject_Impl<Rcpp::PreserveStorage>]’:
/home/biocbuild/bbs-3.20-bioc/R/site-library/beachmat/include/beachmat3/lin_matrix.h:561:46:   required from ‘beachmat::lin_SparseArraySeed<V, TIT>::lin_SparseArraySeed(Rcpp::RObject) [with V = Rcpp::Vector<13>; TIT = const int*; Rcpp::RObject = Rcpp::RObject_Impl<Rcpp::PreserveStorage>]’
/home/biocbuild/bbs-3.20-bioc/R/site-library/beachmat/include/beachmat3/read_lin_block.h:36:39:   required from ‘std::unique_ptr<M> beachmat::read_lin_sparse_block_raw(Rcpp::RObject) [with M = lin_matrix; Rcpp::RObject = Rcpp::RObject_Impl<Rcpp::PreserveStorage>]’
/home/biocbuild/bbs-3.20-bioc/R/site-library/beachmat/include/beachmat3/read_lin_block.h:65:57:   required from here
/home/biocbuild/bbs-3.20-bioc/R/site-library/beachmat/include/beachmat3/Csparse_reader.h:535:17: warning: comparison of integer expressions of different signedness: ‘const size_t’ {aka ‘const long unsigned int’} and ‘R_xlen_t’ {aka ‘long int’} [-Wsign-compare]
  535 |         if (nnz != x.size()) {
      |             ~~~~^~~~~~~~~~~
/home/biocbuild/bbs-3.20-bioc/R/site-library/beachmat/include/beachmat3/Csparse_reader.h:551:45: warning: comparison of integer expressions of different signedness: ‘int’ and ‘const size_t’ {aka ‘const long unsigned int’} [-Wsign-compare]
  551 |                     if (lastR <= 0 || lastR > NR || lastC <= 0 || lastC > NC) {
      |                                       ~~~~~~^~~~
/home/biocbuild/bbs-3.20-bioc/R/site-library/beachmat/include/beachmat3/Csparse_reader.h:551:73: warning: comparison of integer expressions of different signedness: ‘int’ and ‘const size_t’ {aka ‘const long unsigned int’} [-Wsign-compare]
  551 |                     if (lastR <= 0 || lastR > NR || lastC <= 0 || lastC > NC) {
      |                                                                   ~~~~~~^~~~
/home/biocbuild/bbs-3.20-bioc/R/site-library/beachmat/include/beachmat3/Csparse_reader.h:593:35: warning: comparison of integer expressions of different signedness: ‘int’ and ‘const size_t’ {aka ‘const long unsigned int’} [-Wsign-compare]
  593 |                 for (int v = 0; v < nnz; ++v, ++rowIt, ++colIt, ++xIt) {
      |                                 ~~^~~~~
/home/biocbuild/bbs-3.20-bioc/R/site-library/beachmat/include/beachmat3/Csparse_reader.h: In instantiation of ‘beachmat::SparseArraySeed_reader<V, TIT>::SparseArraySeed_reader(Rcpp::RObject) [with V = Rcpp::Vector<14, Rcpp::PreserveStorage>; TIT = const double*; Rcpp::RObject = Rcpp::RObject_Impl<Rcpp::PreserveStorage>]’:
/home/biocbuild/bbs-3.20-bioc/R/site-library/beachmat/include/beachmat3/lin_matrix.h:561:46:   required from ‘beachmat::lin_SparseArraySeed<V, TIT>::lin_SparseArraySeed(Rcpp::RObject) [with V = Rcpp::Vector<14, Rcpp::PreserveStorage>; TIT = const double*; Rcpp::RObject = Rcpp::RObject_Impl<Rcpp::PreserveStorage>]’
/home/biocbuild/bbs-3.20-bioc/R/site-library/beachmat/include/beachmat3/read_lin_block.h:38:39:   required from ‘std::unique_ptr<M> beachmat::read_lin_sparse_block_raw(Rcpp::RObject) [with M = lin_matrix; Rcpp::RObject = Rcpp::RObject_Impl<Rcpp::PreserveStorage>]’
/home/biocbuild/bbs-3.20-bioc/R/site-library/beachmat/include/beachmat3/read_lin_block.h:65:57:   required from here
/home/biocbuild/bbs-3.20-bioc/R/site-library/beachmat/include/beachmat3/Csparse_reader.h:535:17: warning: comparison of integer expressions of different signedness: ‘const size_t’ {aka ‘const long unsigned int’} and ‘R_xlen_t’ {aka ‘long int’} [-Wsign-compare]
  535 |         if (nnz != x.size()) {
      |             ~~~~^~~~~~~~~~~
/home/biocbuild/bbs-3.20-bioc/R/site-library/beachmat/include/beachmat3/Csparse_reader.h:551:45: warning: comparison of integer expressions of different signedness: ‘int’ and ‘const size_t’ {aka ‘const long unsigned int’} [-Wsign-compare]
  551 |                     if (lastR <= 0 || lastR > NR || lastC <= 0 || lastC > NC) {
      |                                       ~~~~~~^~~~
/home/biocbuild/bbs-3.20-bioc/R/site-library/beachmat/include/beachmat3/Csparse_reader.h:551:73: warning: comparison of integer expressions of different signedness: ‘int’ and ‘const size_t’ {aka ‘const long unsigned int’} [-Wsign-compare]
  551 |                     if (lastR <= 0 || lastR > NR || lastC <= 0 || lastC > NC) {
      |                                                                   ~~~~~~^~~~
/home/biocbuild/bbs-3.20-bioc/R/site-library/beachmat/include/beachmat3/Csparse_reader.h:593:35: warning: comparison of integer expressions of different signedness: ‘int’ and ‘const size_t’ {aka ‘const long unsigned int’} [-Wsign-compare]
  593 |                 for (int v = 0; v < nnz; ++v, ++rowIt, ++colIt, ++xIt) {
      |                                 ~~^~~~~
/home/biocbuild/bbs-3.20-bioc/R/site-library/beachmat/include/beachmat3/Csparse_reader.h: In instantiation of ‘beachmat::SparseArraySeed_reader<V, TIT>::SparseArraySeed_reader(Rcpp::RObject) [with V = Rcpp::Vector<10, Rcpp::PreserveStorage>; TIT = const int*; Rcpp::RObject = Rcpp::RObject_Impl<Rcpp::PreserveStorage>]’:
/home/biocbuild/bbs-3.20-bioc/R/site-library/beachmat/include/beachmat3/lin_matrix.h:561:46:   required from ‘beachmat::lin_SparseArraySeed<V, TIT>::lin_SparseArraySeed(Rcpp::RObject) [with V = Rcpp::Vector<10, Rcpp::PreserveStorage>; TIT = const int*; Rcpp::RObject = Rcpp::RObject_Impl<Rcpp::PreserveStorage>]’
/home/biocbuild/bbs-3.20-bioc/R/site-library/beachmat/include/beachmat3/read_lin_block.h:40:39:   required from ‘std::unique_ptr<M> beachmat::read_lin_sparse_block_raw(Rcpp::RObject) [with M = lin_matrix; Rcpp::RObject = Rcpp::RObject_Impl<Rcpp::PreserveStorage>]’
/home/biocbuild/bbs-3.20-bioc/R/site-library/beachmat/include/beachmat3/read_lin_block.h:65:57:   required from here
/home/biocbuild/bbs-3.20-bioc/R/site-library/beachmat/include/beachmat3/Csparse_reader.h:535:17: warning: comparison of integer expressions of different signedness: ‘const size_t’ {aka ‘const long unsigned int’} and ‘R_xlen_t’ {aka ‘long int’} [-Wsign-compare]
  535 |         if (nnz != x.size()) {
      |             ~~~~^~~~~~~~~~~
/home/biocbuild/bbs-3.20-bioc/R/site-library/beachmat/include/beachmat3/Csparse_reader.h:551:45: warning: comparison of integer expressions of different signedness: ‘int’ and ‘const size_t’ {aka ‘const long unsigned int’} [-Wsign-compare]
  551 |                     if (lastR <= 0 || lastR > NR || lastC <= 0 || lastC > NC) {
      |                                       ~~~~~~^~~~
/home/biocbuild/bbs-3.20-bioc/R/site-library/beachmat/include/beachmat3/Csparse_reader.h:551:73: warning: comparison of integer expressions of different signedness: ‘int’ and ‘const size_t’ {aka ‘const long unsigned int’} [-Wsign-compare]
  551 |                     if (lastR <= 0 || lastR > NR || lastC <= 0 || lastC > NC) {
      |                                                                   ~~~~~~^~~~
/home/biocbuild/bbs-3.20-bioc/R/site-library/beachmat/include/beachmat3/Csparse_reader.h:593:35: warning: comparison of integer expressions of different signedness: ‘int’ and ‘const size_t’ {aka ‘const long unsigned int’} [-Wsign-compare]
  593 |                 for (int v = 0; v < nnz; ++v, ++rowIt, ++colIt, ++xIt) {
      |                                 ~~^~~~~
/home/biocbuild/bbs-3.20-bioc/R/site-library/beachmat/include/beachmat3/Csparse_reader.h: In instantiation of ‘beachmat::sparse_index<OUT, I> beachmat::Csparse_core<TIT, I, P>::get_row(size_t, ALT, I*, size_t, size_t) [with OUT = const int*; ALT = int*; TIT = const double*; I = int; P = long unsigned int; size_t = long unsigned int]’:
/home/biocbuild/bbs-3.20-bioc/R/site-library/beachmat/include/beachmat3/Csparse_reader.h:650:42:   required from ‘beachmat::sparse_index<OUT, int> beachmat::SparseArraySeed_reader<V, TIT>::get_row(size_t, ALT, int*, size_t, size_t) [with OUT = const int*; ALT = int*; V = Rcpp::Vector<14, Rcpp::PreserveStorage>; TIT = const double*; size_t = long unsigned int]’
/home/biocbuild/bbs-3.20-bioc/R/site-library/beachmat/include/beachmat3/lin_matrix.h:596:51:   required from ‘beachmat::sparse_index<const int*, int> beachmat::lin_SparseArraySeed<V, TIT>::get_row(size_t, int*, int*, size_t, size_t) [with V = Rcpp::Vector<14, Rcpp::PreserveStorage>; TIT = const double*; size_t = long unsigned int]’
/home/biocbuild/bbs-3.20-bioc/R/site-library/beachmat/include/beachmat3/lin_matrix.h:595:35:   required from here
/home/biocbuild/bbs-3.20-bioc/R/site-library/beachmat/include/beachmat3/Csparse_reader.h:250:22: warning: comparison of integer expressions of different signedness: ‘const int’ and ‘const long unsigned int’ [-Wsign-compare]
  250 |             if (idex != *pIt && static_cast<size_t>(i[idex]) == r) {
      |                 ~~~~~^~~~~~~
/home/biocbuild/bbs-3.20-bioc/R/site-library/beachmat/include/beachmat3/Csparse_reader.h: In instantiation of ‘beachmat::sparse_index<OUT, I> beachmat::Csparse_core<TIT, I, P>::get_row(size_t, ALT, I*, size_t, size_t) [with OUT = const double*; ALT = double*; TIT = const double*; I = int; P = long unsigned int; size_t = long unsigned int]’:
/home/biocbuild/bbs-3.20-bioc/R/site-library/beachmat/include/beachmat3/Csparse_reader.h:650:42:   required from ‘beachmat::sparse_index<OUT, int> beachmat::SparseArraySeed_reader<V, TIT>::get_row(size_t, ALT, int*, size_t, size_t) [with OUT = const double*; ALT = double*; V = Rcpp::Vector<14, Rcpp::PreserveStorage>; TIT = const double*; size_t = long unsigned int]’
/home/biocbuild/bbs-3.20-bioc/R/site-library/beachmat/include/beachmat3/lin_matrix.h:602:54:   required from ‘beachmat::sparse_index<const double*, int> beachmat::lin_SparseArraySeed<V, TIT>::get_row(size_t, double*, int*, size_t, size_t) [with V = Rcpp::Vector<14, Rcpp::PreserveStorage>; TIT = const double*; size_t = long unsigned int]’
/home/biocbuild/bbs-3.20-bioc/R/site-library/beachmat/include/beachmat3/lin_matrix.h:601:38:   required from here
/home/biocbuild/bbs-3.20-bioc/R/site-library/beachmat/include/beachmat3/Csparse_reader.h:250:22: warning: comparison of integer expressions of different signedness: ‘const int’ and ‘const long unsigned int’ [-Wsign-compare]
/home/biocbuild/bbs-3.20-bioc/R/site-library/beachmat/include/beachmat3/Csparse_reader.h: In instantiation of ‘beachmat::sparse_index<OUT, I> beachmat::Csparse_core<TIT, I, P>::get_row(size_t, ALT, I*, size_t, size_t) [with OUT = const int*; ALT = int*; TIT = const int*; I = int; P = long unsigned int; size_t = long unsigned int]’:
/home/biocbuild/bbs-3.20-bioc/R/site-library/beachmat/include/beachmat3/Csparse_reader.h:650:42:   required from ‘beachmat::sparse_index<OUT, int> beachmat::SparseArraySeed_reader<V, TIT>::get_row(size_t, ALT, int*, size_t, size_t) [with OUT = const int*; ALT = int*; V = Rcpp::Vector<10, Rcpp::PreserveStorage>; TIT = const int*; size_t = long unsigned int]’
/home/biocbuild/bbs-3.20-bioc/R/site-library/beachmat/include/beachmat3/lin_matrix.h:596:51:   required from ‘beachmat::sparse_index<const int*, int> beachmat::lin_SparseArraySeed<V, TIT>::get_row(size_t, int*, int*, size_t, size_t) [with V = Rcpp::Vector<10, Rcpp::PreserveStorage>; TIT = const int*; size_t = long unsigned int]’
/home/biocbuild/bbs-3.20-bioc/R/site-library/beachmat/include/beachmat3/lin_matrix.h:595:35:   required from here
/home/biocbuild/bbs-3.20-bioc/R/site-library/beachmat/include/beachmat3/Csparse_reader.h:250:22: warning: comparison of integer expressions of different signedness: ‘const int’ and ‘const long unsigned int’ [-Wsign-compare]
/home/biocbuild/bbs-3.20-bioc/R/site-library/beachmat/include/beachmat3/Csparse_reader.h: In instantiation of ‘beachmat::sparse_index<OUT, I> beachmat::Csparse_core<TIT, I, P>::get_row(size_t, ALT, I*, size_t, size_t) [with OUT = const double*; ALT = double*; TIT = const int*; I = int; P = long unsigned int; size_t = long unsigned int]’:
/home/biocbuild/bbs-3.20-bioc/R/site-library/beachmat/include/beachmat3/Csparse_reader.h:650:42:   required from ‘beachmat::sparse_index<OUT, int> beachmat::SparseArraySeed_reader<V, TIT>::get_row(size_t, ALT, int*, size_t, size_t) [with OUT = const double*; ALT = double*; V = Rcpp::Vector<10, Rcpp::PreserveStorage>; TIT = const int*; size_t = long unsigned int]’
/home/biocbuild/bbs-3.20-bioc/R/site-library/beachmat/include/beachmat3/lin_matrix.h:602:54:   required from ‘beachmat::sparse_index<const double*, int> beachmat::lin_SparseArraySeed<V, TIT>::get_row(size_t, double*, int*, size_t, size_t) [with V = Rcpp::Vector<10, Rcpp::PreserveStorage>; TIT = const int*; size_t = long unsigned int]’
/home/biocbuild/bbs-3.20-bioc/R/site-library/beachmat/include/beachmat3/lin_matrix.h:601:38:   required from here
/home/biocbuild/bbs-3.20-bioc/R/site-library/beachmat/include/beachmat3/Csparse_reader.h:250:22: warning: comparison of integer expressions of different signedness: ‘const int’ and ‘const long unsigned int’ [-Wsign-compare]
g++ -std=gnu++11 -I"/home/biocbuild/bbs-3.20-bioc/R/include" -DNDEBUG -I../inst/include/ -I'/home/biocbuild/bbs-3.20-bioc/R/site-library/Rcpp/include' -I'/home/biocbuild/bbs-3.20-bioc/R/site-library/beachmat/include' -I/usr/local/include    -fpic  -g -O2  -Wall  -c sparse_summarize.cpp -o sparse_summarize.o
g++ -std=gnu++11 -I"/home/biocbuild/bbs-3.20-bioc/R/include" -DNDEBUG -I../inst/include/ -I'/home/biocbuild/bbs-3.20-bioc/R/site-library/Rcpp/include' -I'/home/biocbuild/bbs-3.20-bioc/R/site-library/beachmat/include' -I/usr/local/include    -fpic  -g -O2  -Wall  -c sum_counts.cpp -o sum_counts.o
In file included from /home/biocbuild/bbs-3.20-bioc/R/site-library/beachmat/include/beachmat3/lin_matrix.h:12,
                 from /home/biocbuild/bbs-3.20-bioc/R/site-library/beachmat/include/beachmat3/read_lin_block.h:11,
                 from /home/biocbuild/bbs-3.20-bioc/R/site-library/beachmat/include/beachmat3/beachmat.h:24,
                 from sum_counts.cpp:2:
/home/biocbuild/bbs-3.20-bioc/R/site-library/beachmat/include/beachmat3/Csparse_reader.h: In instantiation of ‘beachmat::SparseArraySeed_reader<V, TIT>::SparseArraySeed_reader(Rcpp::RObject) [with V = Rcpp::Vector<13>; TIT = const int*; Rcpp::RObject = Rcpp::RObject_Impl<Rcpp::PreserveStorage>]’:
/home/biocbuild/bbs-3.20-bioc/R/site-library/beachmat/include/beachmat3/lin_matrix.h:561:46:   required from ‘beachmat::lin_SparseArraySeed<V, TIT>::lin_SparseArraySeed(Rcpp::RObject) [with V = Rcpp::Vector<13>; TIT = const int*; Rcpp::RObject = Rcpp::RObject_Impl<Rcpp::PreserveStorage>]’
/home/biocbuild/bbs-3.20-bioc/R/site-library/beachmat/include/beachmat3/read_lin_block.h:36:39:   required from ‘std::unique_ptr<M> beachmat::read_lin_sparse_block_raw(Rcpp::RObject) [with M = lin_matrix; Rcpp::RObject = Rcpp::RObject_Impl<Rcpp::PreserveStorage>]’
/home/biocbuild/bbs-3.20-bioc/R/site-library/beachmat/include/beachmat3/read_lin_block.h:65:57:   required from here
/home/biocbuild/bbs-3.20-bioc/R/site-library/beachmat/include/beachmat3/Csparse_reader.h:535:17: warning: comparison of integer expressions of different signedness: ‘const size_t’ {aka ‘const long unsigned int’} and ‘R_xlen_t’ {aka ‘long int’} [-Wsign-compare]
  535 |         if (nnz != x.size()) {
      |             ~~~~^~~~~~~~~~~
/home/biocbuild/bbs-3.20-bioc/R/site-library/beachmat/include/beachmat3/Csparse_reader.h:551:45: warning: comparison of integer expressions of different signedness: ‘int’ and ‘const size_t’ {aka ‘const long unsigned int’} [-Wsign-compare]
  551 |                     if (lastR <= 0 || lastR > NR || lastC <= 0 || lastC > NC) {
      |                                       ~~~~~~^~~~
/home/biocbuild/bbs-3.20-bioc/R/site-library/beachmat/include/beachmat3/Csparse_reader.h:551:73: warning: comparison of integer expressions of different signedness: ‘int’ and ‘const size_t’ {aka ‘const long unsigned int’} [-Wsign-compare]
  551 |                     if (lastR <= 0 || lastR > NR || lastC <= 0 || lastC > NC) {
      |                                                                   ~~~~~~^~~~
/home/biocbuild/bbs-3.20-bioc/R/site-library/beachmat/include/beachmat3/Csparse_reader.h:593:35: warning: comparison of integer expressions of different signedness: ‘int’ and ‘const size_t’ {aka ‘const long unsigned int’} [-Wsign-compare]
  593 |                 for (int v = 0; v < nnz; ++v, ++rowIt, ++colIt, ++xIt) {
      |                                 ~~^~~~~
/home/biocbuild/bbs-3.20-bioc/R/site-library/beachmat/include/beachmat3/Csparse_reader.h: In instantiation of ‘beachmat::SparseArraySeed_reader<V, TIT>::SparseArraySeed_reader(Rcpp::RObject) [with V = Rcpp::Vector<14, Rcpp::PreserveStorage>; TIT = const double*; Rcpp::RObject = Rcpp::RObject_Impl<Rcpp::PreserveStorage>]’:
/home/biocbuild/bbs-3.20-bioc/R/site-library/beachmat/include/beachmat3/lin_matrix.h:561:46:   required from ‘beachmat::lin_SparseArraySeed<V, TIT>::lin_SparseArraySeed(Rcpp::RObject) [with V = Rcpp::Vector<14, Rcpp::PreserveStorage>; TIT = const double*; Rcpp::RObject = Rcpp::RObject_Impl<Rcpp::PreserveStorage>]’
/home/biocbuild/bbs-3.20-bioc/R/site-library/beachmat/include/beachmat3/read_lin_block.h:38:39:   required from ‘std::unique_ptr<M> beachmat::read_lin_sparse_block_raw(Rcpp::RObject) [with M = lin_matrix; Rcpp::RObject = Rcpp::RObject_Impl<Rcpp::PreserveStorage>]’
/home/biocbuild/bbs-3.20-bioc/R/site-library/beachmat/include/beachmat3/read_lin_block.h:65:57:   required from here
/home/biocbuild/bbs-3.20-bioc/R/site-library/beachmat/include/beachmat3/Csparse_reader.h:535:17: warning: comparison of integer expressions of different signedness: ‘const size_t’ {aka ‘const long unsigned int’} and ‘R_xlen_t’ {aka ‘long int’} [-Wsign-compare]
  535 |         if (nnz != x.size()) {
      |             ~~~~^~~~~~~~~~~
/home/biocbuild/bbs-3.20-bioc/R/site-library/beachmat/include/beachmat3/Csparse_reader.h:551:45: warning: comparison of integer expressions of different signedness: ‘int’ and ‘const size_t’ {aka ‘const long unsigned int’} [-Wsign-compare]
  551 |                     if (lastR <= 0 || lastR > NR || lastC <= 0 || lastC > NC) {
      |                                       ~~~~~~^~~~
/home/biocbuild/bbs-3.20-bioc/R/site-library/beachmat/include/beachmat3/Csparse_reader.h:551:73: warning: comparison of integer expressions of different signedness: ‘int’ and ‘const size_t’ {aka ‘const long unsigned int’} [-Wsign-compare]
  551 |                     if (lastR <= 0 || lastR > NR || lastC <= 0 || lastC > NC) {
      |                                                                   ~~~~~~^~~~
/home/biocbuild/bbs-3.20-bioc/R/site-library/beachmat/include/beachmat3/Csparse_reader.h:593:35: warning: comparison of integer expressions of different signedness: ‘int’ and ‘const size_t’ {aka ‘const long unsigned int’} [-Wsign-compare]
  593 |                 for (int v = 0; v < nnz; ++v, ++rowIt, ++colIt, ++xIt) {
      |                                 ~~^~~~~
/home/biocbuild/bbs-3.20-bioc/R/site-library/beachmat/include/beachmat3/Csparse_reader.h: In instantiation of ‘beachmat::SparseArraySeed_reader<V, TIT>::SparseArraySeed_reader(Rcpp::RObject) [with V = Rcpp::Vector<10, Rcpp::PreserveStorage>; TIT = const int*; Rcpp::RObject = Rcpp::RObject_Impl<Rcpp::PreserveStorage>]’:
/home/biocbuild/bbs-3.20-bioc/R/site-library/beachmat/include/beachmat3/lin_matrix.h:561:46:   required from ‘beachmat::lin_SparseArraySeed<V, TIT>::lin_SparseArraySeed(Rcpp::RObject) [with V = Rcpp::Vector<10, Rcpp::PreserveStorage>; TIT = const int*; Rcpp::RObject = Rcpp::RObject_Impl<Rcpp::PreserveStorage>]’
/home/biocbuild/bbs-3.20-bioc/R/site-library/beachmat/include/beachmat3/read_lin_block.h:40:39:   required from ‘std::unique_ptr<M> beachmat::read_lin_sparse_block_raw(Rcpp::RObject) [with M = lin_matrix; Rcpp::RObject = Rcpp::RObject_Impl<Rcpp::PreserveStorage>]’
/home/biocbuild/bbs-3.20-bioc/R/site-library/beachmat/include/beachmat3/read_lin_block.h:65:57:   required from here
/home/biocbuild/bbs-3.20-bioc/R/site-library/beachmat/include/beachmat3/Csparse_reader.h:535:17: warning: comparison of integer expressions of different signedness: ‘const size_t’ {aka ‘const long unsigned int’} and ‘R_xlen_t’ {aka ‘long int’} [-Wsign-compare]
  535 |         if (nnz != x.size()) {
      |             ~~~~^~~~~~~~~~~
/home/biocbuild/bbs-3.20-bioc/R/site-library/beachmat/include/beachmat3/Csparse_reader.h:551:45: warning: comparison of integer expressions of different signedness: ‘int’ and ‘const size_t’ {aka ‘const long unsigned int’} [-Wsign-compare]
  551 |                     if (lastR <= 0 || lastR > NR || lastC <= 0 || lastC > NC) {
      |                                       ~~~~~~^~~~
/home/biocbuild/bbs-3.20-bioc/R/site-library/beachmat/include/beachmat3/Csparse_reader.h:551:73: warning: comparison of integer expressions of different signedness: ‘int’ and ‘const size_t’ {aka ‘const long unsigned int’} [-Wsign-compare]
  551 |                     if (lastR <= 0 || lastR > NR || lastC <= 0 || lastC > NC) {
      |                                                                   ~~~~~~^~~~
/home/biocbuild/bbs-3.20-bioc/R/site-library/beachmat/include/beachmat3/Csparse_reader.h:593:35: warning: comparison of integer expressions of different signedness: ‘int’ and ‘const size_t’ {aka ‘const long unsigned int’} [-Wsign-compare]
  593 |                 for (int v = 0; v < nnz; ++v, ++rowIt, ++colIt, ++xIt) {
      |                                 ~~^~~~~
/home/biocbuild/bbs-3.20-bioc/R/site-library/beachmat/include/beachmat3/Csparse_reader.h: In instantiation of ‘beachmat::sparse_index<OUT, I> beachmat::Csparse_core<TIT, I, P>::get_row(size_t, ALT, I*, size_t, size_t) [with OUT = const int*; ALT = int*; TIT = const double*; I = int; P = long unsigned int; size_t = long unsigned int]’:
/home/biocbuild/bbs-3.20-bioc/R/site-library/beachmat/include/beachmat3/Csparse_reader.h:650:42:   required from ‘beachmat::sparse_index<OUT, int> beachmat::SparseArraySeed_reader<V, TIT>::get_row(size_t, ALT, int*, size_t, size_t) [with OUT = const int*; ALT = int*; V = Rcpp::Vector<14, Rcpp::PreserveStorage>; TIT = const double*; size_t = long unsigned int]’
/home/biocbuild/bbs-3.20-bioc/R/site-library/beachmat/include/beachmat3/lin_matrix.h:596:51:   required from ‘beachmat::sparse_index<const int*, int> beachmat::lin_SparseArraySeed<V, TIT>::get_row(size_t, int*, int*, size_t, size_t) [with V = Rcpp::Vector<14, Rcpp::PreserveStorage>; TIT = const double*; size_t = long unsigned int]’
/home/biocbuild/bbs-3.20-bioc/R/site-library/beachmat/include/beachmat3/lin_matrix.h:595:35:   required from here
/home/biocbuild/bbs-3.20-bioc/R/site-library/beachmat/include/beachmat3/Csparse_reader.h:250:22: warning: comparison of integer expressions of different signedness: ‘const int’ and ‘const long unsigned int’ [-Wsign-compare]
  250 |             if (idex != *pIt && static_cast<size_t>(i[idex]) == r) {
      |                 ~~~~~^~~~~~~
/home/biocbuild/bbs-3.20-bioc/R/site-library/beachmat/include/beachmat3/Csparse_reader.h: In instantiation of ‘beachmat::sparse_index<OUT, I> beachmat::Csparse_core<TIT, I, P>::get_row(size_t, ALT, I*, size_t, size_t) [with OUT = const double*; ALT = double*; TIT = const double*; I = int; P = long unsigned int; size_t = long unsigned int]’:
/home/biocbuild/bbs-3.20-bioc/R/site-library/beachmat/include/beachmat3/Csparse_reader.h:650:42:   required from ‘beachmat::sparse_index<OUT, int> beachmat::SparseArraySeed_reader<V, TIT>::get_row(size_t, ALT, int*, size_t, size_t) [with OUT = const double*; ALT = double*; V = Rcpp::Vector<14, Rcpp::PreserveStorage>; TIT = const double*; size_t = long unsigned int]’
/home/biocbuild/bbs-3.20-bioc/R/site-library/beachmat/include/beachmat3/lin_matrix.h:602:54:   required from ‘beachmat::sparse_index<const double*, int> beachmat::lin_SparseArraySeed<V, TIT>::get_row(size_t, double*, int*, size_t, size_t) [with V = Rcpp::Vector<14, Rcpp::PreserveStorage>; TIT = const double*; size_t = long unsigned int]’
/home/biocbuild/bbs-3.20-bioc/R/site-library/beachmat/include/beachmat3/lin_matrix.h:601:38:   required from here
/home/biocbuild/bbs-3.20-bioc/R/site-library/beachmat/include/beachmat3/Csparse_reader.h:250:22: warning: comparison of integer expressions of different signedness: ‘const int’ and ‘const long unsigned int’ [-Wsign-compare]
/home/biocbuild/bbs-3.20-bioc/R/site-library/beachmat/include/beachmat3/Csparse_reader.h: In instantiation of ‘beachmat::sparse_index<OUT, I> beachmat::Csparse_core<TIT, I, P>::get_row(size_t, ALT, I*, size_t, size_t) [with OUT = const int*; ALT = int*; TIT = const int*; I = int; P = long unsigned int; size_t = long unsigned int]’:
/home/biocbuild/bbs-3.20-bioc/R/site-library/beachmat/include/beachmat3/Csparse_reader.h:650:42:   required from ‘beachmat::sparse_index<OUT, int> beachmat::SparseArraySeed_reader<V, TIT>::get_row(size_t, ALT, int*, size_t, size_t) [with OUT = const int*; ALT = int*; V = Rcpp::Vector<10, Rcpp::PreserveStorage>; TIT = const int*; size_t = long unsigned int]’
/home/biocbuild/bbs-3.20-bioc/R/site-library/beachmat/include/beachmat3/lin_matrix.h:596:51:   required from ‘beachmat::sparse_index<const int*, int> beachmat::lin_SparseArraySeed<V, TIT>::get_row(size_t, int*, int*, size_t, size_t) [with V = Rcpp::Vector<10, Rcpp::PreserveStorage>; TIT = const int*; size_t = long unsigned int]’
/home/biocbuild/bbs-3.20-bioc/R/site-library/beachmat/include/beachmat3/lin_matrix.h:595:35:   required from here
/home/biocbuild/bbs-3.20-bioc/R/site-library/beachmat/include/beachmat3/Csparse_reader.h:250:22: warning: comparison of integer expressions of different signedness: ‘const int’ and ‘const long unsigned int’ [-Wsign-compare]
/home/biocbuild/bbs-3.20-bioc/R/site-library/beachmat/include/beachmat3/Csparse_reader.h: In instantiation of ‘beachmat::sparse_index<OUT, I> beachmat::Csparse_core<TIT, I, P>::get_row(size_t, ALT, I*, size_t, size_t) [with OUT = const double*; ALT = double*; TIT = const int*; I = int; P = long unsigned int; size_t = long unsigned int]’:
/home/biocbuild/bbs-3.20-bioc/R/site-library/beachmat/include/beachmat3/Csparse_reader.h:650:42:   required from ‘beachmat::sparse_index<OUT, int> beachmat::SparseArraySeed_reader<V, TIT>::get_row(size_t, ALT, int*, size_t, size_t) [with OUT = const double*; ALT = double*; V = Rcpp::Vector<10, Rcpp::PreserveStorage>; TIT = const int*; size_t = long unsigned int]’
/home/biocbuild/bbs-3.20-bioc/R/site-library/beachmat/include/beachmat3/lin_matrix.h:602:54:   required from ‘beachmat::sparse_index<const double*, int> beachmat::lin_SparseArraySeed<V, TIT>::get_row(size_t, double*, int*, size_t, size_t) [with V = Rcpp::Vector<10, Rcpp::PreserveStorage>; TIT = const int*; size_t = long unsigned int]’
/home/biocbuild/bbs-3.20-bioc/R/site-library/beachmat/include/beachmat3/lin_matrix.h:601:38:   required from here
/home/biocbuild/bbs-3.20-bioc/R/site-library/beachmat/include/beachmat3/Csparse_reader.h:250:22: warning: comparison of integer expressions of different signedness: ‘const int’ and ‘const long unsigned int’ [-Wsign-compare]
g++ -std=gnu++11 -I"/home/biocbuild/bbs-3.20-bioc/R/include" -DNDEBUG -I../inst/include/ -I'/home/biocbuild/bbs-3.20-bioc/R/site-library/Rcpp/include' -I'/home/biocbuild/bbs-3.20-bioc/R/site-library/beachmat/include' -I/usr/local/include    -fpic  -g -O2  -Wall  -c utils.cpp -o utils.o
g++ -std=gnu++11 -shared -L/home/biocbuild/bbs-3.20-bioc/R/lib -L/usr/local/lib -o scuttle.so RcppExports.o cumulative_prop.o downsample_counts.o fit_linear_model.o pool_size_factors.o sparse_summarize.o sum_counts.o utils.o -llapack -L/home/biocbuild/bbs-3.20-bioc/R/lib -lRblas -lgfortran -lm -lquadmath -L/home/biocbuild/bbs-3.20-bioc/R/lib -lR
installing to /home/biocbuild/bbs-3.20-bioc/R/site-library/00LOCK-scuttle/00new/scuttle/libs
** R
** inst
** byte-compile and prepare package for lazy loading
** help
*** installing help indices
** building package indices
** installing vignettes
** testing if installed package can be loaded from temporary location
** checking absolute paths in shared objects and dynamic libraries
** testing if installed package can be loaded from final location
** testing if installed package keeps a record of temporary installation path
* DONE (scuttle)
scuttle.Rcheck/tests/testthat.Rout
R version 4.4.3 (2025-02-28) -- "Trophy Case"
Copyright (C) 2025 The R Foundation for Statistical Computing
Platform: x86_64-pc-linux-gnu
R is free software and comes with ABSOLUTELY NO WARRANTY.
You are welcome to redistribute it under certain conditions.
Type 'license()' or 'licence()' for distribution details.
R is a collaborative project with many contributors.
Type 'contributors()' for more information and
'citation()' on how to cite R or R packages in publications.
Type 'demo()' for some demos, 'help()' for on-line help, or
'help.start()' for an HTML browser interface to help.
Type 'q()' to quit R.
> library(testthat)
> library(scuttle)
Loading required package: SingleCellExperiment
Loading required package: SummarizedExperiment
Loading required package: MatrixGenerics
Loading required package: matrixStats
Attaching package: 'MatrixGenerics'
The following objects are masked from 'package:matrixStats':
    colAlls, colAnyNAs, colAnys, colAvgsPerRowSet, colCollapse,
    colCounts, colCummaxs, colCummins, colCumprods, colCumsums,
    colDiffs, colIQRDiffs, colIQRs, colLogSumExps, colMadDiffs,
    colMads, colMaxs, colMeans2, colMedians, colMins, colOrderStats,
    colProds, colQuantiles, colRanges, colRanks, colSdDiffs, colSds,
    colSums2, colTabulates, colVarDiffs, colVars, colWeightedMads,
    colWeightedMeans, colWeightedMedians, colWeightedSds,
    colWeightedVars, rowAlls, rowAnyNAs, rowAnys, rowAvgsPerColSet,
    rowCollapse, rowCounts, rowCummaxs, rowCummins, rowCumprods,
    rowCumsums, rowDiffs, rowIQRDiffs, rowIQRs, rowLogSumExps,
    rowMadDiffs, rowMads, rowMaxs, rowMeans2, rowMedians, rowMins,
    rowOrderStats, rowProds, rowQuantiles, rowRanges, rowRanks,
    rowSdDiffs, rowSds, rowSums2, rowTabulates, rowVarDiffs, rowVars,
    rowWeightedMads, rowWeightedMeans, rowWeightedMedians,
    rowWeightedSds, rowWeightedVars
Loading required package: GenomicRanges
Loading required package: stats4
Loading required package: BiocGenerics
Attaching package: 'BiocGenerics'
The following objects are masked from 'package:stats':
    IQR, mad, sd, var, xtabs
The following objects are masked from 'package:base':
    Filter, Find, Map, Position, Reduce, anyDuplicated, aperm, append,
    as.data.frame, basename, cbind, colnames, dirname, do.call,
    duplicated, eval, evalq, get, grep, grepl, intersect, is.unsorted,
    lapply, mapply, match, mget, order, paste, pmax, pmax.int, pmin,
    pmin.int, rank, rbind, rownames, sapply, saveRDS, setdiff, table,
    tapply, union, unique, unsplit, which.max, which.min
Loading required package: S4Vectors
Attaching package: 'S4Vectors'
The following object is masked from 'package:utils':
    findMatches
The following objects are masked from 'package:base':
    I, expand.grid, unname
Loading required package: IRanges
Loading required package: GenomeInfoDb
Loading required package: Biobase
Welcome to Bioconductor
    Vignettes contain introductory material; view with
    'browseVignettes()'. To cite Bioconductor, see
    'citation("Biobase")', and for packages 'citation("pkgname")'.
Attaching package: 'Biobase'
The following object is masked from 'package:MatrixGenerics':
    rowMedians
The following objects are masked from 'package:matrixStats':
    anyMissing, rowMedians
> test_check("scuttle")
Loading required package: Matrix
Attaching package: 'Matrix'
The following object is masked from 'package:S4Vectors':
    expand
Loading required package: S4Arrays
Loading required package: abind
Attaching package: 'S4Arrays'
The following object is masked from 'package:abind':
    abind
The following object is masked from 'package:base':
    rowsum
Loading required package: SparseArray
Attaching package: 'DelayedArray'
The following objects are masked from 'package:base':
    apply, scale, sweep
[ FAIL 0 | WARN 13 | SKIP 0 | PASS 1707 ]
[ FAIL 0 | WARN 13 | SKIP 0 | PASS 1707 ]
> 
> proc.time()
   user  system elapsed 
101.032   5.653 126.654 
scuttle.Rcheck/scuttle-Ex.timings
| name | user | system | elapsed | |
| addPerCellQCMetrics | 0.787 | 0.079 | 0.865 | |
| aggregateAcrossCells | 1.083 | 0.016 | 1.099 | |
| aggregateAcrossFeatures | 1.014 | 0.006 | 1.021 | |
| calculateAverage | 0.233 | 0.003 | 0.237 | |
| calculateCPM | 0.277 | 0.007 | 0.285 | |
| calculateFPKM | 0.890 | 0.004 | 0.895 | |
| calculateTPM | 0.239 | 0.000 | 0.240 | |
| cleanSizeFactors | 0.017 | 0.000 | 0.017 | |
| computePooledFactors | 4.779 | 0.120 | 4.899 | |
| computeSpikeFactors | 0.276 | 0.000 | 0.276 | |
| correctGroupSummary | 0.049 | 0.000 | 0.049 | |
| downsampleBatches | 3.356 | 0.011 | 3.367 | |
| downsampleMatrix | 2.878 | 0.019 | 2.896 | |
| fitLinearModel | 0.061 | 0.002 | 0.064 | |
| geometricSizeFactors | 0.254 | 0.014 | 0.269 | |
| isOutlier | 0.446 | 0.013 | 0.458 | |
| librarySizeFactors | 0.232 | 0.004 | 0.237 | |
| logNormCounts | 0.785 | 0.011 | 0.796 | |
| makePerCellDF | 0.414 | 0.000 | 0.415 | |
| makePerFeatureDF | 1.167 | 0.120 | 1.287 | |
| medianSizeFactors | 0.229 | 0.005 | 0.233 | |
| mockSCE | 0.243 | 0.000 | 0.243 | |
| normalizeCounts | 1.096 | 0.012 | 1.108 | |
| numDetectedAcrossCells | 0.280 | 0.001 | 0.282 | |
| numDetectedAcrossFeatures | 0.242 | 0.002 | 0.243 | |
| perCellQCFilters | 0.455 | 0.004 | 0.459 | |
| perCellQCMetrics | 0.942 | 0.003 | 0.944 | |
| perFeatureQCMetrics | 0.318 | 0.000 | 0.318 | |
| quickPerCellQC | 0.704 | 0.004 | 0.708 | |
| readSparseCounts | 0.005 | 0.000 | 0.006 | |
| sumCountsAcrossCells | 0.286 | 0.002 | 0.288 | |
| sumCountsAcrossFeatures | 0.221 | 0.000 | 0.221 | |
| summarizeAssayByGroup | 0.328 | 0.005 | 0.333 | |
| uniquifyDataFrameByGroup | 0.025 | 0.000 | 0.025 | |
| uniquifyFeatureNames | 0 | 0 | 0 | |