| Back to Multiple platform build/check report for BioC 3.20: simplified long |
|
This page was generated on 2024-07-16 11:41 -0400 (Tue, 16 Jul 2024).
| Hostname | OS | Arch (*) | R version | Installed pkgs |
|---|---|---|---|---|
| nebbiolo2 | Linux (Ubuntu 22.04.3 LTS) | x86_64 | 4.4.1 (2024-06-14) -- "Race for Your Life" | 4677 |
| palomino6 | Windows Server 2022 Datacenter | x64 | 4.4.1 (2024-06-14 ucrt) -- "Race for Your Life" | 4416 |
| lconway | macOS 12.7.1 Monterey | x86_64 | 4.4.1 (2024-06-14) -- "Race for Your Life" | 4444 |
| kjohnson3 | macOS 13.6.5 Ventura | arm64 | 4.4.1 (2024-06-14) -- "Race for Your Life" | 4393 |
| palomino8 | Windows Server 2022 Datacenter | x64 | 4.4.1 (2024-06-14 ucrt) -- "Race for Your Life" | 4373 |
| Click on any hostname to see more info about the system (e.g. compilers) (*) as reported by 'uname -p', except on Windows and Mac OS X | ||||
| Package 1865/2243 | Hostname | OS / Arch | INSTALL | BUILD | CHECK | BUILD BIN | ||||||||
| screenCounter 1.5.0 (landing page) Aaron Lun
| nebbiolo2 | Linux (Ubuntu 22.04.3 LTS) / x86_64 | OK | OK | OK | |||||||||
| palomino6 | Windows Server 2022 Datacenter / x64 | OK | OK | OK | OK | |||||||||
| lconway | macOS 12.7.1 Monterey / x86_64 | OK | OK | OK | OK | |||||||||
| kjohnson3 | macOS 13.6.5 Ventura / arm64 | OK | OK | OK | OK | |||||||||
| palomino8 | Windows Server 2022 Datacenter / x64 | OK | OK | OK | OK | |||||||||
|
To the developers/maintainers of the screenCounter package: - Allow up to 24 hours (and sometimes 48 hours) for your latest push to git@git.bioconductor.org:packages/screenCounter.git to reflect on this report. See Troubleshooting Build Report for more information. - Use the following Renviron settings to reproduce errors and warnings. - If 'R CMD check' started to fail recently on the Linux builder(s) over a missing dependency, add the missing dependency to 'Suggests:' in your DESCRIPTION file. See Renviron.bioc for more information. |
| Package: screenCounter |
| Version: 1.5.0 |
| Command: C:\Users\biocbuild\bbs-3.20-bioc\R\bin\R.exe CMD check --no-multiarch --install=check:screenCounter.install-out.txt --library=C:\Users\biocbuild\bbs-3.20-bioc\R\library --no-vignettes --timings screenCounter_1.5.0.tar.gz |
| StartedAt: 2024-07-16 03:54:16 -0400 (Tue, 16 Jul 2024) |
| EndedAt: 2024-07-16 03:57:45 -0400 (Tue, 16 Jul 2024) |
| EllapsedTime: 209.2 seconds |
| RetCode: 0 |
| Status: OK |
| CheckDir: screenCounter.Rcheck |
| Warnings: 0 |
##############################################################################
##############################################################################
###
### Running command:
###
### C:\Users\biocbuild\bbs-3.20-bioc\R\bin\R.exe CMD check --no-multiarch --install=check:screenCounter.install-out.txt --library=C:\Users\biocbuild\bbs-3.20-bioc\R\library --no-vignettes --timings screenCounter_1.5.0.tar.gz
###
##############################################################################
##############################################################################
* using log directory 'C:/Users/biocbuild/bbs-3.20-bioc/meat/screenCounter.Rcheck'
* using R version 4.4.1 (2024-06-14 ucrt)
* using platform: x86_64-w64-mingw32
* R was compiled by
gcc.exe (GCC) 13.2.0
GNU Fortran (GCC) 13.2.0
* running under: Windows Server 2022 x64 (build 20348)
* using session charset: UTF-8
* using option '--no-vignettes'
* checking for file 'screenCounter/DESCRIPTION' ... OK
* this is package 'screenCounter' version '1.5.0'
* checking package namespace information ... OK
* checking package dependencies ... OK
* checking if this is a source package ... OK
* checking if there is a namespace ... OK
* checking for hidden files and directories ... OK
* checking for portable file names ... OK
* checking whether package 'screenCounter' can be installed ... OK
* used C++ compiler: 'G__~1.EXE (GCC) 13.2.0'
* checking C++ specification ... OK
Not all R platforms support C++17
* checking installed package size ... OK
* checking package directory ... OK
* checking 'build' directory ... OK
* checking DESCRIPTION meta-information ... NOTE
License stub is invalid DCF.
* checking top-level files ... OK
* checking for left-over files ... OK
* checking index information ... OK
* checking package subdirectories ... OK
* checking code files for non-ASCII characters ... OK
* checking R files for syntax errors ... OK
* checking whether the package can be loaded ... OK
* checking whether the package can be loaded with stated dependencies ... OK
* checking whether the package can be unloaded cleanly ... OK
* checking whether the namespace can be loaded with stated dependencies ... OK
* checking whether the namespace can be unloaded cleanly ... OK
* checking dependencies in R code ... OK
* checking S3 generic/method consistency ... OK
* checking replacement functions ... OK
* checking foreign function calls ... OK
* checking R code for possible problems ... OK
* checking Rd files ... OK
* checking Rd metadata ... OK
* checking Rd cross-references ... OK
* checking for missing documentation entries ... OK
* checking for code/documentation mismatches ... OK
* checking Rd \usage sections ... OK
* checking Rd contents ... OK
* checking for unstated dependencies in examples ... OK
* checking line endings in C/C++/Fortran sources/headers ... OK
* checking line endings in Makefiles ... OK
* checking compilation flags in Makevars ... OK
* checking for GNU extensions in Makefiles ... OK
* checking for portable use of $(BLAS_LIBS) and $(LAPACK_LIBS) ... OK
* checking use of PKG_*FLAGS in Makefiles ... OK
* checking compiled code ... NOTE
Note: information on .o files for x64 is not available
File 'C:/Users/biocbuild/bbs-3.20-bioc/R/library/screenCounter/libs/x64/screenCounter.dll':
Found '_exit', possibly from '_exit' (C)
Found 'abort', possibly from 'abort' (C), 'runtime' (Fortran)
Found 'exit', possibly from 'exit' (C), 'stop' (Fortran)
Compiled code should not call entry points which might terminate R nor
write to stdout/stderr instead of to the console, nor use Fortran I/O
nor system RNGs nor [v]sprintf. The detected symbols are linked into
the code but might come from libraries and not actually be called.
See 'Writing portable packages' in the 'Writing R Extensions' manual.
* checking files in 'vignettes' ... OK
* checking examples ... OK
* checking for unstated dependencies in 'tests' ... OK
* checking tests ...
Running 'testthat.R'
OK
* checking for unstated dependencies in vignettes ... OK
* checking package vignettes ... OK
* checking running R code from vignettes ... SKIPPED
* checking re-building of vignette outputs ... SKIPPED
* checking PDF version of manual ... OK
* DONE
Status: 2 NOTEs
See
'C:/Users/biocbuild/bbs-3.20-bioc/meat/screenCounter.Rcheck/00check.log'
for details.
screenCounter.Rcheck/00install.out
############################################################################## ############################################################################## ### ### Running command: ### ### C:\Users\biocbuild\bbs-3.20-bioc\R\bin\R.exe CMD INSTALL screenCounter ### ############################################################################## ############################################################################## * installing to library 'C:/Users/biocbuild/bbs-3.20-bioc/R/library' * installing *source* package 'screenCounter' ... ** using staged installation ** libs using C++ compiler: 'G__~1.EXE (GCC) 13.2.0' using C++17 g++ -std=gnu++17 -I../inst/include -I"C:/Users/biocbuild/bbs-3.20-bioc/R/library/zlibbioc/include" -I"C:/Users/biocbuild/bbs-3.20-bioc/R/include" -DNDEBUG -I'C:/Users/biocbuild/bbs-3.20-bioc/R/library/Rcpp/include' -I"C:/rtools44/x86_64-w64-mingw32.static.posix/include" -O2 -Wall -mfpmath=sse -msse2 -mstackrealign -c RcppExports.cpp -o RcppExports.o g++ -std=gnu++17 -I../inst/include -I"C:/Users/biocbuild/bbs-3.20-bioc/R/library/zlibbioc/include" -I"C:/Users/biocbuild/bbs-3.20-bioc/R/include" -DNDEBUG -I'C:/Users/biocbuild/bbs-3.20-bioc/R/library/Rcpp/include' -I"C:/rtools44/x86_64-w64-mingw32.static.posix/include" -O2 -Wall -mfpmath=sse -msse2 -mstackrealign -c count_combo_barcodes_paired.cpp -o count_combo_barcodes_paired.o g++ -std=gnu++17 -I../inst/include -I"C:/Users/biocbuild/bbs-3.20-bioc/R/library/zlibbioc/include" -I"C:/Users/biocbuild/bbs-3.20-bioc/R/include" -DNDEBUG -I'C:/Users/biocbuild/bbs-3.20-bioc/R/library/Rcpp/include' -I"C:/rtools44/x86_64-w64-mingw32.static.posix/include" -O2 -Wall -mfpmath=sse -msse2 -mstackrealign -c count_combo_barcodes_single.cpp -o count_combo_barcodes_single.o g++ -std=gnu++17 -I../inst/include -I"C:/Users/biocbuild/bbs-3.20-bioc/R/library/zlibbioc/include" -I"C:/Users/biocbuild/bbs-3.20-bioc/R/include" -DNDEBUG -I'C:/Users/biocbuild/bbs-3.20-bioc/R/library/Rcpp/include' -I"C:/rtools44/x86_64-w64-mingw32.static.posix/include" -O2 -Wall -mfpmath=sse -msse2 -mstackrealign -c count_dual_barcodes.cpp -o count_dual_barcodes.o g++ -std=gnu++17 -I../inst/include -I"C:/Users/biocbuild/bbs-3.20-bioc/R/library/zlibbioc/include" -I"C:/Users/biocbuild/bbs-3.20-bioc/R/include" -DNDEBUG -I'C:/Users/biocbuild/bbs-3.20-bioc/R/library/Rcpp/include' -I"C:/rtools44/x86_64-w64-mingw32.static.posix/include" -O2 -Wall -mfpmath=sse -msse2 -mstackrealign -c count_dual_barcodes_single_end.cpp -o count_dual_barcodes_single_end.o g++ -std=gnu++17 -I../inst/include -I"C:/Users/biocbuild/bbs-3.20-bioc/R/library/zlibbioc/include" -I"C:/Users/biocbuild/bbs-3.20-bioc/R/include" -DNDEBUG -I'C:/Users/biocbuild/bbs-3.20-bioc/R/library/Rcpp/include' -I"C:/rtools44/x86_64-w64-mingw32.static.posix/include" -O2 -Wall -mfpmath=sse -msse2 -mstackrealign -c count_random_barcodes.cpp -o count_random_barcodes.o g++ -std=gnu++17 -I../inst/include -I"C:/Users/biocbuild/bbs-3.20-bioc/R/library/zlibbioc/include" -I"C:/Users/biocbuild/bbs-3.20-bioc/R/include" -DNDEBUG -I'C:/Users/biocbuild/bbs-3.20-bioc/R/library/Rcpp/include' -I"C:/rtools44/x86_64-w64-mingw32.static.posix/include" -O2 -Wall -mfpmath=sse -msse2 -mstackrealign -c count_single_barcodes.cpp -o count_single_barcodes.o g++ -std=gnu++17 -I../inst/include -I"C:/Users/biocbuild/bbs-3.20-bioc/R/library/zlibbioc/include" -I"C:/Users/biocbuild/bbs-3.20-bioc/R/include" -DNDEBUG -I'C:/Users/biocbuild/bbs-3.20-bioc/R/library/Rcpp/include' -I"C:/rtools44/x86_64-w64-mingw32.static.posix/include" -O2 -Wall -mfpmath=sse -msse2 -mstackrealign -c match_barcodes.cpp -o match_barcodes.o g++ -std=gnu++17 -I../inst/include -I"C:/Users/biocbuild/bbs-3.20-bioc/R/library/zlibbioc/include" -I"C:/Users/biocbuild/bbs-3.20-bioc/R/include" -DNDEBUG -I'C:/Users/biocbuild/bbs-3.20-bioc/R/library/Rcpp/include' -I"C:/rtools44/x86_64-w64-mingw32.static.posix/include" -O2 -Wall -mfpmath=sse -msse2 -mstackrealign -c utils.cpp -o utils.o g++ -shared -s -static-libgcc -o screenCounter.dll tmp.def RcppExports.o count_combo_barcodes_paired.o count_combo_barcodes_single.o count_dual_barcodes.o count_dual_barcodes_single_end.o count_random_barcodes.o count_single_barcodes.o match_barcodes.o utils.o -LC:/Users/biocbuild/bbs-3.20-bioc/R/library/zlibbioc/libs/x64 -lzlib1bioc -LC:/rtools44/x86_64-w64-mingw32.static.posix/lib/x64 -LC:/rtools44/x86_64-w64-mingw32.static.posix/lib -LC:/Users/biocbuild/bbs-3.20-bioc/R/bin/x64 -lR installing to C:/Users/biocbuild/bbs-3.20-bioc/R/library/00LOCK-screenCounter/00new/screenCounter/libs/x64 ** R ** inst ** byte-compile and prepare package for lazy loading ** help *** installing help indices ** building package indices ** installing vignettes ** testing if installed package can be loaded from temporary location ** testing if installed package can be loaded from final location ** testing if installed package keeps a record of temporary installation path * DONE (screenCounter)
screenCounter.Rcheck/tests/testthat.Rout
R version 4.4.1 (2024-06-14 ucrt) -- "Race for Your Life"
Copyright (C) 2024 The R Foundation for Statistical Computing
Platform: x86_64-w64-mingw32/x64
R is free software and comes with ABSOLUTELY NO WARRANTY.
You are welcome to redistribute it under certain conditions.
Type 'license()' or 'licence()' for distribution details.
R is a collaborative project with many contributors.
Type 'contributors()' for more information and
'citation()' on how to cite R or R packages in publications.
Type 'demo()' for some demos, 'help()' for on-line help, or
'help.start()' for an HTML browser interface to help.
Type 'q()' to quit R.
> library(testthat)
> library(screenCounter)
Loading required package: S4Vectors
Loading required package: stats4
Loading required package: BiocGenerics
Attaching package: 'BiocGenerics'
The following objects are masked from 'package:stats':
IQR, mad, sd, var, xtabs
The following objects are masked from 'package:base':
Filter, Find, Map, Position, Reduce, anyDuplicated, aperm, append,
as.data.frame, basename, cbind, colnames, dirname, do.call,
duplicated, eval, evalq, get, grep, grepl, intersect, is.unsorted,
lapply, mapply, match, mget, order, paste, pmax, pmax.int, pmin,
pmin.int, rank, rbind, rownames, sapply, setdiff, table, tapply,
union, unique, unsplit, which.max, which.min
Attaching package: 'S4Vectors'
The following object is masked from 'package:utils':
findMatches
The following objects are masked from 'package:base':
I, expand.grid, unname
Loading required package: SummarizedExperiment
Loading required package: MatrixGenerics
Loading required package: matrixStats
Attaching package: 'MatrixGenerics'
The following objects are masked from 'package:matrixStats':
colAlls, colAnyNAs, colAnys, colAvgsPerRowSet, colCollapse,
colCounts, colCummaxs, colCummins, colCumprods, colCumsums,
colDiffs, colIQRDiffs, colIQRs, colLogSumExps, colMadDiffs,
colMads, colMaxs, colMeans2, colMedians, colMins, colOrderStats,
colProds, colQuantiles, colRanges, colRanks, colSdDiffs, colSds,
colSums2, colTabulates, colVarDiffs, colVars, colWeightedMads,
colWeightedMeans, colWeightedMedians, colWeightedSds,
colWeightedVars, rowAlls, rowAnyNAs, rowAnys, rowAvgsPerColSet,
rowCollapse, rowCounts, rowCummaxs, rowCummins, rowCumprods,
rowCumsums, rowDiffs, rowIQRDiffs, rowIQRs, rowLogSumExps,
rowMadDiffs, rowMads, rowMaxs, rowMeans2, rowMedians, rowMins,
rowOrderStats, rowProds, rowQuantiles, rowRanges, rowRanks,
rowSdDiffs, rowSds, rowSums2, rowTabulates, rowVarDiffs, rowVars,
rowWeightedMads, rowWeightedMeans, rowWeightedMedians,
rowWeightedSds, rowWeightedVars
Loading required package: GenomicRanges
Loading required package: IRanges
Attaching package: 'IRanges'
The following object is masked from 'package:grDevices':
windows
Loading required package: GenomeInfoDb
Loading required package: Biobase
Welcome to Bioconductor
Vignettes contain introductory material; view with
'browseVignettes()'. To cite Bioconductor, see
'citation("Biobase")', and for packages 'citation("pkgname")'.
Attaching package: 'Biobase'
The following object is masked from 'package:MatrixGenerics':
rowMedians
The following objects are masked from 'package:matrixStats':
anyMissing, rowMedians
> test_check("screenCounter")
[ FAIL 0 | WARN 0 | SKIP 0 | PASS 305 ]
>
> proc.time()
user system elapsed
17.20 0.98 28.51
screenCounter.Rcheck/screenCounter-Ex.timings
| name | user | system | elapsed | |
| combineComboCounts | 0.12 | 0.03 | 0.15 | |
| countComboBarcodes | 1.23 | 0.05 | 1.28 | |
| countDualBarcodes | 0.18 | 0.00 | 0.20 | |
| countDualBarcodesSingleEnd | 0.09 | 0.01 | 0.14 | |
| countPairedComboBarcodes | 0.17 | 0.03 | 0.22 | |
| countRandomBarcodes | 0.20 | 0.04 | 0.25 | |
| countSingleBarcodes | 0.07 | 0.03 | 0.11 | |
| matchBarcodes | 0.01 | 0.00 | 0.01 | |
| parseBarcodeTemplate | 0.02 | 0.00 | 0.02 | |