| Back to Multiple platform build/check report for BioC 3.20: simplified long |
|
This page was generated on 2024-06-11 15:41 -0400 (Tue, 11 Jun 2024).
| Hostname | OS | Arch (*) | R version | Installed pkgs |
|---|---|---|---|---|
| nebbiolo2 | Linux (Ubuntu 22.04.3 LTS) | x86_64 | 4.4.0 RC (2024-04-16 r86468) -- "Puppy Cup" | 4679 |
| palomino4 | Windows Server 2022 Datacenter | x64 | 4.4.0 RC (2024-04-16 r86468 ucrt) -- "Puppy Cup" | 4414 |
| merida1 | macOS 12.7.4 Monterey | x86_64 | 4.4.0 Patched (2024-04-24 r86482) -- "Puppy Cup" | 4441 |
| kjohnson1 | macOS 13.6.6 Ventura | arm64 | 4.4.0 Patched (2024-04-24 r86482) -- "Puppy Cup" | 4394 |
| Click on any hostname to see more info about the system (e.g. compilers) (*) as reported by 'uname -p', except on Windows and Mac OS X | ||||
| Package 1864/2239 | Hostname | OS / Arch | INSTALL | BUILD | CHECK | BUILD BIN | ||||||||
| scRepertoire 2.1.0 (landing page) Nick Borcherding
| nebbiolo2 | Linux (Ubuntu 22.04.3 LTS) / x86_64 | OK | OK | OK | |||||||||
| palomino4 | Windows Server 2022 Datacenter / x64 | OK | OK | OK | OK | |||||||||
| merida1 | macOS 12.7.4 Monterey / x86_64 | OK | OK | OK | OK | |||||||||
| kjohnson1 | macOS 13.6.6 Ventura / arm64 | OK | OK | OK | OK | |||||||||
|
To the developers/maintainers of the scRepertoire package: - Allow up to 24 hours (and sometimes 48 hours) for your latest push to git@git.bioconductor.org:packages/scRepertoire.git to reflect on this report. See Troubleshooting Build Report for more information. - Use the following Renviron settings to reproduce errors and warnings. - If 'R CMD check' started to fail recently on the Linux builder(s) over a missing dependency, add the missing dependency to 'Suggests:' in your DESCRIPTION file. See Renviron.bioc for more information. |
| Package: scRepertoire |
| Version: 2.1.0 |
| Command: F:\biocbuild\bbs-3.20-bioc\R\bin\R.exe CMD check --no-multiarch --install=check:scRepertoire.install-out.txt --library=F:\biocbuild\bbs-3.20-bioc\R\library --no-vignettes --timings scRepertoire_2.1.0.tar.gz |
| StartedAt: 2024-06-10 09:20:27 -0400 (Mon, 10 Jun 2024) |
| EndedAt: 2024-06-10 09:37:13 -0400 (Mon, 10 Jun 2024) |
| EllapsedTime: 1005.3 seconds |
| RetCode: 0 |
| Status: OK |
| CheckDir: scRepertoire.Rcheck |
| Warnings: 0 |
##############################################################################
##############################################################################
###
### Running command:
###
### F:\biocbuild\bbs-3.20-bioc\R\bin\R.exe CMD check --no-multiarch --install=check:scRepertoire.install-out.txt --library=F:\biocbuild\bbs-3.20-bioc\R\library --no-vignettes --timings scRepertoire_2.1.0.tar.gz
###
##############################################################################
##############################################################################
* using log directory 'F:/biocbuild/bbs-3.20-bioc/meat/scRepertoire.Rcheck'
* using R version 4.4.0 RC (2024-04-16 r86468 ucrt)
* using platform: x86_64-w64-mingw32
* R was compiled by
gcc.exe (GCC) 13.2.0
GNU Fortran (GCC) 13.2.0
* running under: Windows Server 2022 x64 (build 20348)
* using session charset: UTF-8
* using option '--no-vignettes'
* checking for file 'scRepertoire/DESCRIPTION' ... OK
* this is package 'scRepertoire' version '2.1.0'
* package encoding: UTF-8
* checking package namespace information ... OK
* checking package dependencies ... OK
* checking if this is a source package ... OK
* checking if there is a namespace ... OK
* checking for hidden files and directories ... OK
* checking for portable file names ... OK
* checking whether package 'scRepertoire' can be installed ... OK
* used C++ compiler: 'G__~1.EXE (GCC) 13.2.0'
* checking installed package size ... OK
* checking package directory ... OK
* checking 'build' directory ... OK
* checking DESCRIPTION meta-information ... NOTE
License stub is invalid DCF.
* checking top-level files ... OK
* checking for left-over files ... OK
* checking index information ... OK
* checking package subdirectories ... OK
* checking code files for non-ASCII characters ... OK
* checking R files for syntax errors ... OK
* checking whether the package can be loaded ... OK
* checking whether the package can be loaded with stated dependencies ... OK
* checking whether the package can be unloaded cleanly ... OK
* checking whether the namespace can be loaded with stated dependencies ... OK
* checking whether the namespace can be unloaded cleanly ... OK
* checking whether startup messages can be suppressed ... OK
* checking dependencies in R code ... OK
* checking S3 generic/method consistency ... OK
* checking replacement functions ... OK
* checking foreign function calls ... OK
* checking R code for possible problems ... OK
* checking Rd files ... NOTE
checkRd: (-1) percentGenes.Rd:38: Lost braces
38 | examining VJ pairing, please see code{\link{percentVJ}}
| ^
* checking Rd metadata ... OK
* checking Rd cross-references ... OK
* checking for missing documentation entries ... OK
* checking for code/documentation mismatches ... OK
* checking Rd \usage sections ... OK
* checking Rd contents ... OK
* checking for unstated dependencies in examples ... OK
* checking contents of 'data' directory ... OK
* checking data for non-ASCII characters ... OK
* checking LazyData ... OK
* checking data for ASCII and uncompressed saves ... OK
* checking line endings in C/C++/Fortran sources/headers ... OK
* checking compiled code ... NOTE
Note: information on .o files for x64 is not available
File 'F:/biocbuild/bbs-3.20-bioc/R/library/scRepertoire/libs/x64/scRepertoire.dll':
Found '_exit', possibly from '_exit' (C)
Found 'abort', possibly from 'abort' (C), 'runtime' (Fortran)
Found 'exit', possibly from 'exit' (C), 'stop' (Fortran)
Compiled code should not call entry points which might terminate R nor
write to stdout/stderr instead of to the console, nor use Fortran I/O
nor system RNGs nor [v]sprintf. The detected symbols are linked into
the code but might come from libraries and not actually be called.
See 'Writing portable packages' in the 'Writing R Extensions' manual.
* checking files in 'vignettes' ... OK
* checking examples ... OK
Examples with CPU (user + system) or elapsed time > 5s
user system elapsed
clonalSizeDistribution 36.31 2.92 39.22
combineBCR 17.00 0.77 17.96
StartracDiversity 7.22 1.98 9.23
clonalCluster 4.93 0.26 5.21
* checking for unstated dependencies in 'tests' ... OK
* checking tests ...
Running 'spelling.R'
Running 'testthat.R'
OK
* checking for unstated dependencies in vignettes ... OK
* checking package vignettes ... OK
* checking running R code from vignettes ... SKIPPED
* checking re-building of vignette outputs ... SKIPPED
* checking PDF version of manual ... OK
* DONE
Status: 3 NOTEs
See
'F:/biocbuild/bbs-3.20-bioc/meat/scRepertoire.Rcheck/00check.log'
for details.
scRepertoire.Rcheck/00install.out
############################################################################## ############################################################################## ### ### Running command: ### ### F:\biocbuild\bbs-3.20-bioc\R\bin\R.exe CMD INSTALL scRepertoire ### ############################################################################## ############################################################################## * installing to library 'F:/biocbuild/bbs-3.20-bioc/R/library' * installing *source* package 'scRepertoire' ... ** using staged installation ** libs using C++ compiler: 'G__~1.EXE (GCC) 13.2.0' g++ -std=gnu++17 -I"F:/biocbuild/bbs-3.20-bioc/R/include" -DNDEBUG -I'F:/biocbuild/bbs-3.20-bioc/R/library/Rcpp/include' -I"C:/rtools44/x86_64-w64-mingw32.static.posix/include" -O2 -Wall -mfpmath=sse -msse2 -mstackrealign -c RcppExports.cpp -o RcppExports.o g++ -std=gnu++17 -I"F:/biocbuild/bbs-3.20-bioc/R/include" -DNDEBUG -I'F:/biocbuild/bbs-3.20-bioc/R/library/Rcpp/include' -I"C:/rtools44/x86_64-w64-mingw32.static.posix/include" -O2 -Wall -mfpmath=sse -msse2 -mstackrealign -c aaKmers.cpp -o aaKmers.o g++ -std=gnu++17 -I"F:/biocbuild/bbs-3.20-bioc/R/include" -DNDEBUG -I'F:/biocbuild/bbs-3.20-bioc/R/library/Rcpp/include' -I"C:/rtools44/x86_64-w64-mingw32.static.posix/include" -O2 -Wall -mfpmath=sse -msse2 -mstackrealign -c constructConDfAndParseBCR.cpp -o constructConDfAndParseBCR.o g++ -std=gnu++17 -I"F:/biocbuild/bbs-3.20-bioc/R/include" -DNDEBUG -I'F:/biocbuild/bbs-3.20-bioc/R/library/Rcpp/include' -I"C:/rtools44/x86_64-w64-mingw32.static.posix/include" -O2 -Wall -mfpmath=sse -msse2 -mstackrealign -c constructConDfAndparseTCR.cpp -o constructConDfAndparseTCR.o g++ -std=gnu++17 -I"F:/biocbuild/bbs-3.20-bioc/R/include" -DNDEBUG -I'F:/biocbuild/bbs-3.20-bioc/R/library/Rcpp/include' -I"C:/rtools44/x86_64-w64-mingw32.static.posix/include" -O2 -Wall -mfpmath=sse -msse2 -mstackrealign -c ntKmers.cpp -o ntKmers.o g++ -std=gnu++17 -shared -s -static-libgcc -o scRepertoire.dll tmp.def RcppExports.o aaKmers.o constructConDfAndParseBCR.o constructConDfAndparseTCR.o ntKmers.o -LC:/rtools44/x86_64-w64-mingw32.static.posix/lib/x64 -LC:/rtools44/x86_64-w64-mingw32.static.posix/lib -LF:/biocbuild/bbs-3.20-bioc/R/bin/x64 -lR installing to F:/biocbuild/bbs-3.20-bioc/R/library/00LOCK-scRepertoire/00new/scRepertoire/libs/x64 ** R ** data *** moving datasets to lazyload DB ** inst ** byte-compile and prepare package for lazy loading ** help *** installing help indices *** copying figures ** building package indices ** installing vignettes ** testing if installed package can be loaded from temporary location ** testing if installed package can be loaded from final location ** testing if installed package keeps a record of temporary installation path * DONE (scRepertoire)
scRepertoire.Rcheck/tests/spelling.Rout
R version 4.4.0 RC (2024-04-16 r86468 ucrt) -- "Puppy Cup"
Copyright (C) 2024 The R Foundation for Statistical Computing
Platform: x86_64-w64-mingw32/x64
R is free software and comes with ABSOLUTELY NO WARRANTY.
You are welcome to redistribute it under certain conditions.
Type 'license()' or 'licence()' for distribution details.
R is a collaborative project with many contributors.
Type 'contributors()' for more information and
'citation()' on how to cite R or R packages in publications.
Type 'demo()' for some demos, 'help()' for on-line help, or
'help.start()' for an HTML browser interface to help.
Type 'q()' to quit R.
> if(requireNamespace('spelling', quietly = TRUE))
+ spelling::spell_check_test(vignettes = TRUE, error = FALSE,
+ skip_on_cran = TRUE)
NULL
>
> proc.time()
user system elapsed
0.20 2.95 3.10
scRepertoire.Rcheck/tests/testthat.Rout
R version 4.4.0 RC (2024-04-16 r86468 ucrt) -- "Puppy Cup"
Copyright (C) 2024 The R Foundation for Statistical Computing
Platform: x86_64-w64-mingw32/x64
R is free software and comes with ABSOLUTELY NO WARRANTY.
You are welcome to redistribute it under certain conditions.
Type 'license()' or 'licence()' for distribution details.
R is a collaborative project with many contributors.
Type 'contributors()' for more information and
'citation()' on how to cite R or R packages in publications.
Type 'demo()' for some demos, 'help()' for on-line help, or
'help.start()' for an HTML browser interface to help.
Type 'q()' to quit R.
> # This file is part of the standard setup for testthat.
> # It is recommended that you do not modify it.
> #
> # Where should you do additional test configuration?
> # Learn more about the roles of various files in:
> # * https://r-pkgs.org/tests.html
> # * https://testthat.r-lib.org/reference/test_package.html#special-files
>
> library(testthat)
> library(scRepertoire)
Loading required package: ggplot2
>
> test_check("scRepertoire")
[ FAIL 0 | WARN 1 | SKIP 23 | PASS 79 ]
══ Skipped tests (23) ══════════════════════════════════════════════════════════
• On CRAN (23): 'test-StartractDiversity.R:10:3', 'test-alluvialClones.R:10:3',
'test-clonalAbundance.R:4:3', 'test-clonalCompare.R:7:3',
'test-clonalDiversity.R:8:3', 'test-clonalHomeostasis.R:7:3',
'test-clonalLength.R:4:3', 'test-clonalNetwork.R:11:3',
'test-clonalOccupy.R:8:3', 'test-clonalOverlap.R:7:3',
'test-clonalOverlay.R:10:3', 'test-clonalProportion.R:7:3',
'test-clonalQuant.R:10:2', 'test-clonalRarefaction.R:9:3',
'test-clonalScatter.R:5:3', 'test-clonalSizeDistribution.R:7:3',
'test-percentAA.R:8:3', 'test-percentGenes.R:8:3', 'test-percentKmer.R:26:3',
'test-percentVJ.R:8:3', 'test-positionalEntropy.R:6:3',
'test-positionalProperty.R:6:3', 'test-vizGenes.R:7:3'
[ FAIL 0 | WARN 1 | SKIP 23 | PASS 79 ]
Deleting unused snapshots:
• alluvialClones/alluvialclones-alpha-plot.svg
• alluvialClones/alluvialclones-alphapluscolor-plot.svg
• alluvialClones/alluvialclones-facet-plot.svg
• alluvialClones/alluvialclones-nocolor-plot.svg
• alluvialClones/alluvialclones-trb-plot.svg
• clonalAbundance/clonalabundance-group-plot.svg
• clonalAbundance/clonalabundance-scaled-plot.svg
• clonalCompare/clonalcompare-area-plot.svg
• clonalCompare/clonalcompare-highlight-relabel-plot.svg
• clonalLength/clonallength-groupby-plot.svg
• clonalLength/clonallength-scaled-plot.svg
• clonalLength/clonallength-tra-plot.svg
• clonalLength/clonallength-trb-plot.svg
• clonalNetwork/clonalnetwork-filterclones-1-plot.svg
• clonalOccupy/clonaloccupy-proportion-plot.svg
• clonalOverlap/clonaloverlap-cosine-plot.svg
• clonalOverlap/clonaloverlap-coverlap-plot.svg
• clonalOverlap/clonaloverlap-jaccard-plot.svg
• clonalOverlap/clonaloverlap-morisita-plot.svg
• clonalQuant/clonalquant-unscaled-plot.svg
• clonalRarefaction/clonalclonalrarefaction-h1-p2-plot.svg
• clonalRarefaction/clonalclonalrarefaction-h2-p3-plot.svg
• clonalScatter/clonalscatter-raw-plot.svg
• positionalEntropy/positionalentropy-tra-plot.svg
• positionalProperty/positionalentropy-kidera-plot.svg
• positionalProperty/positionalentropy-stscales-plot.svg
• positionalProperty/positionalentropy-tra-plot.svg
• positionalProperty/positionalentropy-tscales-plot.svg
• positionalProperty/positionalentropy-vhse-plot.svg
• vizGenes/vizgenes-heatmap-vignette-plot.svg
>
> proc.time()
user system elapsed
191.21 23.01 216.15
scRepertoire.Rcheck/scRepertoire-Ex.timings
| name | user | system | elapsed | |
| StartracDiversity | 7.22 | 1.98 | 9.23 | |
| addVariable | 2.04 | 0.05 | 2.10 | |
| alluvialClones | 4.23 | 0.09 | 4.32 | |
| clonalAbundance | 1.69 | 0.07 | 1.75 | |
| clonalBias | 1.88 | 0.06 | 1.93 | |
| clonalCluster | 4.93 | 0.26 | 5.21 | |
| clonalCompare | 2.50 | 0.05 | 2.54 | |
| clonalDiversity | 3.24 | 0.03 | 3.27 | |
| clonalHomeostasis | 0.95 | 0.05 | 1.00 | |
| clonalLength | 1.67 | 0.06 | 1.73 | |
| clonalNetwork | 0 | 0 | 0 | |
| clonalOccupy | 1.46 | 0.00 | 1.46 | |
| clonalOverlap | 1.01 | 0.00 | 1.01 | |
| clonalOverlay | 1.64 | 0.02 | 1.75 | |
| clonalProportion | 1.05 | 0.00 | 1.05 | |
| clonalQuant | 1.08 | 0.00 | 1.08 | |
| clonalRarefaction | 4.70 | 0.22 | 4.92 | |
| clonalScatter | 1.38 | 0.04 | 1.40 | |
| clonalSizeDistribution | 36.31 | 2.92 | 39.22 | |
| combineBCR | 17.00 | 0.77 | 17.96 | |
| combineExpression | 1.45 | 0.03 | 1.48 | |
| combineTCR | 0.81 | 0.03 | 0.84 | |
| createHTOContigList | 0 | 0 | 0 | |
| exportClones | 0 | 0 | 0 | |
| getCirclize | 1.75 | 0.00 | 1.77 | |
| highlightClones | 1.38 | 0.03 | 1.41 | |
| loadContigs | 0.30 | 0.03 | 0.76 | |
| percentAA | 2.56 | 0.05 | 2.61 | |
| percentGenes | 1.64 | 0.06 | 1.70 | |
| percentKmer | 1.72 | 0.04 | 1.75 | |
| percentVJ | 2.08 | 0.03 | 2.11 | |
| positionalEntropy | 2.23 | 0.07 | 2.32 | |
| positionalProperty | 4.77 | 0.16 | 4.92 | |
| subsetClones | 0.92 | 0.01 | 0.94 | |
| vizGenes | 1.30 | 0.03 | 1.33 | |