| Back to Multiple platform build/check report for BioC 3.20: simplified long |
|
This page was generated on 2024-11-20 12:07 -0500 (Wed, 20 Nov 2024).
| Hostname | OS | Arch (*) | R version | Installed pkgs |
|---|---|---|---|---|
| teran2 | Linux (Ubuntu 24.04.1 LTS) | x86_64 | 4.4.2 (2024-10-31) -- "Pile of Leaves" | 4481 |
| nebbiolo2 | Linux (Ubuntu 24.04.1 LTS) | x86_64 | 4.4.2 (2024-10-31) -- "Pile of Leaves" | 4479 |
| palomino8 | Windows Server 2022 Datacenter | x64 | 4.4.2 (2024-10-31 ucrt) -- "Pile of Leaves" | 4359 |
| lconway | macOS 12.7.1 Monterey | x86_64 | 4.4.1 (2024-06-14) -- "Race for Your Life" | 4539 |
| kunpeng2 | Linux (openEuler 22.03 LTS-SP1) | aarch64 | 4.4.1 (2024-06-14) -- "Race for Your Life" | 4493 |
| Click on any hostname to see more info about the system (e.g. compilers) (*) as reported by 'uname -p', except on Windows and Mac OS X | ||||
| Package 1903/2289 | Hostname | OS / Arch | INSTALL | BUILD | CHECK | BUILD BIN | ||||||||
| scRepertoire 2.2.1 (landing page) Nick Borcherding
| teran2 | Linux (Ubuntu 24.04.1 LTS) / x86_64 | OK | OK | OK | |||||||||
| nebbiolo2 | Linux (Ubuntu 24.04.1 LTS) / x86_64 | OK | OK | OK | ||||||||||
| palomino8 | Windows Server 2022 Datacenter / x64 | OK | OK | OK | OK | |||||||||
| lconway | macOS 12.7.1 Monterey / x86_64 | OK | OK | OK | OK | |||||||||
| kunpeng2 | Linux (openEuler 22.03 LTS-SP1) / aarch64 | OK | OK | OK | ||||||||||
|
To the developers/maintainers of the scRepertoire package: - Allow up to 24 hours (and sometimes 48 hours) for your latest push to git@git.bioconductor.org:packages/scRepertoire.git to reflect on this report. See Troubleshooting Build Report for more information. - Use the following Renviron settings to reproduce errors and warnings. - If 'R CMD check' started to fail recently on the Linux builder(s) over a missing dependency, add the missing dependency to 'Suggests:' in your DESCRIPTION file. See Renviron.bioc for more information. |
| Package: scRepertoire |
| Version: 2.2.1 |
| Command: /Library/Frameworks/R.framework/Resources/bin/R CMD check --install=check:scRepertoire.install-out.txt --library=/Library/Frameworks/R.framework/Resources/library --no-vignettes --timings scRepertoire_2.2.1.tar.gz |
| StartedAt: 2024-11-20 02:29:23 -0500 (Wed, 20 Nov 2024) |
| EndedAt: 2024-11-20 02:40:20 -0500 (Wed, 20 Nov 2024) |
| EllapsedTime: 657.1 seconds |
| RetCode: 0 |
| Status: OK |
| CheckDir: scRepertoire.Rcheck |
| Warnings: 0 |
##############################################################################
##############################################################################
###
### Running command:
###
### /Library/Frameworks/R.framework/Resources/bin/R CMD check --install=check:scRepertoire.install-out.txt --library=/Library/Frameworks/R.framework/Resources/library --no-vignettes --timings scRepertoire_2.2.1.tar.gz
###
##############################################################################
##############################################################################
* using log directory ‘/Users/biocbuild/bbs-3.20-bioc/meat/scRepertoire.Rcheck’
* using R version 4.4.1 (2024-06-14)
* using platform: x86_64-apple-darwin20
* R was compiled by
Apple clang version 14.0.0 (clang-1400.0.29.202)
GNU Fortran (GCC) 12.2.0
* running under: macOS Monterey 12.7.6
* using session charset: UTF-8
* using option ‘--no-vignettes’
* checking for file ‘scRepertoire/DESCRIPTION’ ... OK
* this is package ‘scRepertoire’ version ‘2.2.1’
* package encoding: UTF-8
* checking package namespace information ... OK
* checking package dependencies ...Warning: unable to access index for repository https://CRAN.R-project.org/src/contrib:
cannot open URL 'https://CRAN.R-project.org/src/contrib/PACKAGES'
OK
* checking if this is a source package ... OK
* checking if there is a namespace ... OK
* checking for hidden files and directories ... OK
* checking for portable file names ... OK
* checking for sufficient/correct file permissions ... OK
* checking whether package ‘scRepertoire’ can be installed ... OK
* used C++ compiler: ‘Apple clang version 14.0.0 (clang-1400.0.29.202)’
* used SDK: ‘MacOSX11.3.sdk’
* checking installed package size ... OK
* checking package directory ... OK
* checking ‘build’ directory ... OK
* checking DESCRIPTION meta-information ... NOTE
License stub is invalid DCF.
* checking top-level files ... OK
* checking for left-over files ... OK
* checking index information ... OK
* checking package subdirectories ... OK
* checking code files for non-ASCII characters ... OK
* checking R files for syntax errors ... OK
* checking whether the package can be loaded ... OK
* checking whether the package can be loaded with stated dependencies ... OK
* checking whether the package can be unloaded cleanly ... OK
* checking whether the namespace can be loaded with stated dependencies ... OK
* checking whether the namespace can be unloaded cleanly ... OK
* checking whether startup messages can be suppressed ... OK
* checking dependencies in R code ... OK
* checking S3 generic/method consistency ... OK
* checking replacement functions ... OK
* checking foreign function calls ... OK
* checking R code for possible problems ... OK
* checking Rd files ... OK
* checking Rd metadata ... OK
* checking Rd cross-references ... OK
* checking for missing documentation entries ... OK
* checking for code/documentation mismatches ... OK
* checking Rd \usage sections ... OK
* checking Rd contents ... OK
* checking for unstated dependencies in examples ... OK
* checking contents of ‘data’ directory ... OK
* checking data for non-ASCII characters ... OK
* checking LazyData ... OK
* checking data for ASCII and uncompressed saves ... OK
* checking line endings in C/C++/Fortran sources/headers ... OK
* checking compiled code ... NOTE
Note: information on .o files is not available
* checking files in ‘vignettes’ ... OK
* checking examples ... OK
Examples with CPU (user + system) or elapsed time > 5s
user system elapsed
clonalSizeDistribution 23.383 5.505 29.115
StartracDiversity 4.862 0.230 5.113
combineBCR 2.388 0.101 9.096
* checking for unstated dependencies in ‘tests’ ... OK
* checking tests ...
Running ‘spelling.R’
Running ‘testthat.R’
OK
* checking for unstated dependencies in vignettes ... OK
* checking package vignettes ... OK
* checking running R code from vignettes ... SKIPPED
* checking re-building of vignette outputs ... SKIPPED
* checking PDF version of manual ... OK
* DONE
Status: 2 NOTEs
See
‘/Users/biocbuild/bbs-3.20-bioc/meat/scRepertoire.Rcheck/00check.log’
for details.
scRepertoire.Rcheck/00install.out
############################################################################## ############################################################################## ### ### Running command: ### ### /Library/Frameworks/R.framework/Resources/bin/R CMD INSTALL scRepertoire ### ############################################################################## ############################################################################## * installing to library ‘/Library/Frameworks/R.framework/Versions/4.4-x86_64/Resources/library’ * installing *source* package ‘scRepertoire’ ... ** using staged installation ** libs using C++ compiler: ‘Apple clang version 14.0.0 (clang-1400.0.29.202)’ using SDK: ‘MacOSX11.3.sdk’ clang++ -arch x86_64 -std=gnu++17 -I"/Library/Frameworks/R.framework/Resources/include" -DNDEBUG -I'/Library/Frameworks/R.framework/Versions/4.4-x86_64/Resources/library/Rcpp/include' -I/opt/R/x86_64/include -fPIC -falign-functions=64 -Wall -g -O2 -c RcppExports.cpp -o RcppExports.o clang++ -arch x86_64 -std=gnu++17 -I"/Library/Frameworks/R.framework/Resources/include" -DNDEBUG -I'/Library/Frameworks/R.framework/Versions/4.4-x86_64/Resources/library/Rcpp/include' -I/opt/R/x86_64/include -fPIC -falign-functions=64 -Wall -g -O2 -c aaKmers.cpp -o aaKmers.o clang++ -arch x86_64 -std=gnu++17 -I"/Library/Frameworks/R.framework/Resources/include" -DNDEBUG -I'/Library/Frameworks/R.framework/Versions/4.4-x86_64/Resources/library/Rcpp/include' -I/opt/R/x86_64/include -fPIC -falign-functions=64 -Wall -g -O2 -c constructConDfAndParseBCR.cpp -o constructConDfAndParseBCR.o clang++ -arch x86_64 -std=gnu++17 -I"/Library/Frameworks/R.framework/Resources/include" -DNDEBUG -I'/Library/Frameworks/R.framework/Versions/4.4-x86_64/Resources/library/Rcpp/include' -I/opt/R/x86_64/include -fPIC -falign-functions=64 -Wall -g -O2 -c constructConDfAndparseTCR.cpp -o constructConDfAndparseTCR.o clang++ -arch x86_64 -std=gnu++17 -I"/Library/Frameworks/R.framework/Resources/include" -DNDEBUG -I'/Library/Frameworks/R.framework/Versions/4.4-x86_64/Resources/library/Rcpp/include' -I/opt/R/x86_64/include -fPIC -falign-functions=64 -Wall -g -O2 -c lvCompare.cpp -o lvCompare.o clang++ -arch x86_64 -std=gnu++17 -I"/Library/Frameworks/R.framework/Resources/include" -DNDEBUG -I'/Library/Frameworks/R.framework/Versions/4.4-x86_64/Resources/library/Rcpp/include' -I/opt/R/x86_64/include -fPIC -falign-functions=64 -Wall -g -O2 -c ntKmers.cpp -o ntKmers.o clang++ -arch x86_64 -std=gnu++17 -dynamiclib -Wl,-headerpad_max_install_names -undefined dynamic_lookup -L/Library/Frameworks/R.framework/Resources/lib -L/opt/R/x86_64/lib -o scRepertoire.so RcppExports.o aaKmers.o constructConDfAndParseBCR.o constructConDfAndparseTCR.o lvCompare.o ntKmers.o -F/Library/Frameworks/R.framework/.. -framework R -Wl,-framework -Wl,CoreFoundation installing to /Library/Frameworks/R.framework/Versions/4.4-x86_64/Resources/library/00LOCK-scRepertoire/00new/scRepertoire/libs ** R ** data *** moving datasets to lazyload DB ** inst ** byte-compile and prepare package for lazy loading ** help *** installing help indices *** copying figures ** building package indices ** installing vignettes ** testing if installed package can be loaded from temporary location ** checking absolute paths in shared objects and dynamic libraries ** testing if installed package can be loaded from final location ** testing if installed package keeps a record of temporary installation path * DONE (scRepertoire)
scRepertoire.Rcheck/tests/spelling.Rout
R version 4.4.1 (2024-06-14) -- "Race for Your Life"
Copyright (C) 2024 The R Foundation for Statistical Computing
Platform: x86_64-apple-darwin20
R is free software and comes with ABSOLUTELY NO WARRANTY.
You are welcome to redistribute it under certain conditions.
Type 'license()' or 'licence()' for distribution details.
R is a collaborative project with many contributors.
Type 'contributors()' for more information and
'citation()' on how to cite R or R packages in publications.
Type 'demo()' for some demos, 'help()' for on-line help, or
'help.start()' for an HTML browser interface to help.
Type 'q()' to quit R.
> if(requireNamespace('spelling', quietly = TRUE))
+ spelling::spell_check_test(vignettes = TRUE, error = FALSE,
+ skip_on_cran = TRUE)
NULL
>
> proc.time()
user system elapsed
0.193 0.084 0.304
scRepertoire.Rcheck/tests/testthat.Rout
R version 4.4.1 (2024-06-14) -- "Race for Your Life"
Copyright (C) 2024 The R Foundation for Statistical Computing
Platform: x86_64-apple-darwin20
R is free software and comes with ABSOLUTELY NO WARRANTY.
You are welcome to redistribute it under certain conditions.
Type 'license()' or 'licence()' for distribution details.
R is a collaborative project with many contributors.
Type 'contributors()' for more information and
'citation()' on how to cite R or R packages in publications.
Type 'demo()' for some demos, 'help()' for on-line help, or
'help.start()' for an HTML browser interface to help.
Type 'q()' to quit R.
> # This file is part of the standard setup for testthat.
> # It is recommended that you do not modify it.
> #
> # Where should you do additional test configuration?
> # Learn more about the roles of various files in:
> # * https://r-pkgs.org/tests.html
> # * https://testthat.r-lib.org/reference/test_package.html#special-files
>
> library(testthat)
> library(scRepertoire)
Loading required package: ggplot2
>
> test_check("scRepertoire")
[ FAIL 0 | WARN 0 | SKIP 23 | PASS 93 ]
══ Skipped tests (23) ══════════════════════════════════════════════════════════
• On CRAN (23): 'test-StartractDiversity.R:10:3', 'test-alluvialClones.R:10:3',
'test-clonalAbundance.R:4:3', 'test-clonalCompare.R:7:3',
'test-clonalDiversity.R:8:3', 'test-clonalHomeostasis.R:7:3',
'test-clonalLength.R:4:3', 'test-clonalNetwork.R:9:3',
'test-clonalOccupy.R:8:3', 'test-clonalOverlap.R:7:3',
'test-clonalOverlay.R:10:3', 'test-clonalProportion.R:7:3',
'test-clonalQuant.R:10:2', 'test-clonalRarefaction.R:9:3',
'test-clonalScatter.R:5:3', 'test-clonalSizeDistribution.R:7:3',
'test-percentAA.R:8:3', 'test-percentGenes.R:8:3', 'test-percentKmer.R:26:3',
'test-percentVJ.R:8:3', 'test-positionalEntropy.R:6:3',
'test-positionalProperty.R:6:3', 'test-vizGenes.R:7:3'
[ FAIL 0 | WARN 0 | SKIP 23 | PASS 93 ]
Deleting unused snapshots:
• alluvialClones/alluvialclones-alpha-plot.svg
• alluvialClones/alluvialclones-alphapluscolor-plot.svg
• alluvialClones/alluvialclones-facet-plot.svg
• alluvialClones/alluvialclones-nocolor-plot.svg
• alluvialClones/alluvialclones-trb-plot.svg
• clonalAbundance/clonalabundance-group-plot.svg
• clonalAbundance/clonalabundance-order-plot.svg
• clonalAbundance/clonalabundance-scaled-plot.svg
• clonalCompare/clonalcompare-alluvial-order-plot.svg
• clonalCompare/clonalcompare-area-plot.svg
• clonalCompare/clonalcompare-highlight-relabel-plot.svg
• clonalHomeostasis/clonalhomeostasis-order-plot.svg
• clonalLength/clonallength-both-chain-order-plot.svg
• clonalLength/clonallength-groupby-plot.svg
• clonalLength/clonallength-scaled-plot.svg
• clonalLength/clonallength-tra-plot.svg
• clonalLength/clonallength-trb-plot.svg
• clonalNetwork/clonalnetwork-filterclones-1-plot.svg
• clonalOccupy/clonaloccupy-proportion-plot.svg
• clonalOverlap/clonaloverlap-cosine-plot.svg
• clonalOverlap/clonaloverlap-coverlap-plot.svg
• clonalOverlap/clonaloverlap-jaccard-plot.svg
• clonalOverlap/clonaloverlap-morisita-plot.svg
• clonalOverlap/clonaloverlap-order-plot.svg
• clonalOverlap/clonaloverlap-reorder-plot.svg
• clonalOverlay/clonaloverlay-clonalproportion-plot.svg
• clonalProportion/clonalproportion-order-plot.svg
• clonalQuant/clonalquant-order-plot.svg
• clonalQuant/clonalquant-unscaled-plot.svg
• clonalRarefaction/clonalclonalrarefaction-h1-p2-plot.svg
• clonalRarefaction/clonalclonalrarefaction-h2-p3-plot.svg
• clonalScatter/clonalscatter-raw-plot.svg
• percentAA/percentaa-plot.svg
• percentGenes/percentgenes-order-plot.svg
• percentKmer/percentkmer-group-motif2-order-plot.svg
• percentVJ/percentvj-order-plot.svg
• positionalEntropy/positionalentropy-tra-plot.svg
• positionalEntropy/positionalentropy-trb-order-plot.svg
• positionalProperty/positionalentropy-kidera-plot.svg
• positionalProperty/positionalentropy-stscales-plot.svg
• positionalProperty/positionalentropy-tra-plot.svg
• positionalProperty/positionalentropy-trb-order-plot.svg
• positionalProperty/positionalentropy-tscales-plot.svg
• positionalProperty/positionalentropy-vhse-plot.svg
• vizGenes/vizgenes-heatmap-vignette-plot.svg
>
> proc.time()
user system elapsed
122.016 7.046 134.597
scRepertoire.Rcheck/scRepertoire-Ex.timings
| name | user | system | elapsed | |
| StartracDiversity | 4.862 | 0.230 | 5.113 | |
| addVariable | 1.399 | 0.037 | 1.438 | |
| alluvialClones | 2.762 | 0.138 | 2.907 | |
| clonalAbundance | 1.121 | 0.027 | 1.150 | |
| clonalBias | 1.474 | 0.085 | 1.563 | |
| clonalCluster | 0.857 | 0.032 | 0.890 | |
| clonalCompare | 1.170 | 0.054 | 1.225 | |
| clonalDiversity | 2.441 | 0.098 | 2.577 | |
| clonalHomeostasis | 0.884 | 0.068 | 0.957 | |
| clonalLength | 1.296 | 0.020 | 1.320 | |
| clonalNetwork | 0.001 | 0.000 | 0.001 | |
| clonalOccupy | 1.301 | 0.054 | 1.359 | |
| clonalOverlap | 1.548 | 0.049 | 1.605 | |
| clonalOverlay | 1.245 | 0.044 | 1.294 | |
| clonalProportion | 0.774 | 0.022 | 0.798 | |
| clonalQuant | 0.835 | 0.025 | 0.866 | |
| clonalRarefaction | 2.309 | 0.113 | 2.430 | |
| clonalScatter | 1.469 | 0.043 | 1.515 | |
| clonalSizeDistribution | 23.383 | 5.505 | 29.115 | |
| combineBCR | 2.388 | 0.101 | 9.096 | |
| combineExpression | 1.089 | 0.029 | 1.122 | |
| combineTCR | 0.739 | 0.041 | 0.786 | |
| createHTOContigList | 0.001 | 0.000 | 0.000 | |
| exportClones | 0.000 | 0.000 | 0.001 | |
| getCirclize | 1.208 | 0.029 | 1.244 | |
| highlightClones | 1.247 | 0.130 | 1.392 | |
| loadContigs | 0.278 | 0.021 | 1.863 | |
| percentAA | 1.962 | 0.069 | 2.046 | |
| percentGenes | 1.177 | 0.049 | 1.235 | |
| percentKmer | 1.327 | 0.032 | 1.365 | |
| percentVJ | 1.581 | 0.030 | 1.630 | |
| positionalEntropy | 1.648 | 0.137 | 1.817 | |
| positionalProperty | 3.292 | 0.109 | 3.446 | |
| subsetClones | 0.819 | 0.034 | 0.865 | |
| vizGenes | 1.241 | 0.087 | 1.345 | |