| Back to Multiple platform build/check report for BioC 3.20: simplified long |
|
This page was generated on 2025-04-02 19:31 -0400 (Wed, 02 Apr 2025).
| Hostname | OS | Arch (*) | R version | Installed pkgs |
|---|---|---|---|---|
| nebbiolo2 | Linux (Ubuntu 24.04.1 LTS) | x86_64 | 4.4.3 (2025-02-28) -- "Trophy Case" | 4764 |
| palomino8 | Windows Server 2022 Datacenter | x64 | 4.4.3 (2025-02-28 ucrt) -- "Trophy Case" | 4495 |
| merida1 | macOS 12.7.5 Monterey | x86_64 | 4.4.3 (2025-02-28) -- "Trophy Case" | 4522 |
| kjohnson1 | macOS 13.6.6 Ventura | arm64 | 4.4.3 (2025-02-28) -- "Trophy Case" | 4449 |
| taishan | Linux (openEuler 24.03 LTS) | aarch64 | 4.4.3 (2025-02-28) -- "Trophy Case" | 4426 |
| Click on any hostname to see more info about the system (e.g. compilers) (*) as reported by 'uname -p', except on Windows and Mac OS X | ||||
| Package 1886/2289 | Hostname | OS / Arch | INSTALL | BUILD | CHECK | BUILD BIN | ||||||||
| scMitoMut 1.2.0 (landing page) Wenjie Sun
| nebbiolo2 | Linux (Ubuntu 24.04.1 LTS) / x86_64 | OK | OK | OK | |||||||||
| palomino8 | Windows Server 2022 Datacenter / x64 | OK | OK | OK | OK | |||||||||
| merida1 | macOS 12.7.5 Monterey / x86_64 | OK | OK | OK | OK | |||||||||
| kjohnson1 | macOS 13.6.6 Ventura / arm64 | OK | OK | OK | OK | |||||||||
| taishan | Linux (openEuler 24.03 LTS) / aarch64 | OK | OK | OK | ||||||||||
|
To the developers/maintainers of the scMitoMut package: - Allow up to 24 hours (and sometimes 48 hours) for your latest push to git@git.bioconductor.org:packages/scMitoMut.git to reflect on this report. See Troubleshooting Build Report for more information. - Use the following Renviron settings to reproduce errors and warnings. - If 'R CMD check' started to fail recently on the Linux builder(s) over a missing dependency, add the missing dependency to 'Suggests:' in your DESCRIPTION file. See Renviron.bioc for more information. |
| Package: scMitoMut |
| Version: 1.2.0 |
| Command: F:\biocbuild\bbs-3.20-bioc\R\bin\R.exe CMD check --no-multiarch --install=check:scMitoMut.install-out.txt --library=F:\biocbuild\bbs-3.20-bioc\R\library --no-vignettes --timings scMitoMut_1.2.0.tar.gz |
| StartedAt: 2025-04-01 05:44:18 -0400 (Tue, 01 Apr 2025) |
| EndedAt: 2025-04-01 05:46:16 -0400 (Tue, 01 Apr 2025) |
| EllapsedTime: 117.2 seconds |
| RetCode: 0 |
| Status: OK |
| CheckDir: scMitoMut.Rcheck |
| Warnings: 0 |
##############################################################################
##############################################################################
###
### Running command:
###
### F:\biocbuild\bbs-3.20-bioc\R\bin\R.exe CMD check --no-multiarch --install=check:scMitoMut.install-out.txt --library=F:\biocbuild\bbs-3.20-bioc\R\library --no-vignettes --timings scMitoMut_1.2.0.tar.gz
###
##############################################################################
##############################################################################
* using log directory 'F:/biocbuild/bbs-3.20-bioc/meat/scMitoMut.Rcheck'
* using R version 4.4.3 (2025-02-28 ucrt)
* using platform: x86_64-w64-mingw32
* R was compiled by
gcc.exe (GCC) 13.3.0
GNU Fortran (GCC) 13.3.0
* running under: Windows Server 2022 x64 (build 20348)
* using session charset: UTF-8
* using option '--no-vignettes'
* checking for file 'scMitoMut/DESCRIPTION' ... OK
* this is package 'scMitoMut' version '1.2.0'
* package encoding: UTF-8
* checking package namespace information ... OK
* checking package dependencies ... OK
* checking if this is a source package ... OK
* checking if there is a namespace ... OK
* checking for hidden files and directories ... OK
* checking for portable file names ... OK
* checking whether package 'scMitoMut' can be installed ... OK
* used C++ compiler: 'G__~1.EXE (GCC) 13.3.0'
* checking installed package size ... OK
* checking package directory ... OK
* checking 'build' directory ... OK
* checking DESCRIPTION meta-information ... OK
* checking top-level files ... OK
* checking for left-over files ... OK
* checking index information ... OK
* checking package subdirectories ... OK
* checking code files for non-ASCII characters ... OK
* checking R files for syntax errors ... OK
* checking whether the package can be loaded ... OK
* checking whether the package can be loaded with stated dependencies ... OK
* checking whether the package can be unloaded cleanly ... OK
* checking whether the namespace can be loaded with stated dependencies ... OK
* checking whether the namespace can be unloaded cleanly ... OK
* checking dependencies in R code ... OK
* checking S3 generic/method consistency ... OK
* checking replacement functions ... OK
* checking foreign function calls ... OK
* checking R code for possible problems ... NOTE
export_dt: no visible binding for global variable 'af'
export_dt: no visible binding for global variable 'fwd_depth'
export_dt: no visible binding for global variable 'rev_depth'
export_dt: no visible binding for global variable 'coverage'
export_dt: no visible binding for global variable 'alt_count'
export_dt: no visible binding for global variable 'alt_depth'
export_dt: no visible binding for global variable 'mut_status'
export_dt: no visible binding for global variable 'cell_barcode'
export_dt: no visible binding for global variable 'n'
export_dt: no visible binding for global variable 'loc'
filter_loc: no visible binding for global variable 'mut_cell_n'
plot_locus: no visible binding for global variable 'alt_depth'
plot_locus: no visible binding for global variable 'depth'
plot_locus: no visible binding for global variable 'af'
plot_locus: no visible binding for global variable 'highlight'
process_locus_bb: no visible binding for global variable 'alt_depth'
process_locus_bb: no visible binding for global variable 'fwd_depth'
process_locus_bb: no visible binding for global variable 'rev_depth'
process_locus_bm: no visible binding for global variable 'alt_depth'
process_locus_bm: no visible binding for global variable 'fwd_depth'
process_locus_bm: no visible binding for global variable 'rev_depth'
process_locus_summary: no visible binding for global variable
'alt_depth'
process_locus_summary: no visible binding for global variable
'fwd_depth'
process_locus_summary: no visible binding for global variable
'rev_depth'
read_locus: no visible binding for global variable 'cell_barcode'
read_locus: no visible binding for global variable 'fwd_depth'
read_locus: no visible binding for global variable 'rev_depth'
read_locus: no visible binding for global variable 'coverage'
read_locus: no visible binding for global variable 'alt'
read_locus: no visible binding for global variable 'af'
read_mgatk: no visible binding for global variable 'fwd_depth'
read_mgatk: no visible binding for global variable 'rev_depth'
Undefined global functions or variables:
af alt alt_count alt_depth cell_barcode coverage depth fwd_depth
highlight loc mut_cell_n mut_status n rev_depth
* checking Rd files ... OK
* checking Rd metadata ... OK
* checking Rd cross-references ... OK
* checking for missing documentation entries ... OK
* checking for code/documentation mismatches ... OK
* checking Rd \usage sections ... OK
* checking Rd contents ... OK
* checking for unstated dependencies in examples ... OK
* checking line endings in C/C++/Fortran sources/headers ... OK
* checking line endings in Makefiles ... OK
* checking compilation flags in Makevars ... OK
* checking for GNU extensions in Makefiles ... OK
* checking for portable use of $(BLAS_LIBS) and $(LAPACK_LIBS) ... OK
* checking use of PKG_*FLAGS in Makefiles ... OK
* checking compiled code ... NOTE
Note: information on .o files for x64 is not available
File 'F:/biocbuild/bbs-3.20-bioc/R/library/scMitoMut/libs/x64/scMitoMut.dll':
Found '_exit', possibly from '_exit' (C)
Found 'abort', possibly from 'abort' (C), 'runtime' (Fortran)
Found 'exit', possibly from 'exit' (C), 'stop' (Fortran)
Compiled code should not call entry points which might terminate R nor
write to stdout/stderr instead of to the console, nor use Fortran I/O
nor system RNGs nor [v]sprintf. The detected symbols are linked into
the code but might come from libraries and not actually be called.
See 'Writing portable packages' in the 'Writing R Extensions' manual.
* checking files in 'vignettes' ... OK
* checking examples ... OK
Examples with CPU (user + system) or elapsed time > 5s
user system elapsed
export_dt 6.72 1.27 9.18
plot_heatmap 6.69 0.19 7.37
* checking for unstated dependencies in 'tests' ... OK
* checking tests ...
Running 'testthat.R'
OK
* checking for unstated dependencies in vignettes ... OK
* checking package vignettes ... OK
* checking running R code from vignettes ... SKIPPED
* checking re-building of vignette outputs ... SKIPPED
* checking PDF version of manual ... OK
* DONE
Status: 2 NOTEs
See
'F:/biocbuild/bbs-3.20-bioc/meat/scMitoMut.Rcheck/00check.log'
for details.
scMitoMut.Rcheck/00install.out
############################################################################## ############################################################################## ### ### Running command: ### ### F:\biocbuild\bbs-3.20-bioc\R\bin\R.exe CMD INSTALL scMitoMut ### ############################################################################## ############################################################################## * installing to library 'F:/biocbuild/bbs-3.20-bioc/R/library' * installing *source* package 'scMitoMut' ... ** using staged installation ** libs using C++ compiler: 'G__~1.EXE (GCC) 13.3.0' g++ -std=gnu++17 -I"F:/biocbuild/bbs-3.20-bioc/R/include" -DNDEBUG -I'F:/biocbuild/bbs-3.20-bioc/R/library/Rcpp/include' -I'F:/biocbuild/bbs-3.20-bioc/R/library/RcppArmadillo/include' -I"C:/rtools44/x86_64-w64-mingw32.static.posix/include" -O2 -Wall -mfpmath=sse -msse2 -mstackrealign -c RcppExports.cpp -o RcppExports.o g++ -std=gnu++17 -I"F:/biocbuild/bbs-3.20-bioc/R/include" -DNDEBUG -I'F:/biocbuild/bbs-3.20-bioc/R/library/Rcpp/include' -I'F:/biocbuild/bbs-3.20-bioc/R/library/RcppArmadillo/include' -I"C:/rtools44/x86_64-w64-mingw32.static.posix/include" -O2 -Wall -mfpmath=sse -msse2 -mstackrealign -c em_bm.cpp -o em_bm.o g++ -std=gnu++17 -I"F:/biocbuild/bbs-3.20-bioc/R/include" -DNDEBUG -I'F:/biocbuild/bbs-3.20-bioc/R/library/Rcpp/include' -I'F:/biocbuild/bbs-3.20-bioc/R/library/RcppArmadillo/include' -I"C:/rtools44/x86_64-w64-mingw32.static.posix/include" -O2 -Wall -mfpmath=sse -msse2 -mstackrealign -c mle_bb.cpp -o mle_bb.o g++ -std=gnu++17 -shared -s -static-libgcc -o scMitoMut.dll tmp.def RcppExports.o em_bm.o mle_bb.o -LF:/biocbuild/bbs-3.20-bioc/R/bin/x64 -lRlapack -LF:/biocbuild/bbs-3.20-bioc/R/bin/x64 -lRblas -lgfortran -lm -lquadmath -LC:/rtools44/x86_64-w64-mingw32.static.posix/lib/x64 -LC:/rtools44/x86_64-w64-mingw32.static.posix/lib -LF:/biocbuild/bbs-3.20-bioc/R/bin/x64 -lR installing to F:/biocbuild/bbs-3.20-bioc/R/library/00LOCK-scMitoMut/00new/scMitoMut/libs/x64 ** R ** inst ** byte-compile and prepare package for lazy loading ** help *** installing help indices ** building package indices ** installing vignettes ** testing if installed package can be loaded from temporary location ** testing if installed package can be loaded from final location ** testing if installed package keeps a record of temporary installation path * DONE (scMitoMut)
scMitoMut.Rcheck/tests/testthat.Rout
R version 4.4.3 (2025-02-28 ucrt) -- "Trophy Case"
Copyright (C) 2025 The R Foundation for Statistical Computing
Platform: x86_64-w64-mingw32/x64
R is free software and comes with ABSOLUTELY NO WARRANTY.
You are welcome to redistribute it under certain conditions.
Type 'license()' or 'licence()' for distribution details.
R is a collaborative project with many contributors.
Type 'contributors()' for more information and
'citation()' on how to cite R or R packages in publications.
Type 'demo()' for some demos, 'help()' for on-line help, or
'help.start()' for an HTML browser interface to help.
Type 'q()' to quit R.
> # This file is part of the standard setup for testthat.
> # It is recommended that you do not modify it.
> #
> # Where should you do additional test configuration?
> # Learn more about the roles of various files in:
> # * https://r-pkgs.org/tests.html
> # * https://testthat.r-lib.org/reference/test_package.html#special-files
>
> library(testthat)
> library(scMitoMut)
>
> test_check("scMitoMut")
chrM.200
chrM.204
chrM.310
chrM.824
chrM.1000
chrM.1001
chrM.1227
chrM.2285
chrM.6081
chrM.9429
chrM.9728
chrM.9804
chrM.9840
chrM.12889
chrM.16093
chrM.16147
[ FAIL 0 | WARN 0 | SKIP 0 | PASS 18 ]
>
> proc.time()
user system elapsed
5.26 0.95 7.12
scMitoMut.Rcheck/scMitoMut-Ex.timings
| name | user | system | elapsed | |
| export_dt | 6.72 | 1.27 | 9.18 | |
| filter_loc | 3.08 | 0.70 | 4.55 | |
| get_pval | 2.68 | 0.63 | 4.31 | |
| open_h5_file | 0.57 | 0.57 | 1.99 | |
| parse_mgatk | 1.21 | 0.61 | 2.82 | |
| parse_table | 0.35 | 0.02 | 0.52 | |
| plot_af_coverage | 3.04 | 0.09 | 3.36 | |
| plot_heatmap | 6.69 | 0.19 | 7.37 | |
| print.mtmutObj | 0.41 | 0.02 | 0.52 | |
| process_locus_bmbb | 0.61 | 0.01 | 0.70 | |
| rm_mtmutObj | 0.34 | 0.03 | 0.47 | |
| run_model_fit | 3.00 | 0.08 | 3.22 | |
| subset_cell | 0.47 | 0.03 | 0.56 | |