| Back to Multiple platform build/check report for BioC 3.20: simplified long |
|
This page was generated on 2024-06-11 15:41 -0400 (Tue, 11 Jun 2024).
| Hostname | OS | Arch (*) | R version | Installed pkgs |
|---|---|---|---|---|
| nebbiolo2 | Linux (Ubuntu 22.04.3 LTS) | x86_64 | 4.4.0 RC (2024-04-16 r86468) -- "Puppy Cup" | 4679 |
| palomino4 | Windows Server 2022 Datacenter | x64 | 4.4.0 RC (2024-04-16 r86468 ucrt) -- "Puppy Cup" | 4414 |
| merida1 | macOS 12.7.4 Monterey | x86_64 | 4.4.0 Patched (2024-04-24 r86482) -- "Puppy Cup" | 4441 |
| kjohnson1 | macOS 13.6.6 Ventura | arm64 | 4.4.0 Patched (2024-04-24 r86482) -- "Puppy Cup" | 4394 |
| Click on any hostname to see more info about the system (e.g. compilers) (*) as reported by 'uname -p', except on Windows and Mac OS X | ||||
| Package 1695/2239 | Hostname | OS / Arch | INSTALL | BUILD | CHECK | BUILD BIN | ||||||||
| rfaRm 1.17.0 (landing page) Lara Selles Vidal
| nebbiolo2 | Linux (Ubuntu 22.04.3 LTS) / x86_64 | OK | OK | OK | |||||||||
| palomino4 | Windows Server 2022 Datacenter / x64 | OK | OK | OK | OK | |||||||||
| merida1 | macOS 12.7.4 Monterey / x86_64 | OK | OK | OK | OK | |||||||||
| kjohnson1 | macOS 13.6.6 Ventura / arm64 | OK | OK | OK | OK | |||||||||
|
To the developers/maintainers of the rfaRm package: - Allow up to 24 hours (and sometimes 48 hours) for your latest push to git@git.bioconductor.org:packages/rfaRm.git to reflect on this report. See Troubleshooting Build Report for more information. - Use the following Renviron settings to reproduce errors and warnings. - If 'R CMD check' started to fail recently on the Linux builder(s) over a missing dependency, add the missing dependency to 'Suggests:' in your DESCRIPTION file. See Renviron.bioc for more information. |
| Package: rfaRm |
| Version: 1.17.0 |
| Command: F:\biocbuild\bbs-3.20-bioc\R\bin\R.exe CMD check --no-multiarch --install=check:rfaRm.install-out.txt --library=F:\biocbuild\bbs-3.20-bioc\R\library --no-vignettes --timings rfaRm_1.17.0.tar.gz |
| StartedAt: 2024-06-10 08:13:23 -0400 (Mon, 10 Jun 2024) |
| EndedAt: 2024-06-10 08:19:08 -0400 (Mon, 10 Jun 2024) |
| EllapsedTime: 345.5 seconds |
| RetCode: 0 |
| Status: OK |
| CheckDir: rfaRm.Rcheck |
| Warnings: 0 |
##############################################################################
##############################################################################
###
### Running command:
###
### F:\biocbuild\bbs-3.20-bioc\R\bin\R.exe CMD check --no-multiarch --install=check:rfaRm.install-out.txt --library=F:\biocbuild\bbs-3.20-bioc\R\library --no-vignettes --timings rfaRm_1.17.0.tar.gz
###
##############################################################################
##############################################################################
* using log directory 'F:/biocbuild/bbs-3.20-bioc/meat/rfaRm.Rcheck'
* using R version 4.4.0 RC (2024-04-16 r86468 ucrt)
* using platform: x86_64-w64-mingw32
* R was compiled by
gcc.exe (GCC) 13.2.0
GNU Fortran (GCC) 13.2.0
* running under: Windows Server 2022 x64 (build 20348)
* using session charset: UTF-8
* using option '--no-vignettes'
* checking for file 'rfaRm/DESCRIPTION' ... OK
* checking extension type ... Package
* this is package 'rfaRm' version '1.17.0'
* package encoding: UTF-8
* checking package namespace information ... OK
* checking package dependencies ... OK
* checking if this is a source package ... OK
* checking if there is a namespace ... OK
* checking for hidden files and directories ... OK
* checking for portable file names ... OK
* checking whether package 'rfaRm' can be installed ... OK
* checking installed package size ... OK
* checking package directory ... OK
* checking 'build' directory ... OK
* checking DESCRIPTION meta-information ... OK
* checking top-level files ... OK
* checking for left-over files ... OK
* checking index information ... OK
* checking package subdirectories ... OK
* checking code files for non-ASCII characters ... OK
* checking R files for syntax errors ... OK
* checking whether the package can be loaded ... OK
* checking whether the package can be loaded with stated dependencies ... OK
* checking whether the package can be unloaded cleanly ... OK
* checking whether the namespace can be loaded with stated dependencies ... OK
* checking whether the namespace can be unloaded cleanly ... OK
* checking whether startup messages can be suppressed ... OK
* checking dependencies in R code ... OK
* checking S3 generic/method consistency ... OK
* checking replacement functions ... OK
* checking foreign function calls ... OK
* checking R code for possible problems ... NOTE
rfamSeedAlignment: no visible global function definition for 'as'
Undefined global functions or variables:
as
Consider adding
importFrom("methods", "as")
to your NAMESPACE file (and ensure that your DESCRIPTION Imports field
contains 'methods').
* checking Rd files ... OK
* checking Rd metadata ... OK
* checking Rd cross-references ... OK
* checking for missing documentation entries ... OK
* checking for code/documentation mismatches ... OK
* checking Rd \usage sections ... OK
* checking Rd contents ... OK
* checking for unstated dependencies in examples ... OK
* checking files in 'vignettes' ... OK
* checking examples ... OK
Examples with CPU (user + system) or elapsed time > 5s
user system elapsed
rfamSequenceSearch 0.06 0 10.85
* checking for unstated dependencies in 'tests' ... OK
* checking tests ...
Running 'runTests.R'
OK
* checking for unstated dependencies in vignettes ... OK
* checking package vignettes ... OK
* checking running R code from vignettes ... SKIPPED
* checking re-building of vignette outputs ... SKIPPED
* checking PDF version of manual ... OK
* DONE
Status: 1 NOTE
See
'F:/biocbuild/bbs-3.20-bioc/meat/rfaRm.Rcheck/00check.log'
for details.
rfaRm.Rcheck/00install.out
############################################################################## ############################################################################## ### ### Running command: ### ### F:\biocbuild\bbs-3.20-bioc\R\bin\R.exe CMD INSTALL rfaRm ### ############################################################################## ############################################################################## * installing to library 'F:/biocbuild/bbs-3.20-bioc/R/library' * installing *source* package 'rfaRm' ... ** using staged installation ** R ** inst ** byte-compile and prepare package for lazy loading ** help *** installing help indices ** building package indices ** installing vignettes ** testing if installed package can be loaded from temporary location ** testing if installed package can be loaded from final location ** testing if installed package keeps a record of temporary installation path * DONE (rfaRm)
rfaRm.Rcheck/tests/runTests.Rout
R version 4.4.0 RC (2024-04-16 r86468 ucrt) -- "Puppy Cup"
Copyright (C) 2024 The R Foundation for Statistical Computing
Platform: x86_64-w64-mingw32/x64
R is free software and comes with ABSOLUTELY NO WARRANTY.
You are welcome to redistribute it under certain conditions.
Type 'license()' or 'licence()' for distribution details.
R is a collaborative project with many contributors.
Type 'contributors()' for more information and
'citation()' on how to cite R or R packages in publications.
Type 'demo()' for some demos, 'help()' for on-line help, or
'help.start()' for an HTML browser interface to help.
Type 'q()' to quit R.
> BiocGenerics:::testPackage("rfaRm")
Linking to librsvg 2.57.0
No encoding supplied: defaulting to UTF-8.
format width height colorspace matte filesize density
1 SVG 700 550 sRGB TRUE 17458 96x96
format width height colorspace matte filesize density
1 GIF 600 2056 sRGB FALSE 62234 72x72
Running sequence search query. This might take a long time.
RUNIT TEST PROTOCOL -- Mon Jun 10 08:18:48 2024
***********************************************
Number of test functions: 0
Number of errors: 0
Number of failures: 0
1 Test Suite :
rfaRm RUnit Tests - 0 test functions, 0 errors, 0 failures
Number of test functions: 0
Number of errors: 0
Number of failures: 0
>
> proc.time()
user system elapsed
5.20 9.03 30.04
rfaRm.Rcheck/rfaRm-Ex.timings
| name | user | system | elapsed | |
| rfamConsensusSecondaryStructure | 0.92 | 1.28 | 2.33 | |
| rfamCovarianceModel | 0.20 | 0.00 | 0.84 | |
| rfamFamilyAccessionToID | 0.00 | 0.00 | 0.09 | |
| rfamFamilyIDToAccession | 0.01 | 0.00 | 0.09 | |
| rfamFamilySummary | 0.05 | 0.00 | 0.63 | |
| rfamPDBMapping | 0.1 | 0.0 | 0.5 | |
| rfamSecondaryStructurePlot | 0.15 | 0.04 | 0.75 | |
| rfamSecondaryStructureXMLSVG | 0.05 | 0.00 | 0.42 | |
| rfamSeedAlignment | 0.69 | 0.03 | 2.80 | |
| rfamSeedTree | 0.11 | 0.02 | 0.62 | |
| rfamSeedTreeImage | 0.04 | 0.02 | 0.61 | |
| rfamSequenceRegions | 0.27 | 0.00 | 2.48 | |
| rfamSequenceSearch | 0.06 | 0.00 | 10.85 | |
| rfamTextSearchFamilyAccession | 0.02 | 0.00 | 0.48 | |